BEGIN:VCALENDAR
VERSION:2.0
PRODID:-//Colorado Stormwater Council - ECPv6.15.17.1//NONSGML v1.0//EN
CALSCALE:GREGORIAN
METHOD:PUBLISH
X-WR-CALNAME:Colorado Stormwater Council
X-ORIGINAL-URL:https://www.colorado-stormwater-council.org
X-WR-CALDESC:Events for Colorado Stormwater Council
REFRESH-INTERVAL;VALUE=DURATION:PT1H
X-Robots-Tag:noindex
X-PUBLISHED-TTL:PT1H
BEGIN:VTIMEZONE
TZID:America/Denver
BEGIN:DAYLIGHT
TZOFFSETFROM:-0700
TZOFFSETTO:-0600
TZNAME:MDT
DTSTART:20240310T090000
END:DAYLIGHT
BEGIN:STANDARD
TZOFFSETFROM:-0600
TZOFFSETTO:-0700
TZNAME:MST
DTSTART:20241103T080000
END:STANDARD
BEGIN:DAYLIGHT
TZOFFSETFROM:-0700
TZOFFSETTO:-0600
TZNAME:MDT
DTSTART:20250309T090000
END:DAYLIGHT
BEGIN:STANDARD
TZOFFSETFROM:-0600
TZOFFSETTO:-0700
TZNAME:MST
DTSTART:20251102T080000
END:STANDARD
BEGIN:DAYLIGHT
TZOFFSETFROM:-0700
TZOFFSETTO:-0600
TZNAME:MDT
DTSTART:20260308T090000
END:DAYLIGHT
BEGIN:STANDARD
TZOFFSETFROM:-0600
TZOFFSETTO:-0700
TZNAME:MST
DTSTART:20261101T080000
END:STANDARD
END:VTIMEZONE
BEGIN:VEVENT
DTSTART;VALUE=DATE:20250909
DTEND;VALUE=DATE:20250911
DTSTAMP:20260421T034734
CREATED:20250429T152856Z
LAST-MODIFIED:20250910T190712Z
UID:10000254-1757376000-1757548799@www.colorado-stormwater-council.org
SUMMARY:Colorado Stormwater Center Inspection and Maintenance Certification Training
DESCRIPTION:Register Now: https://civil-enviro-eng-colostate.nbsstore.net/scm-inspection-and-maintenance-certification-course-september\nThe Colorado Stormwater Center provides a certification course on inspection and maintenance of stormwater control measures.. In this 1.5 day training workshop\, we teach participants how to recognize SCM maintenance needs and how to perform maintenance correctly. The workshop includes 8 hours of presentations/discussion in a classroom setting\, a 2-hour field trip and a 2-hour written exam (optional). Participants that successfully pass the written exam receive certification from Colorado State University Extension and are recognized on our website. **The Center reserves the right to cancel the course no fewer than 7 days in advance if the minimum number of workshop participants has not been reached
URL:https://www.colorado-stormwater-council.org/event/colorado-stormwater-center-inspection-and-maintenance-certification-training/
LOCATION:CSU Spur\, 2701 Denver Dr\, Fort Collins\, CO\, United States
ORGANIZER;CN="morgan.stout@colostate.edu":MAILTO:morgan.stout@colostate.edu
GEO:40.551499;-105.028108
X-APPLE-STRUCTURED-LOCATION;VALUE=URI;X-ADDRESS=CSU Spur 2701 Denver Dr Fort Collins CO United States;X-APPLE-RADIUS=500;X-TITLE=2701 Denver Dr:geo:-105.028108,40.551499
END:VEVENT
END:VCALENDAR