BEGIN:VCALENDAR
VERSION:2.0
PRODID:-//Colorado Stormwater Council - ECPv6.15.17.1//NONSGML v1.0//EN
CALSCALE:GREGORIAN
METHOD:PUBLISH
X-ORIGINAL-URL:https://www.colorado-stormwater-council.org
X-WR-CALDESC:Events for Colorado Stormwater Council
REFRESH-INTERVAL;VALUE=DURATION:PT1H
X-Robots-Tag:noindex
X-PUBLISHED-TTL:PT1H
BEGIN:VTIMEZONE
TZID:America/Denver
BEGIN:DAYLIGHT
TZOFFSETFROM:-0700
TZOFFSETTO:-0600
TZNAME:MDT
DTSTART:20240310T090000
END:DAYLIGHT
BEGIN:STANDARD
TZOFFSETFROM:-0600
TZOFFSETTO:-0700
TZNAME:MST
DTSTART:20241103T080000
END:STANDARD
BEGIN:DAYLIGHT
TZOFFSETFROM:-0700
TZOFFSETTO:-0600
TZNAME:MDT
DTSTART:20250309T090000
END:DAYLIGHT
BEGIN:STANDARD
TZOFFSETFROM:-0600
TZOFFSETTO:-0700
TZNAME:MST
DTSTART:20251102T080000
END:STANDARD
BEGIN:DAYLIGHT
TZOFFSETFROM:-0700
TZOFFSETTO:-0600
TZNAME:MDT
DTSTART:20260308T090000
END:DAYLIGHT
BEGIN:STANDARD
TZOFFSETFROM:-0600
TZOFFSETTO:-0700
TZNAME:MST
DTSTART:20261101T080000
END:STANDARD
END:VTIMEZONE
BEGIN:VEVENT
DTSTART;TZID=America/Denver:20250911T093000
DTEND;TZID=America/Denver:20250911T103000
DTSTAMP:20260421T061625
CREATED:20250429T152856Z
LAST-MODIFIED:20250910T190712Z
UID:10000255-1757583000-1757586600@www.colorado-stormwater-council.org
SUMMARY:Bi-Monthly CSC MO Committee Meeting
DESCRIPTION:________________________________________________________________________________\nMicrosoft Teams meeting\nJoin on your computer\, mobile app or room device\nClick here to join the meeting\nMeeting ID: 272 511 989 952\nPasscode: zNACcX\nDownload Teams | Join on the web\nOr call in (audio only)\n+1 720-617-3426\,\,850505188#   United States\, Denver\nPhone Conference ID: 850 505 188#\nFind a local number | Reset PIN\nLearn More | Help | Meeting options\n________________________________________________________________________________
URL:https://www.colorado-stormwater-council.org/event/bi-monthly-csc-mo-committee-meeting-3/
LOCATION:Microsoft Teams Meeting
ORGANIZER;CN="jessica.clayton@coloradosprings.gov":MAILTO:jessica.clayton@coloradosprings.gov
END:VEVENT
BEGIN:VEVENT
DTSTART;TZID=America/Denver:20250911T093000
DTEND;TZID=America/Denver:20250911T103000
DTSTAMP:20260421T061625
CREATED:20250825T165012Z
LAST-MODIFIED:20250910T190712Z
UID:10000411-1757583000-1757586600@www.colorado-stormwater-council.org
SUMMARY:Muni Ops Committee Mtg - Parks and Open Space Operations
DESCRIPTION:Our Municipal Operations topic for the fall is discussing needs for parks and open space/recreation materials\, training\, SOPs\, or guidance.   Please share with others if appropriate.\nSorry for multiple emails.  TEAMS was having issues\, so I created a new TEAMS invite.\n________________________________________________________________________________\nMicrosoft Teams Need help?\nJoin the meeting now\nMeeting ID: 263 448 361 868 2\nPasscode: gE9Eh2Yg\n________________________________\nFor organizers: Meeting options\n________________________________________________________________________________
URL:https://www.colorado-stormwater-council.org/event/muni-ops-committee-mtg-parks-and-open-space-operations/
LOCATION:Microsoft Teams Meeting
ORGANIZER;CN="jkeyes@bouldercounty.gov":MAILTO:jkeyes@bouldercounty.gov
END:VEVENT
END:VCALENDAR