BEGIN:VCALENDAR
VERSION:2.0
PRODID:-//Colorado Stormwater Council - ECPv6.15.17.1//NONSGML v1.0//EN
CALSCALE:GREGORIAN
METHOD:PUBLISH
X-WR-CALNAME:Colorado Stormwater Council
X-ORIGINAL-URL:https://www.colorado-stormwater-council.org
X-WR-CALDESC:Events for Colorado Stormwater Council
REFRESH-INTERVAL;VALUE=DURATION:PT1H
X-Robots-Tag:noindex
X-PUBLISHED-TTL:PT1H
BEGIN:VTIMEZONE
TZID:America/Denver
BEGIN:DAYLIGHT
TZOFFSETFROM:-0700
TZOFFSETTO:-0600
TZNAME:MDT
DTSTART:20240310T090000
END:DAYLIGHT
BEGIN:STANDARD
TZOFFSETFROM:-0600
TZOFFSETTO:-0700
TZNAME:MST
DTSTART:20241103T080000
END:STANDARD
BEGIN:DAYLIGHT
TZOFFSETFROM:-0700
TZOFFSETTO:-0600
TZNAME:MDT
DTSTART:20250309T090000
END:DAYLIGHT
BEGIN:STANDARD
TZOFFSETFROM:-0600
TZOFFSETTO:-0700
TZNAME:MST
DTSTART:20251102T080000
END:STANDARD
BEGIN:DAYLIGHT
TZOFFSETFROM:-0700
TZOFFSETTO:-0600
TZNAME:MDT
DTSTART:20260308T090000
END:DAYLIGHT
BEGIN:STANDARD
TZOFFSETFROM:-0600
TZOFFSETTO:-0700
TZNAME:MST
DTSTART:20261101T080000
END:STANDARD
END:VTIMEZONE
BEGIN:VEVENT
DTSTART;TZID=America/Denver:20250625T093000
DTEND;TZID=America/Denver:20250625T110000
DTSTAMP:20260421T161633
CREATED:20250619T172110Z
LAST-MODIFIED:20250624T182047Z
UID:10000353-1750843800-1750849200@www.colorado-stormwater-council.org
SUMMARY:UPDATED: CSC General Membership Online
DESCRIPTION:All\,\nPlease join this meeting link for the upcoming June General Membership Meeting. The calendar on the website will be updated and reflect these changes.\nThank you. \nMeeting ID: 279 318 962 458 3\nPasscode: FH2av7pc \nDial in by phone\n+1 720-739-8152\,\,832422126# United States\, Denver\nPhone conference ID: 832 422 126#
URL:https://www.colorado-stormwater-council.org/event/updated-csc-general-membership-online/
LOCATION:Microsoft Teams Meeting
CATEGORIES:CSC Meetings
ATTACH;FMTTYPE=image/png:https://www.colorado-stormwater-council.org/wp-content/uploads/CSC-General-Membership-Icon_300.png
ORGANIZER;CN="jsouth@westminsterco.gov":MAILTO:jsouth@westminsterco.gov
END:VEVENT
END:VCALENDAR