BEGIN:VCALENDAR
VERSION:2.0
PRODID:-//Colorado Stormwater Council - ECPv6.15.17.1//NONSGML v1.0//EN
CALSCALE:GREGORIAN
METHOD:PUBLISH
X-WR-CALNAME:Colorado Stormwater Council
X-ORIGINAL-URL:https://www.colorado-stormwater-council.org
X-WR-CALDESC:Events for Colorado Stormwater Council
REFRESH-INTERVAL;VALUE=DURATION:PT1H
X-Robots-Tag:noindex
X-PUBLISHED-TTL:PT1H
BEGIN:VTIMEZONE
TZID:America/Denver
BEGIN:DAYLIGHT
TZOFFSETFROM:-0700
TZOFFSETTO:-0600
TZNAME:MDT
DTSTART:20240310T090000
END:DAYLIGHT
BEGIN:STANDARD
TZOFFSETFROM:-0600
TZOFFSETTO:-0700
TZNAME:MST
DTSTART:20241103T080000
END:STANDARD
BEGIN:DAYLIGHT
TZOFFSETFROM:-0700
TZOFFSETTO:-0600
TZNAME:MDT
DTSTART:20250309T090000
END:DAYLIGHT
BEGIN:STANDARD
TZOFFSETFROM:-0600
TZOFFSETTO:-0700
TZNAME:MST
DTSTART:20251102T080000
END:STANDARD
BEGIN:DAYLIGHT
TZOFFSETFROM:-0700
TZOFFSETTO:-0600
TZNAME:MDT
DTSTART:20260308T090000
END:DAYLIGHT
BEGIN:STANDARD
TZOFFSETFROM:-0600
TZOFFSETTO:-0700
TZNAME:MST
DTSTART:20261101T080000
END:STANDARD
END:VTIMEZONE
BEGIN:VEVENT
DTSTART;TZID=America/Denver:20250519T140000
DTEND;TZID=America/Denver:20250519T144500
DTSTAMP:20260421T184917
CREATED:20250515T173523Z
LAST-MODIFIED:20250519T175255Z
UID:10000340-1747663200-1747665900@www.colorado-stormwater-council.org
SUMMARY:BMW TMDL Meeting
DESCRIPTION:Meeting to discuss getting some assistance from a consultant on the Barr Milton Watershed TMDL requirements. Please review the requirements and come with questions about the requirements or suggestions of assistance/guidance that you would find helpful.\nIf you are outside the watershed but invited it is because you are knowledgeable on the subject and we expect to see similar language get rolled into the Phase 2 permit renewal\, so if that turns out to be true\, the guidance we do receive may be applicable outside the Barr Milton Watershed. Your input is welcome.\n________________________________________________________________________________\nMicrosoft Teams Need help?\nJoin the meeting now\nMeeting ID: 274 097 837 696 1\nPasscode: 9ku7sh2t\n________________________________\nDial in by phone\n+1 719-569-4960\,\,492240095# United States\, Pueblo\nFind a local number\nPhone conference ID: 492 240 095#\nFor organizers: Meeting options | Reset dial-in PIN\n________________________________________________________________________________
URL:https://www.colorado-stormwater-council.org/event/bmw-tmdl-meeting/
LOCATION:Microsoft Teams Meeting
ORGANIZER;CN="iain.baker@cuanschutz.edu":MAILTO:iain.baker@cuanschutz.edu
END:VEVENT
BEGIN:VEVENT
DTSTART;VALUE=DATE:20250513
DTEND;VALUE=DATE:20250514
DTSTAMP:20260421T184917
CREATED:20250429T152854Z
LAST-MODIFIED:20250505T160718Z
UID:10000231-1747094400-1747180799@www.colorado-stormwater-council.org
SUMMARY:Colorado Stormwater Center Green Infrastructure and Low Impact Development Certification Training
DESCRIPTION:Register now: https://civil-enviro-eng-colostate.nbsstore.net/green-infrastructure-and-low-impact-development\nThe Colorado Stormwater Center offers a one-day workshop on Green Infrastructure and Low Impact Development. This workshop provides in-depth training on green infrastructure and low impact development principles and their application in stormwater management.\nThe Center reserves the right to cancel the course at least 7 days prior to the event if the minimum participant number is not met.\nThe Center requires a 7 day notice for individual cancellations. Individuals will not receive a refund if notice is given with less than 7 days.
URL:https://www.colorado-stormwater-council.org/event/colorado-stormwater-center-green-infrastructure-and-low-impact-development-certification-training/
ORGANIZER;CN="morgan.stout@colostate.edu":MAILTO:morgan.stout@colostate.edu
END:VEVENT
BEGIN:VEVENT
DTSTART;TZID=America/Denver:20250512T110000
DTEND;TZID=America/Denver:20250512T120000
DTSTAMP:20260421T184917
CREATED:20250429T152854Z
LAST-MODIFIED:20250511T170708Z
UID:10000230-1747047600-1747051200@www.colorado-stormwater-council.org
SUMMARY:E&O Meeting
DESCRIPTION:________________________________________________________________________________\nMicrosoft Teams Need help?\nJoin the meeting now\nMeeting ID: 258 638 849 591\nPasscode: 6MU7wM\n________________________________\nFor organizers: Meeting options\n________________________________________________________________________________
URL:https://www.colorado-stormwater-council.org/event/eo-meeting/
LOCATION:Microsoft Teams Meeting
ORGANIZER;CN="rwertz@firestoneco.gov":MAILTO:rwertz@firestoneco.gov
END:VEVENT
BEGIN:VEVENT
DTSTART;TZID=America/Denver:20250512T100000
DTEND;TZID=America/Denver:20250512T110000
DTSTAMP:20260421T184917
CREATED:20250429T152854Z
LAST-MODIFIED:20250511T170708Z
UID:10000229-1747044000-1747047600@www.colorado-stormwater-council.org
SUMMARY:CSC Non-Standard Schools Sub-Committee Meeting
DESCRIPTION:________________________________________________________________________________\nMicrosoft Teams Need help?\nJoin the meeting now\nMeeting ID: 228 895 761 840\nPasscode: jfCxQQ\n________________________________\nDial in by phone\n+1 719-569-4960\,\,439033572# United States\, Pueblo\nFind a local number\nPhone conference ID: 439 033 572#\nFor organizers: Meeting options | Reset dial-in PIN\n________________________________________________________________________________
URL:https://www.colorado-stormwater-council.org/event/csc-non-standard-schools-sub-committee-meeting/
LOCATION:Microsoft Teams Meeting
ORGANIZER;CN="iain.baker@cuanschutz.edu":MAILTO:iain.baker@cuanschutz.edu
END:VEVENT
BEGIN:VEVENT
DTSTART;TZID=America/Denver:20250508T093000
DTEND;TZID=America/Denver:20250508T103000
DTSTAMP:20260421T184917
CREATED:20250429T152854Z
LAST-MODIFIED:20250507T163713Z
UID:10000228-1746696600-1746700200@www.colorado-stormwater-council.org
SUMMARY:Bi-Monthly CSC MO Committee Meeting
DESCRIPTION:________________________________________________________________________________\nMicrosoft Teams meeting\nJoin on your computer\, mobile app or room device\nClick here to join the meeting\nMeeting ID: 272 511 989 952\nPasscode: zNACcX\nDownload Teams | Join on the web\nOr call in (audio only)\n+1 720-617-3426\,\,850505188#   United States\, Denver\nPhone Conference ID: 850 505 188#\nFind a local number | Reset PIN\nLearn More | Help | Meeting options\n________________________________________________________________________________
URL:https://www.colorado-stormwater-council.org/event/bi-monthly-csc-mo-committee-meeting/
LOCATION:Microsoft Teams Meeting
ORGANIZER;CN="jessica.clayton@coloradosprings.gov":MAILTO:jessica.clayton@coloradosprings.gov
END:VEVENT
BEGIN:VEVENT
DTSTART;TZID=America/Denver:20250506T100000
DTEND;TZID=America/Denver:20250506T113000
DTSTAMP:20260421T184917
CREATED:20250429T152854Z
LAST-MODIFIED:20250501T153535Z
UID:10000227-1746525600-1746531000@www.colorado-stormwater-council.org
SUMMARY:FW: CSC Permit Compliance Committee
DESCRIPTION:—–Original Appointment—–\nFrom: Joseph Marencik\nSent: Thursday\, January 2\, 2025 4:28 PM\nTo: Joseph Marencik; Permit Compliance Committee; events@colorado-stormwater-council.org\nCc: Chandler\, Trevor; James Linden; Keyes\, Jennifer; South\, Jake; Begert Bonnie; Wanda DeVargas; Rebecca Wertz; Erica Rylander\nSubject: CSC Permit Compliance Committee\nWhen: Tuesday\, May 6\, 2025 10:00 AM-11:30 AM (UTC-07:00) Mountain Time (US & Canada).\nWhere: Microsoft Teams Meeting\nMonthly PCC meeting\n________________________________________________________________________________\nMicrosoft Teams Need help?\nJoin the meeting now\nMeeting ID: 212 641 613 579\nPasscode: Rg3Uc6QK\n________________________________\nFor organizers: Meeting options\n________________________________________________________________________________
URL:https://www.colorado-stormwater-council.org/event/fw-csc-permit-compliance-committee/
LOCATION:Microsoft Teams Meeting
ORGANIZER;CN="joseph.marencik@castlepinesco.gov":MAILTO:joseph.marencik@castlepinesco.gov
END:VEVENT
END:VCALENDAR