BEGIN:VCALENDAR
VERSION:2.0
PRODID:-//Colorado Stormwater Council - ECPv6.15.17.1//NONSGML v1.0//EN
CALSCALE:GREGORIAN
METHOD:PUBLISH
X-WR-CALNAME:Colorado Stormwater Council
X-ORIGINAL-URL:https://www.colorado-stormwater-council.org
X-WR-CALDESC:Events for Colorado Stormwater Council
REFRESH-INTERVAL;VALUE=DURATION:PT1H
X-Robots-Tag:noindex
X-PUBLISHED-TTL:PT1H
BEGIN:VTIMEZONE
TZID:America/Denver
BEGIN:DAYLIGHT
TZOFFSETFROM:-0700
TZOFFSETTO:-0600
TZNAME:MDT
DTSTART:20240310T090000
END:DAYLIGHT
BEGIN:STANDARD
TZOFFSETFROM:-0600
TZOFFSETTO:-0700
TZNAME:MST
DTSTART:20241103T080000
END:STANDARD
BEGIN:DAYLIGHT
TZOFFSETFROM:-0700
TZOFFSETTO:-0600
TZNAME:MDT
DTSTART:20250309T090000
END:DAYLIGHT
BEGIN:STANDARD
TZOFFSETFROM:-0600
TZOFFSETTO:-0700
TZNAME:MST
DTSTART:20251102T080000
END:STANDARD
BEGIN:DAYLIGHT
TZOFFSETFROM:-0700
TZOFFSETTO:-0600
TZNAME:MDT
DTSTART:20260308T090000
END:DAYLIGHT
BEGIN:STANDARD
TZOFFSETFROM:-0600
TZOFFSETTO:-0700
TZNAME:MST
DTSTART:20261101T080000
END:STANDARD
END:VTIMEZONE
BEGIN:VEVENT
DTSTART;TZID=America/Denver:20250710T093000
DTEND;TZID=America/Denver:20250710T103000
DTSTAMP:20260421T102413
CREATED:20250701T185150Z
LAST-MODIFIED:20250709T195026Z
UID:10000354-1752139800-1752143400@www.colorado-stormwater-council.org
SUMMARY:CSC MuniOps Committee LTAP Presentation
DESCRIPTION:________________________________________________________________________________\nMicrosoft Teams Need help?\nJoin the meeting now\nMeeting ID: 240 926 727 759 4\nPasscode: 3rf9HS2A\n________________________________\nFor organizers: Meeting options\n________________________________________________________________________________
URL:https://www.colorado-stormwater-council.org/event/csc-muniops-committee-ltap-presentation/
LOCATION:Microsoft Teams Meeting
ORGANIZER;CN="jkeyes@bouldercounty.gov":MAILTO:jkeyes@bouldercounty.gov
END:VEVENT
BEGIN:VEVENT
DTSTART;TZID=America/Denver:20250710T093000
DTEND;TZID=America/Denver:20250710T103000
DTSTAMP:20260421T102413
CREATED:20250429T152855Z
LAST-MODIFIED:20250630T185038Z
UID:10000243-1752139800-1752143400@www.colorado-stormwater-council.org
SUMMARY:Bi-Monthly CSC MO Committee Meeting
DESCRIPTION:________________________________________________________________________________\nMicrosoft Teams meeting\nJoin on your computer\, mobile app or room device\nClick here to join the meeting\nMeeting ID: 272 511 989 952\nPasscode: zNACcX\nDownload Teams | Join on the web\nOr call in (audio only)\n+1 720-617-3426\,\,850505188#   United States\, Denver\nPhone Conference ID: 850 505 188#\nFind a local number | Reset PIN\nLearn More | Help | Meeting options\n________________________________________________________________________________
URL:https://www.colorado-stormwater-council.org/event/bi-monthly-csc-mo-committee-meeting-2/
LOCATION:Microsoft Teams Meeting
ORGANIZER;CN="jessica.clayton@coloradosprings.gov":MAILTO:jessica.clayton@coloradosprings.gov
END:VEVENT
BEGIN:VEVENT
DTSTART;TZID=America/Denver:20250714T110000
DTEND;TZID=America/Denver:20250714T120000
DTSTAMP:20260421T102413
CREATED:20250512T172030Z
LAST-MODIFIED:20250713T203515Z
UID:10000316-1752490800-1752494400@www.colorado-stormwater-council.org
SUMMARY:CSC E&O Subcommittee Mtg
DESCRIPTION:________________________________________________________________________________\nMicrosoft Teams Need help?\nJoin the meeting now\nMeeting ID: 228 203 287 051 4\nPasscode: bY73Zv3Q\n________________________________\nFor organizers: Meeting options\n________________________________________________________________________________
URL:https://www.colorado-stormwater-council.org/event/csc-eo-subcommittee-mtg-2/
LOCATION:Microsoft Teams Meeting
ORGANIZER;CN="erikey@lakewood.org":MAILTO:erikey@lakewood.org
END:VEVENT
BEGIN:VEVENT
DTSTART;TZID=America/Denver:20250714T110000
DTEND;TZID=America/Denver:20250714T120000
DTSTAMP:20260421T102413
CREATED:20250429T152855Z
LAST-MODIFIED:20250713T203515Z
UID:10000244-1752490800-1752494400@www.colorado-stormwater-council.org
SUMMARY:E&O Meeting
DESCRIPTION:________________________________________________________________________________\nMicrosoft Teams Need help?\nJoin the meeting now\nMeeting ID: 258 638 849 591\nPasscode: 6MU7wM\n________________________________\nFor organizers: Meeting options\n________________________________________________________________________________
URL:https://www.colorado-stormwater-council.org/event/eo-meeting-3/
LOCATION:Microsoft Teams Meeting
ORGANIZER;CN="rwertz@firestoneco.gov":MAILTO:rwertz@firestoneco.gov
END:VEVENT
BEGIN:VEVENT
DTSTART;TZID=America/Denver:20250715T104500
DTEND;TZID=America/Denver:20250715T120000
DTSTAMP:20260421T102413
CREATED:20250429T152855Z
LAST-MODIFIED:20250714T205020Z
UID:10000245-1752576300-1752580800@www.colorado-stormwater-council.org
SUMMARY:CSC Post-Construction Committee Meeting
DESCRIPTION:────────── \nSpencer Myrlie is inviting you to a scheduled Zoom meeting.Join Zoom Meetinghttps://larimer-org.zoom.us/j/95311691769?pwd=60pXpU95iSzFcCgTUeMyaNSdSmktmX.1 \nMeeting ID: 953 1169 1769Passcode: 971040 \n— \nOne tap mobile+19292056099\,\,95311691769# US (New York)+12532050468\,\,95311691769# US \n— \nDial by your location• +1 929 205 6099 US (New York)• +1 253 205 0468 US• +1 253 215 8782 US (Tacoma)• +1 301 715 8592 US (Washington DC)• +1 305 224 1968 US• +1 309 205 3325 US• +1 312 626 6799 US (Chicago)• +1 346 248 7799 US (Houston)• +1 360 209 5623 US• +1 386 347 5053 US• +1 507 473 4847 US• +1 564 217 2000 US• +1 646 931 3860 US• +1 669 444 9171 US• +1 669 900 6833 US (San Jose)• +1 689 278 1000 US• +1 719 359 4580 US \nMeeting ID: 953 1169 1769 \nFind your local number: https://larimer-org.zoom.us/u/abjOCkgYA3 \n— \nJoin by SIP• 95311691769@zoomcrc.com \n— \nJoin by H.323• 144.195.19.161 (US West)• 206.247.11.121 (US East)• 115.114.131.7 (India Mumbai)• 115.114.115.7 (India Hyderabad)• 159.124.15.191 (Amsterdam Netherlands)• 159.124.47.249 (Germany)• 159.124.104.213 (Australia Sydney)• 159.124.74.212 (Australia Melbourne)• 170.114.180.219 (Singapore)• 64.211.144.160 (Brazil)• 159.124.132.243 (Mexico)• 159.124.168.213 (Canada Toronto)• 159.124.196.25 (Canada Vancouver)• 170.114.194.163 (Japan Tokyo)• 147.124.100.25 (Japan Osaka) \nMeeting ID: 953 1169 1769Passcode: 971040 \n──────────
URL:https://www.colorado-stormwater-council.org/event/csc-post-construction-committee-meeting-3/
LOCATION:https://larimer-org.zoom.us/j/95311691769?pwd=60pXpU95iSzFcCgTUeMyaNSdSmktmX.1&jst=3
ORGANIZER;CN="myrliesk@co.larimer.co.us":MAILTO:myrliesk@co.larimer.co.us
END:VEVENT
BEGIN:VEVENT
DTSTART;TZID=America/Denver:20250715T104500
DTEND;TZID=America/Denver:20250715T121500
DTSTAMP:20260421T102413
CREATED:20250429T152855Z
LAST-MODIFIED:20250714T205020Z
UID:10000240-1752576300-1752581700@www.colorado-stormwater-council.org
SUMMARY:CSC Permit Compliance Committee
DESCRIPTION:July’s PCC meeting will be once again be held in conjunction with the Post Const Committee on Tuesday\, July 15.  Please join that meeting via the link that Spencer will send out.\n________________________________________________________________________________\nMicrosoft Teams Need help?\nJoin the meeting now\nMeeting ID: 212 641 613 579\nPasscode: Rg3Uc6QK\n________________________________\nFor organizers: Meeting options\n________________________________________________________________________________
URL:https://www.colorado-stormwater-council.org/event/fw-csc-permit-compliance-committee-3/
LOCATION:Microsoft Teams Meeting
ORGANIZER;CN="joseph.marencik@castlepinesco.gov":MAILTO:joseph.marencik@castlepinesco.gov
END:VEVENT
BEGIN:VEVENT
DTSTART;TZID=America/Denver:20250717T100000
DTEND;TZID=America/Denver:20250717T113000
DTSTAMP:20260421T102413
CREATED:20250515T173541Z
LAST-MODIFIED:20250716T212020Z
UID:10000343-1752746400-1752751800@www.colorado-stormwater-council.org
SUMMARY:CSC Admin Committee
DESCRIPTION:________________________________________________________________________________\nMicrosoft Teams Need help?\nJoin the meeting now\nMeeting ID: 283 184 708 895\nPasscode: Pp98zV9u\n________________________________\nFor organizers: Meeting options\n________________________________________________________________________________
URL:https://www.colorado-stormwater-council.org/event/csc-admin-committee-2/
LOCATION:Microsoft Teams Meeting
ORGANIZER;CN="vsantistevan@fedheights.org":MAILTO:vsantistevan@fedheights.org
END:VEVENT
BEGIN:VEVENT
DTSTART;TZID=America/Denver:20250723T093000
DTEND;TZID=America/Denver:20250723T110000
DTSTAMP:20260421T102413
CREATED:20250429T152856Z
LAST-MODIFIED:20250611T172035Z
UID:10000246-1753263000-1753268400@www.colorado-stormwater-council.org
SUMMARY:CSC General Membership Quarterly at MHFD
DESCRIPTION:________________________________________________________________________________\nMicrosoft Teams Need help?\nJoin the meeting now\nMeeting ID: 266 319 718 643\nPasscode: 9PB3V5Ny\n________________________________\nFor organizers: Meeting options\n________________________________________________________________________________
URL:https://www.colorado-stormwater-council.org/event/csc-general-membership-quarterly-at-mhfd/
LOCATION:Mile High Flood District. (12575 W Bayaud Ave\, Lakewood\, CO  80228)
ORGANIZER;CN="vsantistevan@fedheights.org":MAILTO:vsantistevan@fedheights.org
END:VEVENT
BEGIN:VEVENT
DTSTART;TZID=America/Denver:20250723T113000
DTEND;TZID=America/Denver:20250723T130000
DTSTAMP:20260421T102413
CREATED:20250429T152856Z
LAST-MODIFIED:20250722T222027Z
UID:10000247-1753270200-1753275600@www.colorado-stormwater-council.org
SUMMARY:MS4 Quarterly
DESCRIPTION:________________________________________________________________________________\nMicrosoft Teams meeting\nJoin on your computer\, mobile app or room device\nClick here to join the meeting\nMeeting ID: 211 915 072 146\nPasscode: R3AMBL\nDownload Teams | Join on the web\nOr call in (audio only)\n+1 720-464-1105\,\,883802920#   United States\, Denver\nPhone Conference ID: 883 802 920#\nFind a local number | Reset PIN\nLearn More | Meeting options\n________________________________________________________________________________
URL:https://www.colorado-stormwater-council.org/event/ms4-quarterly/
LOCATION:Microsoft Teams Meeting; MHFD Training Room\, MHFD Training Room
ORGANIZER;CN="hpiza@mhfd.org":MAILTO:hpiza@mhfd.org
END:VEVENT
BEGIN:VEVENT
DTSTART;TZID=America/Denver:20250728T100000
DTEND;TZID=America/Denver:20250728T120000
DTSTAMP:20260421T102413
CREATED:20250519T175119Z
LAST-MODIFIED:20250727T223512Z
UID:10000349-1753696800-1753704000@www.colorado-stormwater-council.org
SUMMARY:E470 Maintenance Facility Tour
DESCRIPTION:Please join us for a site tour of new E470 Maintenance Facility. E470 will talk about the purpose of their new Central Maintenance Facility (CMF)\, the design and construction delivery process (Construction Manager/General Contractor)\, and the features of the site. This includes Building A (administrative office\, maintenance bays and vehicle wash bay)\, Building B covered materials storage for solid deicer and outdoor liquid deicer storage\, Buildings C and D (heated and non-heated storage)\, fueling station\, stormwater detention ponds\, etc.\nThe best way to access the CMF at 80 N. Valdai St. Aurora\, CO 80018 is to park at the HQ/Customer Service Center parking lot at 22470 E. Stephen D. Hogan Parkway\, Aurora\, CO 80018 and walk across the street.\nThe CMF can be accessed via the E-470 exit at 6th Pkwy/Stephen D. Hogan exit south of I-70. For those agencies that are not allowed to take their company vehicle on the tollway\, the CMF can be accessed from the \nwest at 6th Avenue or east from Gun Club Road. Attached is a vicinity map for reference.\nPlease forward to any municipal operations staff that are interested in attending. We look forward to seeing you there!\nJennifer Keyes (she/her/hers)\, CPESC\, CESSWI\nStormwater Quality Coordinator\nBoulder County Public Works\nCell: 720-225-7228\njkeyes@bouldercounty.gov \nMap of CMF Location
URL:https://www.colorado-stormwater-council.org/event/e470-maintenance-facility-tour/
LOCATION:22470 E. Stephen D. Hogan Parkway\, Aurora\, CO\, United States
ORGANIZER;CN="jkeyes@bouldercounty.gov":MAILTO:jkeyes@bouldercounty.gov
GEO:39.689487;-104.67982
END:VEVENT
BEGIN:VEVENT
DTSTART;TZID=America/Denver:20250805T100000
DTEND;TZID=America/Denver:20250805T113000
DTSTAMP:20260421T102413
CREATED:20250429T152856Z
LAST-MODIFIED:20250804T235013Z
UID:10000248-1754388000-1754393400@www.colorado-stormwater-council.org
SUMMARY:CSC Permit Compliance Committee
DESCRIPTION:Attached is the agenda for tomorrow’s PCC meeting.  Hope to see you there.\n-joe\n________________________________________________________________________________\nMicrosoft Teams Need help?\nJoin the meeting now\nMeeting ID: 212 641 613 579\nPasscode: Rg3Uc6QK\n________________________________\nFor organizers: Meeting options\n________________________________________________________________________________
URL:https://www.colorado-stormwater-council.org/event/fw-csc-permit-compliance-committee-4/
LOCATION:Microsoft Teams Meeting
ORGANIZER;CN="joseph.marencik@castlepinesco.gov":MAILTO:joseph.marencik@castlepinesco.gov
END:VEVENT
BEGIN:VEVENT
DTSTART;TZID=America/Denver:20250807T140000
DTEND;TZID=America/Denver:20250807T150000
DTSTAMP:20260421T102413
CREATED:20250429T152856Z
LAST-MODIFIED:20250807T142142Z
UID:10000249-1754575200-1754578800@www.colorado-stormwater-council.org
SUMMARY:FW: CSC- Construction Meeting
DESCRIPTION:—–Original Appointment—–\nFrom: Nick Weston\nSent: Tuesday\, August 8\, 2023 1:31 PM\nTo: Nick Weston; construction@colorado-stormwater-council.org; events@colorado-stormwater-council.org\nSubject: CSC- Construction Meeting\nWhen: Occurs the first Thursday of every 1 month(s) effective 8/3/2023 from 2:00 PM to 3:00 PM (UTC-07:00) Mountain Time (US & Canada).\nWhere: Microsoft Teams Meeting\n________________________________________________________________________________\nMicrosoft Teams meeting\nJoin on your computer\, mobile app or room device\nClick here to join the meeting\nMeeting ID: 272 650 988 251\nPasscode: cH9BbM\nDownload Teams | Join on the web\nOr call in (audio only)\n+1 347-966-8471\,\,95496420#   United States\, New York City\nPhone Conference ID: 954 964 20#\nFind a local number | Reset PIN\nLearn More | Meeting options\n________________________________________________________________________________\n—\nYou received this message because you are subscribed to the Google Groups “Construction Committee” group.\nTo unsubscribe from this group and stop receiving emails from it\, send an email to construction+unsubscribe@colorado-stormwater-council.org.\nTo view this discussion on the web visit https://groups.google.com/a/colorado-stormwater-council.org/d/msgid/construction/PH8PR09MB91192E95479F605FBC82E7019B0DA%40PH8PR09MB9119.namprd09.prod.outlook.com.\nFor more options\, visit https://groups.google.com/a/colorado-stormwater-council.org/d/optout.
URL:https://www.colorado-stormwater-council.org/event/fw-csc-construction-meeting-3/
LOCATION:Microsoft Teams Meeting
ORGANIZER;CN="nick.weston@greeleygov.com":MAILTO:nick.weston@greeleygov.com
END:VEVENT
BEGIN:VEVENT
DTSTART;TZID=America/Denver:20250811T110000
DTEND;TZID=America/Denver:20250811T120000
DTSTAMP:20260421T102413
CREATED:20250512T172045Z
LAST-MODIFIED:20250811T150536Z
UID:10000317-1754910000-1754913600@www.colorado-stormwater-council.org
SUMMARY:CSC E&O Subcommittee Mtg
DESCRIPTION:________________________________________________________________________________\nMicrosoft Teams Need help?\nJoin the meeting now\nMeeting ID: 228 203 287 051 4\nPasscode: bY73Zv3Q\n________________________________\nFor organizers: Meeting options\n________________________________________________________________________________
URL:https://www.colorado-stormwater-council.org/event/csc-eo-subcommittee-mtg-3/
LOCATION:Microsoft Teams Meeting
ORGANIZER;CN="erikey@lakewood.org":MAILTO:erikey@lakewood.org
END:VEVENT
BEGIN:VEVENT
DTSTART;TZID=America/Denver:20250812T103000
DTEND;TZID=America/Denver:20250812T120000
DTSTAMP:20260421T102413
CREATED:20250707T195047Z
LAST-MODIFIED:20250812T150530Z
UID:10000358-1754994600-1755000000@www.colorado-stormwater-council.org
SUMMARY:CSC 303d Committee Meeting
DESCRIPTION:Starting our recurring meetings in June.  Agenda to come soon!\nJoin with Google Meet: https://meet.google.com/wnt-gtjj-spg\nOr dial: (US) +1 347-440-1952 PIN: 270063258#\nMore phone numbers: https://tel.meet/wnt-gtjj-spg?pin=8229376317756&hs=7\nLearn more about Meet at: https://support.google.com/a/users/answer/9282720
URL:https://www.colorado-stormwater-council.org/event/csc-303d-committee-meeting-4/
ORGANIZER;CN="jmoyer@arvada.org":MAILTO:jmoyer@arvada.org
END:VEVENT
BEGIN:VEVENT
DTSTART;TZID=America/Denver:20250819T104500
DTEND;TZID=America/Denver:20250819T120000
DTSTAMP:20260421T102413
CREATED:20250429T152856Z
LAST-MODIFIED:20250709T195040Z
UID:10000250-1755600300-1755604800@www.colorado-stormwater-council.org
SUMMARY:CSC Post-Construction Committee Meeting
DESCRIPTION:────────── \nSpencer Myrlie is inviting you to a scheduled Zoom meeting.Join Zoom Meetinghttps://larimer-org.zoom.us/j/95311691769?pwd=60pXpU95iSzFcCgTUeMyaNSdSmktmX.1 \nMeeting ID: 953 1169 1769Passcode: 971040 \n— \nOne tap mobile+19292056099\,\,95311691769# US (New York)+12532050468\,\,95311691769# US \n— \nDial by your location• +1 929 205 6099 US (New York)• +1 253 205 0468 US• +1 253 215 8782 US (Tacoma)• +1 301 715 8592 US (Washington DC)• +1 305 224 1968 US• +1 309 205 3325 US• +1 312 626 6799 US (Chicago)• +1 346 248 7799 US (Houston)• +1 360 209 5623 US• +1 386 347 5053 US• +1 507 473 4847 US• +1 564 217 2000 US• +1 646 931 3860 US• +1 669 444 9171 US• +1 669 900 6833 US (San Jose)• +1 689 278 1000 US• +1 719 359 4580 US \nMeeting ID: 953 1169 1769 \nFind your local number: https://larimer-org.zoom.us/u/abjOCkgYA3 \n— \nJoin by SIP• 95311691769@zoomcrc.com \n— \nJoin by H.323• 144.195.19.161 (US West)• 206.247.11.121 (US East)• 115.114.131.7 (India Mumbai)• 115.114.115.7 (India Hyderabad)• 159.124.15.191 (Amsterdam Netherlands)• 159.124.47.249 (Germany)• 159.124.104.213 (Australia Sydney)• 159.124.74.212 (Australia Melbourne)• 170.114.180.219 (Singapore)• 64.211.144.160 (Brazil)• 159.124.132.243 (Mexico)• 159.124.168.213 (Canada Toronto)• 159.124.196.25 (Canada Vancouver)• 170.114.194.163 (Japan Tokyo)• 147.124.100.25 (Japan Osaka) \nMeeting ID: 953 1169 1769Passcode: 971040 \n──────────
URL:https://www.colorado-stormwater-council.org/event/csc-post-construction-committee-meeting-4/
LOCATION:https://larimer-org.zoom.us/j/95311691769?pwd=60pXpU95iSzFcCgTUeMyaNSdSmktmX.1&jst=3
ORGANIZER;CN="myrliesk@co.larimer.co.us":MAILTO:myrliesk@co.larimer.co.us
END:VEVENT
BEGIN:VEVENT
DTSTART;TZID=America/Denver:20250821T100000
DTEND;TZID=America/Denver:20250821T113000
DTSTAMP:20260421T102413
CREATED:20250515T173559Z
LAST-MODIFIED:20250821T163514Z
UID:10000344-1755770400-1755775800@www.colorado-stormwater-council.org
SUMMARY:CSC Admin Committee
DESCRIPTION:________________________________________________________________________________\nMicrosoft Teams Need help?\nJoin the meeting now\nMeeting ID: 283 184 708 895\nPasscode: Pp98zV9u\n________________________________\nFor organizers: Meeting options\n________________________________________________________________________________
URL:https://www.colorado-stormwater-council.org/event/csc-admin-committee-3/
LOCATION:Microsoft Teams Meeting
ORGANIZER;CN="vsantistevan@fedheights.org":MAILTO:vsantistevan@fedheights.org
END:VEVENT
BEGIN:VEVENT
DTSTART;TZID=America/Denver:20250827T093000
DTEND;TZID=America/Denver:20250827T110000
DTSTAMP:20260421T102413
CREATED:20250429T152856Z
LAST-MODIFIED:20250611T172036Z
UID:10000251-1756287000-1756292400@www.colorado-stormwater-council.org
SUMMARY:CSC General Membership Online
DESCRIPTION:________________________________________________________________________________\nMicrosoft Teams Need help?\nJoin the meeting now\nMeeting ID: 266 319 718 643\nPasscode: 9PB3V5Ny\n________________________________\nFor organizers: Meeting options\n________________________________________________________________________________
URL:https://www.colorado-stormwater-council.org/event/csc-general-membership-online-3/
LOCATION:Microsoft Teams Meeting
ORGANIZER;CN="vsantistevan@fedheights.org":MAILTO:vsantistevan@fedheights.org
END:VEVENT
BEGIN:VEVENT
DTSTART;TZID=America/Denver:20250904T140000
DTEND;TZID=America/Denver:20250904T150000
DTSTAMP:20260421T102413
CREATED:20250429T152856Z
LAST-MODIFIED:20250818T160722Z
UID:10000253-1756994400-1756998000@www.colorado-stormwater-council.org
SUMMARY:FW: CSC- Construction Meeting
DESCRIPTION:—–Original Appointment—–\nFrom: Nick Weston\nSent: Tuesday\, August 8\, 2023 1:31 PM\nTo: Nick Weston; construction@colorado-stormwater-council.org; events@colorado-stormwater-council.org\nSubject: CSC- Construction Meeting\nWhen: Occurs the first Thursday of every 1 month(s) effective 8/3/2023 from 2:00 PM to 3:00 PM (UTC-07:00) Mountain Time (US & Canada).\nWhere: Microsoft Teams Meeting\n________________________________________________________________________________\nMicrosoft Teams meeting\nJoin on your computer\, mobile app or room device\nClick here to join the meeting\nMeeting ID: 272 650 988 251\nPasscode: cH9BbM\nDownload Teams | Join on the web\nOr call in (audio only)\n+1 347-966-8471\,\,95496420#   United States\, New York City\nPhone Conference ID: 954 964 20#\nFind a local number | Reset PIN\nLearn More | Meeting options\n________________________________________________________________________________\n—\nYou received this message because you are subscribed to the Google Groups “Construction Committee” group.\nTo unsubscribe from this group and stop receiving emails from it\, send an email to construction+unsubscribe@colorado-stormwater-council.org.\nTo view this discussion on the web visit https://groups.google.com/a/colorado-stormwater-council.org/d/msgid/construction/PH8PR09MB91192E95479F605FBC82E7019B0DA%40PH8PR09MB9119.namprd09.prod.outlook.com.\nFor more options\, visit https://groups.google.com/a/colorado-stormwater-council.org/d/optout.
URL:https://www.colorado-stormwater-council.org/event/fw-csc-construction-meeting-4/
LOCATION:Microsoft Teams Meeting
ORGANIZER;CN="nick.weston@greeleygov.com":MAILTO:nick.weston@greeleygov.com
END:VEVENT
BEGIN:VEVENT
DTSTART;TZID=America/Denver:20250908T110000
DTEND;TZID=America/Denver:20250908T120000
DTSTAMP:20260421T102413
CREATED:20250512T172045Z
LAST-MODIFIED:20250914T193602Z
UID:10000318-1757329200-1757332800@www.colorado-stormwater-council.org
SUMMARY:CSC E&O Subcommittee Mtg
DESCRIPTION:________________________________________________________________________________\nMicrosoft Teams Need help?\nJoin the meeting now\nMeeting ID: 228 203 287 051 4\nPasscode: bY73Zv3Q\n________________________________\nFor organizers: Meeting options\n________________________________________________________________________________
URL:https://www.colorado-stormwater-council.org/event/csc-eo-subcommittee-mtg-4/
LOCATION:Microsoft Teams Meeting
ORGANIZER;CN="erikey@lakewood.org":MAILTO:erikey@lakewood.org
END:VEVENT
BEGIN:VEVENT
DTSTART;TZID=America/Denver:20250909T100000
DTEND;TZID=America/Denver:20250909T113000
DTSTAMP:20260421T102413
CREATED:20250429T152856Z
LAST-MODIFIED:20250908T185117Z
UID:10000252-1757412000-1757417400@www.colorado-stormwater-council.org
SUMMARY:CSC Permit Compliance Committee
DESCRIPTION:Monthly PCC meeting\n________________________________________________________________________________\nMicrosoft Teams Need help?\nJoin the meeting now\nMeeting ID: 212 641 613 579\nPasscode: Rg3Uc6QK\n________________________________\nFor organizers: Meeting options\n________________________________________________________________________________
URL:https://www.colorado-stormwater-council.org/event/fw-csc-permit-compliance-committee-5/
LOCATION:Microsoft Teams Meeting
ORGANIZER;CN="joseph.marencik@castlepinesco.gov":MAILTO:joseph.marencik@castlepinesco.gov
END:VEVENT
BEGIN:VEVENT
DTSTART;TZID=America/Denver:20250909T103000
DTEND;TZID=America/Denver:20250909T120000
DTSTAMP:20260421T102413
CREATED:20250710T195027Z
LAST-MODIFIED:20250908T185117Z
UID:10000382-1757413800-1757419200@www.colorado-stormwater-council.org
SUMMARY:CSC 303d Committee Meeting
DESCRIPTION:Starting our recurring meetings in June.  Agenda to come soon!\nJoin with Google Meet: https://meet.google.com/wnt-gtjj-spg\nOr dial: (US) +1 347-440-1952 PIN: 270063258#\nMore phone numbers: https://tel.meet/wnt-gtjj-spg?pin=8229376317756&hs=7\nLearn more about Meet at: https://support.google.com/a/users/answer/9282720
URL:https://www.colorado-stormwater-council.org/event/csc-303d-committee-meeting-27/
ORGANIZER;CN="jmoyer@arvada.org":MAILTO:jmoyer@arvada.org
END:VEVENT
BEGIN:VEVENT
DTSTART;TZID=America/Denver:20250909T103000
DTEND;TZID=America/Denver:20250909T120000
DTSTAMP:20260421T102413
CREATED:20250707T195101Z
LAST-MODIFIED:20250709T195040Z
UID:10000359-1757413800-1757419200@www.colorado-stormwater-council.org
SUMMARY:CSC 303d Committee Meeting
DESCRIPTION:Starting our recurring meetings in June.  Agenda to come soon!\nJoin with Google Meet: https://meet.google.com/wnt-gtjj-spg\nOr dial: (US) +1 347-440-1952 PIN: 270063258#\nMore phone numbers: https://tel.meet/wnt-gtjj-spg?pin=8229376317756&hs=7\nLearn more about Meet at: https://support.google.com/a/users/answer/9282720
URL:https://www.colorado-stormwater-council.org/event/csc-303d-committee-meeting-5/
ORGANIZER;CN="jmoyer@arvada.org":MAILTO:jmoyer@arvada.org
END:VEVENT
END:VCALENDAR