BEGIN:VCALENDAR
VERSION:2.0
PRODID:-//Colorado Stormwater Council - ECPv6.15.17.1//NONSGML v1.0//EN
CALSCALE:GREGORIAN
METHOD:PUBLISH
X-ORIGINAL-URL:https://www.colorado-stormwater-council.org
X-WR-CALDESC:Events for Colorado Stormwater Council
REFRESH-INTERVAL;VALUE=DURATION:PT1H
X-Robots-Tag:noindex
X-PUBLISHED-TTL:PT1H
BEGIN:VTIMEZONE
TZID:America/Denver
BEGIN:DAYLIGHT
TZOFFSETFROM:-0700
TZOFFSETTO:-0600
TZNAME:MDT
DTSTART:20250309T090000
END:DAYLIGHT
BEGIN:STANDARD
TZOFFSETFROM:-0600
TZOFFSETTO:-0700
TZNAME:MST
DTSTART:20251102T080000
END:STANDARD
BEGIN:DAYLIGHT
TZOFFSETFROM:-0700
TZOFFSETTO:-0600
TZNAME:MDT
DTSTART:20260308T090000
END:DAYLIGHT
BEGIN:STANDARD
TZOFFSETFROM:-0600
TZOFFSETTO:-0700
TZNAME:MST
DTSTART:20261101T080000
END:STANDARD
BEGIN:DAYLIGHT
TZOFFSETFROM:-0700
TZOFFSETTO:-0600
TZNAME:MDT
DTSTART:20270314T090000
END:DAYLIGHT
BEGIN:STANDARD
TZOFFSETFROM:-0600
TZOFFSETTO:-0700
TZNAME:MST
DTSTART:20271107T080000
END:STANDARD
BEGIN:DAYLIGHT
TZOFFSETFROM:-0700
TZOFFSETTO:-0600
TZNAME:MDT
DTSTART:20280312T090000
END:DAYLIGHT
BEGIN:STANDARD
TZOFFSETFROM:-0600
TZOFFSETTO:-0700
TZNAME:MST
DTSTART:20281105T080000
END:STANDARD
BEGIN:DAYLIGHT
TZOFFSETFROM:-0700
TZOFFSETTO:-0600
TZNAME:MDT
DTSTART:20290311T090000
END:DAYLIGHT
BEGIN:STANDARD
TZOFFSETFROM:-0600
TZOFFSETTO:-0700
TZNAME:MST
DTSTART:20291104T080000
END:STANDARD
END:VTIMEZONE
BEGIN:VEVENT
DTSTART;TZID=America/Denver:20261111T110000
DTEND;TZID=America/Denver:20261111T120000
DTSTAMP:20260420T234922
CREATED:20260113T160741Z
LAST-MODIFIED:20260420T142150Z
UID:10000539-1794394800-1794398400@www.colorado-stormwater-council.org
SUMMARY:CSC Construction Committee Meeting
DESCRIPTION:________________________________________________________________________________\nMicrosoft Teams Need help?\nJoin the meeting now\nMeeting ID: 280 114 780 789 62\nPasscode: jp6m9A6A\n________________________________\nFor organizers: Meeting options\n________________________________________________________________________________\n________________________________\nNew .gov Email Address Alert! The City of Lakewood has transitioned to a .gov domain for our website and emails. Please note my new email address and update your files accordingly. Visit LakewoodCO.gov to learn more about the benefits of this transition.
URL:https://www.colorado-stormwater-council.org/event/csc-construction-committee-meeting-22/
LOCATION:Microsoft Teams Meeting
ORGANIZER;CN="kanderson@lakewood.org":MAILTO:kanderson@lakewood.org
END:VEVENT
BEGIN:VEVENT
DTSTART;TZID=America/Denver:20261112T093000
DTEND;TZID=America/Denver:20261112T103000
DTSTAMP:20260420T234922
CREATED:20251113T193850Z
LAST-MODIFIED:20260420T142150Z
UID:10000456-1794475800-1794479400@www.colorado-stormwater-council.org
SUMMARY:CSC MuniOps Committee Meeting
DESCRIPTION:Agenda to sent prior to the meetings\n________________________________________________________________________________\nMicrosoft Teams meeting\nJoin: https://teams.microsoft.com/meet/28693995275487?p=qspeBZxqPdlrtJXsPx\nMeeting ID: 286 939 952 754 87\nPasscode: y6QP2kR2\n________________________________\nNeed help? | System reference\nDial in by phone\n+1 720-400-7859\,\,724603512# United States\, Aurora\nFind a local number\nPhone conference ID: 724 603 512#\nFor organizers: Meeting options | Reset dial-in PIN\n________________________________________________________________________________
URL:https://www.colorado-stormwater-council.org/event/csc-muniops-committee-meeting-6/
LOCATION:Microsoft Teams Meeting
ORGANIZER;CN="jkeyes@bouldercounty.gov":MAILTO:jkeyes@bouldercounty.gov
END:VEVENT
BEGIN:VEVENT
DTSTART;TZID=America/Denver:20261117T143000
DTEND;TZID=America/Denver:20261117T153000
DTSTAMP:20260420T234922
CREATED:20260120T170731Z
LAST-MODIFIED:20260420T142150Z
UID:10000567-1794925800-1794929400@www.colorado-stormwater-council.org
SUMMARY:CSIC - Office Hours
DESCRIPTION:The Colorado Stormwater Infrastructure Catalog (CSIC) is a web-based platform hosted on the Environmental Resource Assessment and Management System (eRAMS). Developed by Colorado State University’s One Water Solutions Institute for the Colorado Stormwater Council (CSC)\, the CSIC centralizes and shares stormwater infrastructure data among CSC members.\nJoin Colorado State University’s monthly office hours for any support questions or needs related to the CSIC.\n________________________________________________________________________________\nMicrosoft Teams Need help?\nJoin the meeting now\nMeeting ID: 276 399 998 451\nPasscode: FS6Dd99C\n________________________________\nDial in by phone\n+1 970-628-0547\,\,864257679# United States\, Grand Junction\nFind a local number\nPhone conference ID: 864 257 679#\nFor organizers: Meeting options | Reset dial-in PIN\n________________________________________________________________________________
URL:https://www.colorado-stormwater-council.org/event/csic-office-hours-12/
LOCATION:Microsoft Teams Meeting
ORGANIZER;CN="judah.gaioni@colostate.edu":MAILTO:judah.gaioni@colostate.edu
END:VEVENT
BEGIN:VEVENT
DTSTART;TZID=America/Denver:20261119T100000
DTEND;TZID=America/Denver:20261119T113000
DTSTAMP:20260420T234922
CREATED:20260107T152306Z
LAST-MODIFIED:20260420T142150Z
UID:10000476-1795082400-1795087800@www.colorado-stormwater-council.org
SUMMARY:CSC Admin Committee Meeting
DESCRIPTION:________________________________________________________________________________\nMicrosoft Teams Need help?\nJoin the meeting now\nMeeting ID: 262 002 431 067 8\nPasscode: Pv3Cd36k\n________________________________\nDial in by phone\n+1 720-739-8152\,\,186197305# United States\, Denver\nFind a local number\nPhone conference ID: 186 197 305#\nFor organizers: Meeting options | Reset dial-in PIN\n________________________________________________________________________________
URL:https://www.colorado-stormwater-council.org/event/csc-admin-committee-meeting-11/
LOCATION:Microsoft Teams Meeting
ORGANIZER;CN="jsouth@westminsterco.gov":MAILTO:jsouth@westminsterco.gov
END:VEVENT
BEGIN:VEVENT
DTSTART;TZID=America/Denver:20261125T120000
DTEND;TZID=America/Denver:20261125T130000
DTSTAMP:20260420T234922
CREATED:20260124T172236Z
LAST-MODIFIED:20260420T142204Z
UID:10000586-1795608000-1795611600@www.colorado-stormwater-council.org
SUMMARY:WQF MS4 Quarterly Meeting
DESCRIPTION:Mile high Flood District\n12575 W. Bayaud Ave.\n Lakewood\, CO 80228\n________________________________________________________________________________\nMicrosoft Teams Need help?\nJoin the meeting now\nMeeting ID: 225 433 720 220 83\nPasscode: Go7p9ud6\n________________________________\nDial in by phone\n+1 720-464-1105\,\,505188138# United States\, Denver\nFind a local number\nPhone conference ID: 505 188 138#\nFor organizers: Meeting options | Reset dial-in PIN\n________________________________________________________________________________
URL:https://www.colorado-stormwater-council.org/event/wqf-ms4-quarterly-meeting-10/
LOCATION:MHFD Training Room; Mile High Flood District – 12575 W. Bayaud Ave. Lakewood\, CO 80228\, MHFD Training Room
ORGANIZER;CN="cowen@mhfd.org":MAILTO:cowen@mhfd.org
END:VEVENT
BEGIN:VEVENT
DTSTART;TZID=America/Denver:20261201T100000
DTEND;TZID=America/Denver:20261201T113000
DTSTAMP:20260420T234922
CREATED:20260109T153726Z
LAST-MODIFIED:20260420T142204Z
UID:10000521-1796119200-1796124600@www.colorado-stormwater-council.org
SUMMARY:CSC PCC meeting
DESCRIPTION:________________________________________________________________________________\nMicrosoft Teams Need help?\nJoin the meeting now\nMeeting ID: 231 822 312 162 2\nPasscode: TK6ry3a5\n________________________________\nFor organizers: Meeting options\n________________________________________________________________________________
URL:https://www.colorado-stormwater-council.org/event/csc-pcc-meeting-11/
LOCATION:Microsoft Teams Meeting
ORGANIZER;CN="joseph.marencik@castlepinesco.gov":MAILTO:joseph.marencik@castlepinesco.gov
END:VEVENT
BEGIN:VEVENT
DTSTART;TZID=America/Denver:20261208T103000
DTEND;TZID=America/Denver:20261208T120000
DTSTAMP:20260420T234922
CREATED:20260210T212223Z
LAST-MODIFIED:20260324T190810Z
UID:10000602-1796725800-1796731200@www.colorado-stormwater-council.org
SUMMARY:CSC 303d Committee Meeting
DESCRIPTION:Starting our recurring meetings in June.  Agenda to come soon!\nJoin with Google Meet: https://meet.google.com/wnt-gtjj-spg\nOr dial: (US) +1 347-440-1952 PIN: 270063258#\nMore phone numbers: https://tel.meet/wnt-gtjj-spg?pin=8229376317756&hs=7\nLearn more about Meet at: https://support.google.com/a/users/answer/9282720
URL:https://www.colorado-stormwater-council.org/event/csc-303d-committee-meeting-91/
ORGANIZER;CN="jmoyer@arvada.org":MAILTO:jmoyer@arvada.org
END:VEVENT
BEGIN:VEVENT
DTSTART;TZID=America/Denver:20261209T110000
DTEND;TZID=America/Denver:20261209T120000
DTSTAMP:20260420T234922
CREATED:20260113T160741Z
LAST-MODIFIED:20260420T142204Z
UID:10000540-1796814000-1796817600@www.colorado-stormwater-council.org
SUMMARY:CSC Construction Committee Meeting
DESCRIPTION:________________________________________________________________________________\nMicrosoft Teams Need help?\nJoin the meeting now\nMeeting ID: 280 114 780 789 62\nPasscode: jp6m9A6A\n________________________________\nFor organizers: Meeting options\n________________________________________________________________________________\n________________________________\nNew .gov Email Address Alert! The City of Lakewood has transitioned to a .gov domain for our website and emails. Please note my new email address and update your files accordingly. Visit LakewoodCO.gov to learn more about the benefits of this transition.
URL:https://www.colorado-stormwater-council.org/event/csc-construction-committee-meeting-23/
LOCATION:Microsoft Teams Meeting
ORGANIZER;CN="kanderson@lakewood.org":MAILTO:kanderson@lakewood.org
END:VEVENT
BEGIN:VEVENT
DTSTART;TZID=America/Denver:20261214T110000
DTEND;TZID=America/Denver:20261214T120000
DTSTAMP:20260420T234922
CREATED:20250512T172222Z
LAST-MODIFIED:20260420T142204Z
UID:10000333-1797246000-1797249600@www.colorado-stormwater-council.org
SUMMARY:CSC E&O Subcommittee Mtg
DESCRIPTION:________________________________________________________________________________\nMicrosoft Teams Need help?\nJoin the meeting now\nMeeting ID: 228 203 287 051 4\nPasscode: bY73Zv3Q\n________________________________\nFor organizers: Meeting options\n________________________________________________________________________________
URL:https://www.colorado-stormwater-council.org/event/csc-eo-subcommittee-mtg-19/
LOCATION:Microsoft Teams Meeting
ORGANIZER;CN="erikey@lakewood.org":MAILTO:erikey@lakewood.org
END:VEVENT
BEGIN:VEVENT
DTSTART;TZID=America/Denver:20261215T143000
DTEND;TZID=America/Denver:20261215T153000
DTSTAMP:20260420T234922
CREATED:20260120T170745Z
LAST-MODIFIED:20260420T142204Z
UID:10000568-1797345000-1797348600@www.colorado-stormwater-council.org
SUMMARY:CSIC - Office Hours
DESCRIPTION:The Colorado Stormwater Infrastructure Catalog (CSIC) is a web-based platform hosted on the Environmental Resource Assessment and Management System (eRAMS). Developed by Colorado State University’s One Water Solutions Institute for the Colorado Stormwater Council (CSC)\, the CSIC centralizes and shares stormwater infrastructure data among CSC members.\nJoin Colorado State University’s monthly office hours for any support questions or needs related to the CSIC.\n________________________________________________________________________________\nMicrosoft Teams Need help?\nJoin the meeting now\nMeeting ID: 276 399 998 451\nPasscode: FS6Dd99C\n________________________________\nDial in by phone\n+1 970-628-0547\,\,864257679# United States\, Grand Junction\nFind a local number\nPhone conference ID: 864 257 679#\nFor organizers: Meeting options | Reset dial-in PIN\n________________________________________________________________________________
URL:https://www.colorado-stormwater-council.org/event/csic-office-hours-13/
LOCATION:Microsoft Teams Meeting
ORGANIZER;CN="judah.gaioni@colostate.edu":MAILTO:judah.gaioni@colostate.edu
END:VEVENT
BEGIN:VEVENT
DTSTART;TZID=America/Denver:20280313T110000
DTEND;TZID=America/Denver:20280313T120000
DTSTAMP:20260420T234922
CREATED:20260313T165339Z
LAST-MODIFIED:20260420T142340Z
UID:10000624-1836558000-1836561600@www.colorado-stormwater-council.org
SUMMARY:CSC E&O Subcommittee Mtg
DESCRIPTION:________________________________________________________________________________\nMicrosoft Teams Need help?\nJoin the meeting now\nMeeting ID: 228 203 287 051 4\nPasscode: bY73Zv3Q\n________________________________\nFor organizers: Meeting options\n________________________________________________________________________________
URL:https://www.colorado-stormwater-council.org/event/csc-eo-subcommittee-mtg-34/
LOCATION:Microsoft Teams Meeting
ORGANIZER;CN="erikey@lakewood.org":MAILTO:erikey@lakewood.org
END:VEVENT
BEGIN:VEVENT
DTSTART;TZID=America/Denver:20280321T143000
DTEND;TZID=America/Denver:20280321T153000
DTSTAMP:20260420T234922
CREATED:20260321T183915Z
LAST-MODIFIED:20260420T142354Z
UID:10000627-1837261800-1837265400@www.colorado-stormwater-council.org
SUMMARY:CSIC - Office Hours
DESCRIPTION:The Colorado Stormwater Infrastructure Catalog (CSIC) is a web-based platform hosted on the Environmental Resource Assessment and Management System (eRAMS). Developed by Colorado State University’s One Water Solutions Institute for the Colorado Stormwater Council (CSC)\, the CSIC centralizes and shares stormwater infrastructure data among CSC members.\nJoin Colorado State University’s monthly office hours for any support questions or needs related to the CSIC.\n________________________________________________________________________________\nMicrosoft Teams Need help?\nJoin the meeting now\nMeeting ID: 276 399 998 451\nPasscode: FS6Dd99C\n________________________________\nDial in by phone\n+1 970-628-0547\,\,864257679# United States\, Grand Junction\nFind a local number\nPhone conference ID: 864 257 679#\nFor organizers: Meeting options | Reset dial-in PIN\n________________________________________________________________________________
URL:https://www.colorado-stormwater-council.org/event/csic-office-hours-28/
LOCATION:Microsoft Teams Meeting
ORGANIZER;CN="judah.gaioni@colostate.edu":MAILTO:judah.gaioni@colostate.edu
END:VEVENT
BEGIN:VEVENT
DTSTART;TZID=America/Denver:20280410T110000
DTEND;TZID=America/Denver:20280410T120000
DTSTAMP:20260420T234922
CREATED:20260410T220840Z
LAST-MODIFIED:20260420T142354Z
UID:10000655-1838977200-1838980800@www.colorado-stormwater-council.org
SUMMARY:CSC E&O Subcommittee Mtg
DESCRIPTION:________________________________________________________________________________\nMicrosoft Teams Need help?\nJoin the meeting now\nMeeting ID: 228 203 287 051 4\nPasscode: bY73Zv3Q\n________________________________\nFor organizers: Meeting options\n________________________________________________________________________________
URL:https://www.colorado-stormwater-council.org/event/csc-eo-subcommittee-mtg-35/
LOCATION:Microsoft Teams Meeting
ORGANIZER;CN="erikey@lakewood.org":MAILTO:erikey@lakewood.org
END:VEVENT
BEGIN:VEVENT
DTSTART;TZID=America/Denver:20280411T103000
DTEND;TZID=America/Denver:20280411T120000
DTSTAMP:20260420T234922
CREATED:20260411T222424Z
LAST-MODIFIED:20260420T142355Z
UID:10000656-1839061800-1839067200@www.colorado-stormwater-council.org
SUMMARY:CSC 303d Committee Meeting
DESCRIPTION:Starting our recurring meetings in June.  Agenda to come soon!\nJoin with Google Meet: https://meet.google.com/wnt-gtjj-spg\nOr dial: (US) +1 347-440-1952 PIN: 270063258#\nMore phone numbers: https://tel.meet/wnt-gtjj-spg?pin=8229376317756&hs=7\nLearn more about Meet at: https://support.google.com/a/users/answer/9282720
URL:https://www.colorado-stormwater-council.org/event/csc-303d-committee-meeting-131/
ORGANIZER;CN="jmoyer@arvada.org":MAILTO:jmoyer@arvada.org
END:VEVENT
BEGIN:VEVENT
DTSTART;TZID=America/Denver:20280418T143000
DTEND;TZID=America/Denver:20280418T153000
DTSTAMP:20260420T234922
CREATED:20260418T235344Z
LAST-MODIFIED:20260420T142355Z
UID:10000663-1839681000-1839684600@www.colorado-stormwater-council.org
SUMMARY:CSIC - Office Hours
DESCRIPTION:The Colorado Stormwater Infrastructure Catalog (CSIC) is a web-based platform hosted on the Environmental Resource Assessment and Management System (eRAMS). Developed by Colorado State University’s One Water Solutions Institute for the Colorado Stormwater Council (CSC)\, the CSIC centralizes and shares stormwater infrastructure data among CSC members.\nJoin Colorado State University’s monthly office hours for any support questions or needs related to the CSIC.\n________________________________________________________________________________\nMicrosoft Teams Need help?\nJoin the meeting now\nMeeting ID: 276 399 998 451\nPasscode: FS6Dd99C\n________________________________\nDial in by phone\n+1 970-628-0547\,\,864257679# United States\, Grand Junction\nFind a local number\nPhone conference ID: 864 257 679#\nFor organizers: Meeting options | Reset dial-in PIN\n________________________________________________________________________________
URL:https://www.colorado-stormwater-council.org/event/csic-office-hours-29/
LOCATION:Microsoft Teams Meeting
ORGANIZER;CN="judah.gaioni@colostate.edu":MAILTO:judah.gaioni@colostate.edu
END:VEVENT
END:VCALENDAR