BEGIN:VCALENDAR
VERSION:2.0
PRODID:-//Colorado Stormwater Council - ECPv6.15.17.1//NONSGML v1.0//EN
CALSCALE:GREGORIAN
METHOD:PUBLISH
X-WR-CALNAME:Colorado Stormwater Council
X-ORIGINAL-URL:https://www.colorado-stormwater-council.org
X-WR-CALDESC:Events for Colorado Stormwater Council
REFRESH-INTERVAL;VALUE=DURATION:PT1H
X-Robots-Tag:noindex
X-PUBLISHED-TTL:PT1H
BEGIN:VTIMEZONE
TZID:America/Denver
BEGIN:DAYLIGHT
TZOFFSETFROM:-0700
TZOFFSETTO:-0600
TZNAME:MDT
DTSTART:20240310T090000
END:DAYLIGHT
BEGIN:STANDARD
TZOFFSETFROM:-0600
TZOFFSETTO:-0700
TZNAME:MST
DTSTART:20241103T080000
END:STANDARD
BEGIN:DAYLIGHT
TZOFFSETFROM:-0700
TZOFFSETTO:-0600
TZNAME:MDT
DTSTART:20250309T090000
END:DAYLIGHT
BEGIN:STANDARD
TZOFFSETFROM:-0600
TZOFFSETTO:-0700
TZNAME:MST
DTSTART:20251102T080000
END:STANDARD
BEGIN:DAYLIGHT
TZOFFSETFROM:-0700
TZOFFSETTO:-0600
TZNAME:MDT
DTSTART:20260308T090000
END:DAYLIGHT
BEGIN:STANDARD
TZOFFSETFROM:-0600
TZOFFSETTO:-0700
TZNAME:MST
DTSTART:20261101T080000
END:STANDARD
END:VTIMEZONE
BEGIN:VEVENT
DTSTART;TZID=America/Denver:20251120T100000
DTEND;TZID=America/Denver:20251120T113000
DTSTAMP:20260421T125345
CREATED:20250515T173633Z
LAST-MODIFIED:20251112T192042Z
UID:10000347-1763632800-1763638200@www.colorado-stormwater-council.org
SUMMARY:CSC Admin Committee
DESCRIPTION:________________________________________________________________________________\nMicrosoft Teams Need help?\nJoin the meeting now\nMeeting ID: 283 184 708 895\nPasscode: Pp98zV9u\n________________________________\nFor organizers: Meeting options\n________________________________________________________________________________
URL:https://www.colorado-stormwater-council.org/event/csc-admin-committee-6/
LOCATION:Microsoft Teams Meeting
ORGANIZER;CN="vsantistevan@fedheights.org":MAILTO:vsantistevan@fedheights.org
END:VEVENT
BEGIN:VEVENT
DTSTART;TZID=America/Denver:20251121T110000
DTEND;TZID=America/Denver:20251121T120000
DTSTAMP:20260421T125345
CREATED:20251118T200551Z
LAST-MODIFIED:20251120T203529Z
UID:10000462-1763722800-1763726400@www.colorado-stormwater-council.org
SUMMARY:Webinar: CSIC Update – New Sign-In Process & Multi-User Management
DESCRIPTION:The Colorado Stormwater Infrastructure Catalog (CSIC) has been updated to allow multiple users to manage a single municipality’s dataset. Please join the software engineering team that built the Catalog as they walk contributing members through the new sign-in process and demonstrate the benefits of multi-user management.\n________________________________________________________________________________\nMicrosoft Teams Need help?\nJoin the meeting now\nMeeting ID: 228 576 839 217 84\nPasscode: r7nx39PD\n________________________________\nDial in by phone\n+1 970-628-0547\,\,667381546# United States\, Grand Junction\nFind a local number\nPhone conference ID: 667 381 546#\nFor organizers: Meeting options | Reset dial-in PIN\n________________________________________________________________________________
URL:https://www.colorado-stormwater-council.org/event/webinar-csic-update-new-sign-in-process-multi-user-management/
LOCATION:Microsoft Teams Meeting
ORGANIZER;CN="judah.gaioni@colostate.edu":MAILTO:judah.gaioni@colostate.edu
END:VEVENT
BEGIN:VEVENT
DTSTART;TZID=America/Denver:20251202T100000
DTEND;TZID=America/Denver:20251202T113000
DTSTAMP:20260421T125345
CREATED:20250429T152858Z
LAST-MODIFIED:20251201T223611Z
UID:10000269-1764669600-1764675000@www.colorado-stormwater-council.org
SUMMARY:FW: CSC Permit Compliance Committee
DESCRIPTION:—–Original Appointment—–\nFrom: Joseph Marencik\nSent: Thursday\, January 2\, 2025 4:28 PM\nTo: Joseph Marencik; Permit Compliance Committee; events@colorado-stormwater-council.org\nCc: Chandler\, Trevor; James Linden; Keyes\, Jennifer; South\, Jake; Begert Bonnie; Wanda DeVargas; Rebecca Wertz; Erica Rylander\nSubject: CSC Permit Compliance Committee\nWhen: Tuesday\, December 2\, 2025 10:00 AM-11:30 AM (UTC-07:00) Mountain Time (US & Canada).\nWhere: Microsoft Teams Meeting\nMonthly PCC meeting\n________________________________________________________________________________\nMicrosoft Teams Need help?\nJoin the meeting now\nMeeting ID: 212 641 613 579\nPasscode: Rg3Uc6QK\n________________________________\nFor organizers: Meeting options\n________________________________________________________________________________
URL:https://www.colorado-stormwater-council.org/event/fw-csc-permit-compliance-committee-8/
LOCATION:Microsoft Teams Meeting
ORGANIZER;CN="joseph.marencik@castlepinesco.gov":MAILTO:joseph.marencik@castlepinesco.gov
END:VEVENT
BEGIN:VEVENT
DTSTART;TZID=America/Denver:20251208T110000
DTEND;TZID=America/Denver:20251208T120000
DTSTAMP:20260421T125345
CREATED:20250512T172115Z
LAST-MODIFIED:20251207T233529Z
UID:10000321-1765191600-1765195200@www.colorado-stormwater-council.org
SUMMARY:CSC E&O Subcommittee Mtg
DESCRIPTION:________________________________________________________________________________\nMicrosoft Teams Need help?\nJoin the meeting now\nMeeting ID: 228 203 287 051 4\nPasscode: bY73Zv3Q\n________________________________\nFor organizers: Meeting options\n________________________________________________________________________________
URL:https://www.colorado-stormwater-council.org/event/csc-eo-subcommittee-mtg-7/
LOCATION:Microsoft Teams Meeting
ORGANIZER;CN="erikey@lakewood.org":MAILTO:erikey@lakewood.org
END:VEVENT
BEGIN:VEVENT
DTSTART;TZID=America/Denver:20251209T103000
DTEND;TZID=America/Denver:20251209T120000
DTSTAMP:20260421T125345
CREATED:20251014T145111Z
LAST-MODIFIED:20251208T233743Z
UID:10000423-1765276200-1765281600@www.colorado-stormwater-council.org
SUMMARY:CSC 303d Committee Meeting
DESCRIPTION:Starting our recurring meetings in June.  Agenda to come soon!\nJoin with Google Meet: https://meet.google.com/wnt-gtjj-spg\nOr dial: (US) +1 347-440-1952 PIN: 270063258#\nMore phone numbers: https://tel.meet/wnt-gtjj-spg?pin=8229376317756&hs=7\nLearn more about Meet at: https://support.google.com/a/users/answer/9282720
URL:https://www.colorado-stormwater-council.org/event/csc-303d-committee-meeting-55/
ORGANIZER;CN="jmoyer@arvada.org":MAILTO:jmoyer@arvada.org
END:VEVENT
BEGIN:VEVENT
DTSTART;TZID=America/Denver:20251209T103000
DTEND;TZID=America/Denver:20251209T120000
DTSTAMP:20260421T125345
CREATED:20250710T195057Z
LAST-MODIFIED:20251013T143704Z
UID:10000385-1765276200-1765281600@www.colorado-stormwater-council.org
SUMMARY:CSC 303d Committee Meeting
DESCRIPTION:Starting our recurring meetings in June.  Agenda to come soon!\nJoin with Google Meet: https://meet.google.com/wnt-gtjj-spg\nOr dial: (US) +1 347-440-1952 PIN: 270063258#\nMore phone numbers: https://tel.meet/wnt-gtjj-spg?pin=8229376317756&hs=7\nLearn more about Meet at: https://support.google.com/a/users/answer/9282720
URL:https://www.colorado-stormwater-council.org/event/csc-303d-committee-meeting-30/
ORGANIZER;CN="jmoyer@arvada.org":MAILTO:jmoyer@arvada.org
END:VEVENT
BEGIN:VEVENT
DTSTART;TZID=America/Denver:20251209T103000
DTEND;TZID=America/Denver:20251209T120000
DTSTAMP:20260421T125345
CREATED:20250707T195128Z
LAST-MODIFIED:20250709T195121Z
UID:10000362-1765276200-1765281600@www.colorado-stormwater-council.org
SUMMARY:CSC 303d Committee Meeting
DESCRIPTION:Starting our recurring meetings in June.  Agenda to come soon!\nJoin with Google Meet: https://meet.google.com/wnt-gtjj-spg\nOr dial: (US) +1 347-440-1952 PIN: 270063258#\nMore phone numbers: https://tel.meet/wnt-gtjj-spg?pin=8229376317756&hs=7\nLearn more about Meet at: https://support.google.com/a/users/answer/9282720
URL:https://www.colorado-stormwater-council.org/event/csc-303d-committee-meeting-8/
ORGANIZER;CN="jmoyer@arvada.org":MAILTO:jmoyer@arvada.org
END:VEVENT
END:VCALENDAR