BEGIN:VCALENDAR
VERSION:2.0
PRODID:-//Colorado Stormwater Council - ECPv6.15.17.1//NONSGML v1.0//EN
CALSCALE:GREGORIAN
METHOD:PUBLISH
X-WR-CALNAME:Colorado Stormwater Council
X-ORIGINAL-URL:https://www.colorado-stormwater-council.org
X-WR-CALDESC:Events for Colorado Stormwater Council
REFRESH-INTERVAL;VALUE=DURATION:PT1H
X-Robots-Tag:noindex
X-PUBLISHED-TTL:PT1H
BEGIN:VTIMEZONE
TZID:America/Denver
BEGIN:DAYLIGHT
TZOFFSETFROM:-0700
TZOFFSETTO:-0600
TZNAME:MDT
DTSTART:20270314T090000
END:DAYLIGHT
BEGIN:STANDARD
TZOFFSETFROM:-0600
TZOFFSETTO:-0700
TZNAME:MST
DTSTART:20271107T080000
END:STANDARD
BEGIN:DAYLIGHT
TZOFFSETFROM:-0700
TZOFFSETTO:-0600
TZNAME:MDT
DTSTART:20280312T090000
END:DAYLIGHT
BEGIN:STANDARD
TZOFFSETFROM:-0600
TZOFFSETTO:-0700
TZNAME:MST
DTSTART:20281105T080000
END:STANDARD
BEGIN:DAYLIGHT
TZOFFSETFROM:-0700
TZOFFSETTO:-0600
TZNAME:MDT
DTSTART:20290311T090000
END:DAYLIGHT
BEGIN:STANDARD
TZOFFSETFROM:-0600
TZOFFSETTO:-0700
TZNAME:MST
DTSTART:20291104T080000
END:STANDARD
END:VTIMEZONE
BEGIN:VEVENT
DTSTART;TZID=America/Denver:20280418T143000
DTEND;TZID=America/Denver:20280418T153000
DTSTAMP:20260421T102429
CREATED:20260418T235344Z
LAST-MODIFIED:20260421T143843Z
UID:10000663-1839681000-1839684600@www.colorado-stormwater-council.org
SUMMARY:CSIC - Office Hours
DESCRIPTION:The Colorado Stormwater Infrastructure Catalog (CSIC) is a web-based platform hosted on the Environmental Resource Assessment and Management System (eRAMS). Developed by Colorado State University’s One Water Solutions Institute for the Colorado Stormwater Council (CSC)\, the CSIC centralizes and shares stormwater infrastructure data among CSC members.\nJoin Colorado State University’s monthly office hours for any support questions or needs related to the CSIC.\n________________________________________________________________________________\nMicrosoft Teams Need help?\nJoin the meeting now\nMeeting ID: 276 399 998 451\nPasscode: FS6Dd99C\n________________________________\nDial in by phone\n+1 970-628-0547\,\,864257679# United States\, Grand Junction\nFind a local number\nPhone conference ID: 864 257 679#\nFor organizers: Meeting options | Reset dial-in PIN\n________________________________________________________________________________
URL:https://www.colorado-stormwater-council.org/event/csic-office-hours-29/
LOCATION:Microsoft Teams Meeting
ORGANIZER;CN="judah.gaioni@colostate.edu":MAILTO:judah.gaioni@colostate.edu
END:VEVENT
END:VCALENDAR