BEGIN:VCALENDAR
VERSION:2.0
PRODID:-//Colorado Stormwater Council - ECPv6.15.17.1//NONSGML v1.0//EN
CALSCALE:GREGORIAN
METHOD:PUBLISH
X-WR-CALNAME:Colorado Stormwater Council
X-ORIGINAL-URL:https://www.colorado-stormwater-council.org
X-WR-CALDESC:Events for Colorado Stormwater Council
REFRESH-INTERVAL;VALUE=DURATION:PT1H
X-Robots-Tag:noindex
X-PUBLISHED-TTL:PT1H
BEGIN:VTIMEZONE
TZID:America/Denver
BEGIN:DAYLIGHT
TZOFFSETFROM:-0700
TZOFFSETTO:-0600
TZNAME:MDT
DTSTART:20250309T090000
END:DAYLIGHT
BEGIN:STANDARD
TZOFFSETFROM:-0600
TZOFFSETTO:-0700
TZNAME:MST
DTSTART:20251102T080000
END:STANDARD
BEGIN:DAYLIGHT
TZOFFSETFROM:-0700
TZOFFSETTO:-0600
TZNAME:MDT
DTSTART:20260308T090000
END:DAYLIGHT
BEGIN:STANDARD
TZOFFSETFROM:-0600
TZOFFSETTO:-0700
TZNAME:MST
DTSTART:20261101T080000
END:STANDARD
BEGIN:DAYLIGHT
TZOFFSETFROM:-0700
TZOFFSETTO:-0600
TZNAME:MDT
DTSTART:20270314T090000
END:DAYLIGHT
BEGIN:STANDARD
TZOFFSETFROM:-0600
TZOFFSETTO:-0700
TZNAME:MST
DTSTART:20271107T080000
END:STANDARD
END:VTIMEZONE
BEGIN:VEVENT
DTSTART;TZID=America/Denver:20260108T093000
DTEND;TZID=America/Denver:20260108T103000
DTSTAMP:20260420T225545
CREATED:20251113T193750Z
LAST-MODIFIED:20260108T153511Z
UID:10000451-1767864600-1767868200@www.colorado-stormwater-council.org
SUMMARY:CSC MuniOps Committee Meeting
DESCRIPTION:Agenda to sent prior to the meetings\n________________________________________________________________________________\nMicrosoft Teams Need help?\nJoin the meeting now\nMeeting ID: 286 939 952 754 87\nPasscode: y6QP2kR2\n________________________________\nFor organizers: Meeting options\n________________________________________________________________________________
URL:https://www.colorado-stormwater-council.org/event/csc-muniops-committee-meeting/
LOCATION:Microsoft Teams Meeting
ORGANIZER;CN="jkeyes@bouldercounty.gov":MAILTO:jkeyes@bouldercounty.gov
END:VEVENT
BEGIN:VEVENT
DTSTART;TZID=America/Denver:20260112T110000
DTEND;TZID=America/Denver:20260112T120000
DTSTAMP:20260420T225545
CREATED:20250512T172130Z
LAST-MODIFIED:20260112T160511Z
UID:10000322-1768215600-1768219200@www.colorado-stormwater-council.org
SUMMARY:CSC E&O Subcommittee Mtg
DESCRIPTION:________________________________________________________________________________\nMicrosoft Teams Need help?\nJoin the meeting now\nMeeting ID: 228 203 287 051 4\nPasscode: bY73Zv3Q\n________________________________\nFor organizers: Meeting options\n________________________________________________________________________________
URL:https://www.colorado-stormwater-council.org/event/csc-eo-subcommittee-mtg-8/
LOCATION:Microsoft Teams Meeting
ORGANIZER;CN="erikey@lakewood.org":MAILTO:erikey@lakewood.org
END:VEVENT
BEGIN:VEVENT
DTSTART;TZID=America/Denver:20260113T103000
DTEND;TZID=America/Denver:20260113T120000
DTSTAMP:20260420T225545
CREATED:20250707T195128Z
LAST-MODIFIED:20250709T195121Z
UID:10000363-1768300200-1768305600@www.colorado-stormwater-council.org
SUMMARY:CSC 303d Committee Meeting
DESCRIPTION:Starting our recurring meetings in June.  Agenda to come soon!\nJoin with Google Meet: https://meet.google.com/wnt-gtjj-spg\nOr dial: (US) +1 347-440-1952 PIN: 270063258#\nMore phone numbers: https://tel.meet/wnt-gtjj-spg?pin=8229376317756&hs=7\nLearn more about Meet at: https://support.google.com/a/users/answer/9282720
URL:https://www.colorado-stormwater-council.org/event/csc-303d-committee-meeting-9/
ORGANIZER;CN="jmoyer@arvada.org":MAILTO:jmoyer@arvada.org
END:VEVENT
BEGIN:VEVENT
DTSTART;TZID=America/Denver:20260115T100000
DTEND;TZID=America/Denver:20260115T113000
DTSTAMP:20260420T225545
CREATED:20260107T152224Z
LAST-MODIFIED:20260115T162147Z
UID:10000466-1768471200-1768476600@www.colorado-stormwater-council.org
SUMMARY:CSC Admin Committee Meeting
DESCRIPTION:________________________________________________________________________________\nMicrosoft Teams Need help?\nJoin the meeting now\nMeeting ID: 262 002 431 067 8\nPasscode: Pv3Cd36k\n________________________________\nDial in by phone\n+1 720-739-8152\,\,186197305# United States\, Denver\nFind a local number\nPhone conference ID: 186 197 305#\nFor organizers: Meeting options | Reset dial-in PIN\n________________________________________________________________________________
URL:https://www.colorado-stormwater-council.org/event/csc-admin-committee-meeting/
LOCATION:Microsoft Teams Meeting
ORGANIZER;CN="jsouth@westminsterco.gov":MAILTO:jsouth@westminsterco.gov
END:VEVENT
BEGIN:VEVENT
DTSTART;TZID=America/Denver:20260120T143000
DTEND;TZID=America/Denver:20260120T153000
DTSTAMP:20260420T225545
CREATED:20260120T170522Z
LAST-MODIFIED:20260120T170522Z
UID:10000557-1768919400-1768923000@www.colorado-stormwater-council.org
SUMMARY:CSIC - Office Hours
DESCRIPTION:The Colorado Stormwater Infrastructure Catalog (CSIC) is a web-based platform hosted on the Environmental Resource Assessment and Management System (eRAMS). Developed by Colorado State University’s One Water Solutions Institute for the Colorado Stormwater Council (CSC)\, the CSIC centralizes and shares stormwater infrastructure data among CSC members.\nJoin Colorado State University’s monthly office hours for any support questions or needs related to the CSIC.\n________________________________________________________________________________\nMicrosoft Teams Need help?\nJoin the meeting now\nMeeting ID: 276 399 998 451\nPasscode: FS6Dd99C\n________________________________\nDial in by phone\n+1 970-628-0547\,\,864257679# United States\, Grand Junction\nFind a local number\nPhone conference ID: 864 257 679#\nFor organizers: Meeting options | Reset dial-in PIN\n________________________________________________________________________________
URL:https://www.colorado-stormwater-council.org/event/csic-office-hours-2/
LOCATION:Microsoft Teams Meeting
ORGANIZER;CN="judah.gaioni@colostate.edu":MAILTO:judah.gaioni@colostate.edu
END:VEVENT
BEGIN:VEVENT
DTSTART;TZID=America/Denver:20260120T143000
DTEND;TZID=America/Denver:20260120T153000
DTSTAMP:20260420T225545
CREATED:20260120T170522Z
LAST-MODIFIED:20260120T170522Z
UID:10000556-1768919400-1768923000@www.colorado-stormwater-council.org
SUMMARY:CSIC - Office Hours
DESCRIPTION:The Colorado Stormwater Infrastructure Catalog (CSIC) is a web-based platform hosted on the Environmental Resource Assessment and Management System (eRAMS). Developed by Colorado State University’s One Water Solutions Institute for the Colorado Stormwater Council (CSC)\, the CSIC centralizes and shares stormwater infrastructure data among CSC members.\nJoin Colorado State University’s monthly office hours for any support questions or needs related to the CSIC.\n________________________________________________________________________________\nMicrosoft Teams Need help?\nJoin the meeting now\nMeeting ID: 276 399 998 451\nPasscode: FS6Dd99C\n________________________________\nDial in by phone\n+1 970-628-0547\,\,864257679# United States\, Grand Junction\nFind a local number\nPhone conference ID: 864 257 679#\nFor organizers: Meeting options | Reset dial-in PIN\n________________________________________________________________________________
URL:https://www.colorado-stormwater-council.org/event/csic-office-hours/
LOCATION:Microsoft Teams Meeting
ORGANIZER;CN="judah.gaioni@colostate.edu":MAILTO:judah.gaioni@colostate.edu
END:VEVENT
BEGIN:VEVENT
DTSTART;TZID=America/Denver:20260128T093000
DTEND;TZID=America/Denver:20260128T110000
DTSTAMP:20260420T225545
CREATED:20260108T153511Z
LAST-MODIFIED:20260127T175114Z
UID:10000477-1769592600-1769598000@www.colorado-stormwater-council.org
SUMMARY:CSC Meeting - ONLINE ONLY
DESCRIPTION:JANUARY MEETING IS ON TEAMS ONLY. QUARTERLY MOVED TO FEBRUARY.\n________________________________________________________________________________\nMicrosoft Teams Need help?\nJoin the meeting now\nMeeting ID: 266 794 376 485 01\nPasscode: KN6uc2Mz\n________________________________\nDial in by phone\n+1 720-739-8152\,\,632084864# United States\, Denver\nFind a local number\nPhone conference ID: 632 084 864#\nFor organizers: Meeting options | Reset dial-in PIN\n________________________________________________________________________________
URL:https://www.colorado-stormwater-council.org/event/csc-meeting-at-mhfd/
LOCATION:Mile High Flood District (12575 W Bayaud Ave\, Lakewood\, CO  80228)
ORGANIZER;CN="jsouth@westminsterco.gov":MAILTO:jsouth@westminsterco.gov
END:VEVENT
BEGIN:VEVENT
DTSTART;TZID=America/Denver:20260128T110000
DTEND;TZID=America/Denver:20260128T130000
DTSTAMP:20260420T225545
CREATED:20260110T153702Z
LAST-MODIFIED:20260128T180511Z
UID:10000523-1769598000-1769605200@www.colorado-stormwater-council.org
SUMMARY:WQF MS4 Quarterly Meeting
DESCRIPTION:Mile high Flood District\n12575 W. Bayaud Ave.\n Lakewood\, CO 80228\n________________________________________________________________________________\nMicrosoft Teams Need help?\nJoin the meeting now\nMeeting ID: 225 433 720 220 83\nPasscode: Go7p9ud6\n________________________________\nDial in by phone\n+1 720-464-1105\,\,505188138# United States\, Denver\nFind a local number\nPhone conference ID: 505 188 138#\nFor organizers: Meeting options | Reset dial-in PIN\n________________________________________________________________________________
URL:https://www.colorado-stormwater-council.org/event/wqf-ms4-quarterly-meeting/
LOCATION:MHFD Training Room; Mile High Flood District – 12575 W. Bayaud Ave. Lakewood\, CO 80228\, MHFD Training Room
ORGANIZER;CN="cowen@mhfd.org":MAILTO:cowen@mhfd.org
END:VEVENT
BEGIN:VEVENT
DTSTART;TZID=America/Denver:20260128T110000
DTEND;TZID=America/Denver:20260128T130000
DTSTAMP:20260420T225545
CREATED:20260114T160531Z
LAST-MODIFIED:20260120T170522Z
UID:10000542-1769598000-1769605200@www.colorado-stormwater-council.org
SUMMARY:WQF MS4 Quarterly Meeting
DESCRIPTION:________________________________________________________________________________\nMicrosoft Teams Need help?\nJoin the meeting now\nMeeting ID: 284 039 838 369 25\nPasscode: Xx95HA35\n________________________________\nDial in by phone\n+1 720-464-1105\,\,677538099# United States\, Denver\nFind a local number\nPhone conference ID: 677 538 099#\nFor organizers: Meeting options | Reset dial-in PIN\n________________________________________________________________________________
URL:https://www.colorado-stormwater-council.org/event/wqf-ms4-quarterly-meeting-6/
LOCATION:MHFD Training Room; Mile High Flood District – 12575 W. Bayaud Ave. Lakewood\, CO 80228\, MHFD Training Room
ORGANIZER;CN="cowen@mhfd.org":MAILTO:cowen@mhfd.org
END:VEVENT
END:VCALENDAR