BEGIN:VCALENDAR
VERSION:2.0
PRODID:-//Colorado Stormwater Council - ECPv6.15.17.1//NONSGML v1.0//EN
CALSCALE:GREGORIAN
METHOD:PUBLISH
X-WR-CALNAME:Colorado Stormwater Council
X-ORIGINAL-URL:https://www.colorado-stormwater-council.org
X-WR-CALDESC:Events for Colorado Stormwater Council
REFRESH-INTERVAL;VALUE=DURATION:PT1H
X-Robots-Tag:noindex
X-PUBLISHED-TTL:PT1H
BEGIN:VTIMEZONE
TZID:America/Denver
BEGIN:DAYLIGHT
TZOFFSETFROM:-0700
TZOFFSETTO:-0600
TZNAME:MDT
DTSTART:20250309T090000
END:DAYLIGHT
BEGIN:STANDARD
TZOFFSETFROM:-0600
TZOFFSETTO:-0700
TZNAME:MST
DTSTART:20251102T080000
END:STANDARD
BEGIN:DAYLIGHT
TZOFFSETFROM:-0700
TZOFFSETTO:-0600
TZNAME:MDT
DTSTART:20260308T090000
END:DAYLIGHT
BEGIN:STANDARD
TZOFFSETFROM:-0600
TZOFFSETTO:-0700
TZNAME:MST
DTSTART:20261101T080000
END:STANDARD
BEGIN:DAYLIGHT
TZOFFSETFROM:-0700
TZOFFSETTO:-0600
TZNAME:MDT
DTSTART:20270314T090000
END:DAYLIGHT
BEGIN:STANDARD
TZOFFSETFROM:-0600
TZOFFSETTO:-0700
TZNAME:MST
DTSTART:20271107T080000
END:STANDARD
END:VTIMEZONE
BEGIN:VEVENT
DTSTART;TZID=America/Denver:20260505T100000
DTEND;TZID=America/Denver:20260505T113000
DTSTAMP:20260420T171823
CREATED:20260109T153613Z
LAST-MODIFIED:20260420T142018Z
UID:10000507-1777975200-1777980600@www.colorado-stormwater-council.org
SUMMARY:CSC PCC meeting
DESCRIPTION:________________________________________________________________________________\nMicrosoft Teams Need help?\nJoin the meeting now\nMeeting ID: 231 822 312 162 2\nPasscode: TK6ry3a5\n________________________________\nFor organizers: Meeting options\n________________________________________________________________________________
URL:https://www.colorado-stormwater-council.org/event/csc-pcc-meeting-4/
LOCATION:Microsoft Teams Meeting
ORGANIZER;CN="joseph.marencik@castlepinesco.gov":MAILTO:joseph.marencik@castlepinesco.gov
END:VEVENT
BEGIN:VEVENT
DTSTART;TZID=America/Denver:20260507T080000
DTEND;TZID=America/Denver:20260507T120000
DTSTAMP:20260420T171823
CREATED:20260325T191553Z
LAST-MODIFIED:20260325T194530Z
UID:10000628-1778140800-1778155200@www.colorado-stormwater-council.org
SUMMARY:4 Hour CIP Training
DESCRIPTION:This course is designed to provide the student with basic knowledge and skills while maintaining capital improvement projects. This is a great introduction to stormwater compliance for internal staff managing stormwater compliance on CIP projects. \nThis training will be hosted online and the link will be sent out from Aquaterra Environmental three days before the training date. \nPlease only register yourself. Each participant needs a website user to take the quiz and get a certificate issued. \nIf other staff need website access to register\, please contact the CSC Chair or Webmaster with a list of name(s) and associated email address(es). \nRegistration opens 30 days before the event is scheduled and closes 3 days before the event.
URL:https://www.colorado-stormwater-council.org/event/4-hour-cip-training/
CATEGORIES:Training
END:VEVENT
BEGIN:VEVENT
DTSTART;TZID=America/Denver:20260511T110000
DTEND;TZID=America/Denver:20260511T120000
DTSTAMP:20260420T171823
CREATED:20250512T172149Z
LAST-MODIFIED:20260420T142018Z
UID:10000326-1778497200-1778500800@www.colorado-stormwater-council.org
SUMMARY:CSC E&O Subcommittee Mtg
DESCRIPTION:________________________________________________________________________________\nMicrosoft Teams Need help?\nJoin the meeting now\nMeeting ID: 228 203 287 051 4\nPasscode: bY73Zv3Q\n________________________________\nFor organizers: Meeting options\n________________________________________________________________________________
URL:https://www.colorado-stormwater-council.org/event/csc-eo-subcommittee-mtg-12/
LOCATION:Microsoft Teams Meeting
ORGANIZER;CN="erikey@lakewood.org":MAILTO:erikey@lakewood.org
END:VEVENT
BEGIN:VEVENT
DTSTART;TZID=America/Denver:20260512T103000
DTEND;TZID=America/Denver:20260512T120000
DTSTAMP:20260420T171823
CREATED:20260210T212055Z
LAST-MODIFIED:20260324T190644Z
UID:10000595-1778581800-1778587200@www.colorado-stormwater-council.org
SUMMARY:CSC 303d Committee Meeting
DESCRIPTION:Starting our recurring meetings in June.  Agenda to come soon!\nJoin with Google Meet: https://meet.google.com/wnt-gtjj-spg\nOr dial: (US) +1 347-440-1952 PIN: 270063258#\nMore phone numbers: https://tel.meet/wnt-gtjj-spg?pin=8229376317756&hs=7\nLearn more about Meet at: https://support.google.com/a/users/answer/9282720
URL:https://www.colorado-stormwater-council.org/event/csc-303d-committee-meeting-84/
ORGANIZER;CN="jmoyer@arvada.org":MAILTO:jmoyer@arvada.org
END:VEVENT
BEGIN:VEVENT
DTSTART;TZID=America/Denver:20260513T110000
DTEND;TZID=America/Denver:20260513T120000
DTSTAMP:20260420T171823
CREATED:20260113T160628Z
LAST-MODIFIED:20260420T142032Z
UID:10000533-1778670000-1778673600@www.colorado-stormwater-council.org
SUMMARY:CSC Construction Committee Meeting
DESCRIPTION:________________________________________________________________________________\nMicrosoft Teams Need help?\nJoin the meeting now\nMeeting ID: 280 114 780 789 62\nPasscode: jp6m9A6A\n________________________________\nFor organizers: Meeting options\n________________________________________________________________________________\n________________________________\nNew .gov Email Address Alert! The City of Lakewood has transitioned to a .gov domain for our website and emails. Please note my new email address and update your files accordingly. Visit LakewoodCO.gov to learn more about the benefits of this transition.
URL:https://www.colorado-stormwater-council.org/event/csc-construction-committee-meeting-16/
LOCATION:Microsoft Teams Meeting
ORGANIZER;CN="kanderson@lakewood.org":MAILTO:kanderson@lakewood.org
END:VEVENT
BEGIN:VEVENT
DTSTART;TZID=America/Denver:20260514T093000
DTEND;TZID=America/Denver:20260514T103000
DTSTAMP:20260420T171823
CREATED:20251113T193820Z
LAST-MODIFIED:20260420T142032Z
UID:10000453-1778751000-1778754600@www.colorado-stormwater-council.org
SUMMARY:CSC MuniOps Committee Meeting
DESCRIPTION:Agenda to sent prior to the meetings\n________________________________________________________________________________\nMicrosoft Teams meeting\nJoin: https://teams.microsoft.com/meet/28693995275487?p=qspeBZxqPdlrtJXsPx\nMeeting ID: 286 939 952 754 87\nPasscode: y6QP2kR2\n________________________________\nNeed help? | System reference\nDial in by phone\n+1 720-400-7859\,\,724603512# United States\, Aurora\nFind a local number\nPhone conference ID: 724 603 512#\nFor organizers: Meeting options | Reset dial-in PIN\n________________________________________________________________________________
URL:https://www.colorado-stormwater-council.org/event/csc-muniops-committee-meeting-3/
LOCATION:Microsoft Teams Meeting
ORGANIZER;CN="jkeyes@bouldercounty.gov":MAILTO:jkeyes@bouldercounty.gov
END:VEVENT
BEGIN:VEVENT
DTSTART;TZID=America/Denver:20260519T143000
DTEND;TZID=America/Denver:20260519T153000
DTSTAMP:20260420T171823
CREATED:20260120T170619Z
LAST-MODIFIED:20260420T142032Z
UID:10000561-1779201000-1779204600@www.colorado-stormwater-council.org
SUMMARY:CSIC - Office Hours
DESCRIPTION:The Colorado Stormwater Infrastructure Catalog (CSIC) is a web-based platform hosted on the Environmental Resource Assessment and Management System (eRAMS). Developed by Colorado State University’s One Water Solutions Institute for the Colorado Stormwater Council (CSC)\, the CSIC centralizes and shares stormwater infrastructure data among CSC members.\nJoin Colorado State University’s monthly office hours for any support questions or needs related to the CSIC.\n________________________________________________________________________________\nMicrosoft Teams Need help?\nJoin the meeting now\nMeeting ID: 276 399 998 451\nPasscode: FS6Dd99C\n________________________________\nDial in by phone\n+1 970-628-0547\,\,864257679# United States\, Grand Junction\nFind a local number\nPhone conference ID: 864 257 679#\nFor organizers: Meeting options | Reset dial-in PIN\n________________________________________________________________________________
URL:https://www.colorado-stormwater-council.org/event/csic-office-hours-6/
LOCATION:Microsoft Teams Meeting
ORGANIZER;CN="judah.gaioni@colostate.edu":MAILTO:judah.gaioni@colostate.edu
END:VEVENT
BEGIN:VEVENT
DTSTART;TZID=America/Denver:20260521T100000
DTEND;TZID=America/Denver:20260521T113000
DTSTAMP:20260420T171823
CREATED:20260107T152238Z
LAST-MODIFIED:20260420T142033Z
UID:10000470-1779357600-1779363000@www.colorado-stormwater-council.org
SUMMARY:CSC Admin Committee Meeting
DESCRIPTION:________________________________________________________________________________\nMicrosoft Teams Need help?\nJoin the meeting now\nMeeting ID: 262 002 431 067 8\nPasscode: Pv3Cd36k\n________________________________\nDial in by phone\n+1 720-739-8152\,\,186197305# United States\, Denver\nFind a local number\nPhone conference ID: 186 197 305#\nFor organizers: Meeting options | Reset dial-in PIN\n________________________________________________________________________________
URL:https://www.colorado-stormwater-council.org/event/csc-admin-committee-meeting-5/
LOCATION:Microsoft Teams Meeting
ORGANIZER;CN="jsouth@westminsterco.gov":MAILTO:jsouth@westminsterco.gov
END:VEVENT
BEGIN:VEVENT
DTSTART;TZID=America/Denver:20260527T120000
DTEND;TZID=America/Denver:20260527T130000
DTSTAMP:20260420T171823
CREATED:20260124T172123Z
LAST-MODIFIED:20260420T142033Z
UID:10000584-1779883200-1779886800@www.colorado-stormwater-council.org
SUMMARY:WQF MS4 Quarterly Meeting
DESCRIPTION:Mile high Flood District\n12575 W. Bayaud Ave.\n Lakewood\, CO 80228\n________________________________________________________________________________\nMicrosoft Teams Need help?\nJoin the meeting now\nMeeting ID: 225 433 720 220 83\nPasscode: Go7p9ud6\n________________________________\nDial in by phone\n+1 720-464-1105\,\,505188138# United States\, Denver\nFind a local number\nPhone conference ID: 505 188 138#\nFor organizers: Meeting options | Reset dial-in PIN\n________________________________________________________________________________
URL:https://www.colorado-stormwater-council.org/event/wqf-ms4-quarterly-meeting-8/
LOCATION:MHFD Training Room; Mile High Flood District – 12575 W. Bayaud Ave. Lakewood\, CO 80228\, MHFD Training Room
ORGANIZER;CN="cowen@mhfd.org":MAILTO:cowen@mhfd.org
END:VEVENT
END:VCALENDAR