BEGIN:VCALENDAR
VERSION:2.0
PRODID:-//Colorado Stormwater Council - ECPv6.15.17.1//NONSGML v1.0//EN
CALSCALE:GREGORIAN
METHOD:PUBLISH
X-WR-CALNAME:Colorado Stormwater Council
X-ORIGINAL-URL:https://www.colorado-stormwater-council.org
X-WR-CALDESC:Events for Colorado Stormwater Council
REFRESH-INTERVAL;VALUE=DURATION:PT1H
X-Robots-Tag:noindex
X-PUBLISHED-TTL:PT1H
BEGIN:VTIMEZONE
TZID:America/Denver
BEGIN:DAYLIGHT
TZOFFSETFROM:-0700
TZOFFSETTO:-0600
TZNAME:MDT
DTSTART:20240310T090000
END:DAYLIGHT
BEGIN:STANDARD
TZOFFSETFROM:-0600
TZOFFSETTO:-0700
TZNAME:MST
DTSTART:20241103T080000
END:STANDARD
BEGIN:DAYLIGHT
TZOFFSETFROM:-0700
TZOFFSETTO:-0600
TZNAME:MDT
DTSTART:20250309T090000
END:DAYLIGHT
BEGIN:STANDARD
TZOFFSETFROM:-0600
TZOFFSETTO:-0700
TZNAME:MST
DTSTART:20251102T080000
END:STANDARD
BEGIN:DAYLIGHT
TZOFFSETFROM:-0700
TZOFFSETTO:-0600
TZNAME:MDT
DTSTART:20260308T090000
END:DAYLIGHT
BEGIN:STANDARD
TZOFFSETFROM:-0600
TZOFFSETTO:-0700
TZNAME:MST
DTSTART:20261101T080000
END:STANDARD
END:VTIMEZONE
BEGIN:VTIMEZONE
TZID:America/Los_Angeles
BEGIN:DAYLIGHT
TZOFFSETFROM:-0800
TZOFFSETTO:-0700
TZNAME:PDT
DTSTART:20240310T100000
END:DAYLIGHT
BEGIN:STANDARD
TZOFFSETFROM:-0700
TZOFFSETTO:-0800
TZNAME:PST
DTSTART:20241103T090000
END:STANDARD
BEGIN:DAYLIGHT
TZOFFSETFROM:-0800
TZOFFSETTO:-0700
TZNAME:PDT
DTSTART:20250309T100000
END:DAYLIGHT
BEGIN:STANDARD
TZOFFSETFROM:-0700
TZOFFSETTO:-0800
TZNAME:PST
DTSTART:20251102T090000
END:STANDARD
BEGIN:DAYLIGHT
TZOFFSETFROM:-0800
TZOFFSETTO:-0700
TZNAME:PDT
DTSTART:20260308T100000
END:DAYLIGHT
BEGIN:STANDARD
TZOFFSETFROM:-0700
TZOFFSETTO:-0800
TZNAME:PST
DTSTART:20261101T090000
END:STANDARD
END:VTIMEZONE
BEGIN:VEVENT
DTSTART;TZID=America/Denver:20250528T093000
DTEND;TZID=America/Denver:20250528T110000
DTSTAMP:20260421T141726
CREATED:20250429T152854Z
LAST-MODIFIED:20250528T152051Z
UID:10000233-1748424600-1748430000@www.colorado-stormwater-council.org
SUMMARY:CSC General Membership Online
DESCRIPTION:________________________________________________________________________________\nMicrosoft Teams Need help?\nJoin the meeting now\nMeeting ID: 266 319 718 643\nPasscode: 9PB3V5Ny\n________________________________\nFor organizers: Meeting options\n________________________________________________________________________________
URL:https://www.colorado-stormwater-council.org/event/csc-general-membership-online/
LOCATION:Microsoft Teams Meeting
ORGANIZER;CN="vsantistevan@fedheights.org":MAILTO:vsantistevan@fedheights.org
END:VEVENT
BEGIN:VEVENT
DTSTART;TZID=America/Denver:20250528T113000
DTEND;TZID=America/Denver:20250528T130000
DTSTAMP:20260421T141726
CREATED:20250429T152855Z
LAST-MODIFIED:20250528T152051Z
UID:10000234-1748431800-1748437200@www.colorado-stormwater-council.org
SUMMARY:Makeup MS4 Meeting - Virtual
DESCRIPTION:Click here to join the meeting\nMeeting ID: 211 915 072 146\nPasscode: R3AMBL\n+1 720-464-1105\,\,883802920# United States\, Denver\nPhone Conference ID: 883 802 920#
URL:https://www.colorado-stormwater-council.org/event/makeup-ms4-meeting-virtual/
LOCATION:virtual
ORGANIZER;CN="hpiza@mhfd.org":MAILTO:hpiza@mhfd.org
END:VEVENT
BEGIN:VEVENT
DTSTART;TZID=America/Los_Angeles:20250529T073000
DTEND;TZID=America/Los_Angeles:20250529T160000
DTSTAMP:20260421T141726
CREATED:20250326T124840Z
LAST-MODIFIED:20250522T194441Z
UID:10000104-1748503800-1748534400@www.colorado-stormwater-council.org
SUMMARY:Dewatering Training
DESCRIPTION:Welcome to CSC Dewatering 8-hour Training. We are excited to have Aquaterra Environmental host this training. \nTopics to be covered: \n\nWhat are the permits associated with working in waterways?\nWhat is the permit overlap and how do you maintain compliance with all of the permits?\nHow do you properly engage in construction dewatering?\nWhat are the key points of setup and compliance?\n\nAnd many more! \nThis training will be hosted online and the link will be sent out from Aquaterra Environmental one week before the training date. \nThis training will be recorded and made available as a self-paced online module after the instructor-led training has been held. \nPlease only register yourself. Each participant needs a website user to take the quiz and get a certificate issued. \nIf other staff need website access to register\, please email Jake South with a list of name(s) and associated email address(es).
URL:https://www.colorado-stormwater-council.org/event/dewatering-training/
LOCATION:CSC Online
CATEGORIES:Training
ATTACH;FMTTYPE=image/png:https://www.colorado-stormwater-council.org/wp-content/uploads/dewatering-banner.png
END:VEVENT
END:VCALENDAR