BEGIN:VCALENDAR
VERSION:2.0
PRODID:-//Colorado Stormwater Council - ECPv6.15.17.1//NONSGML v1.0//EN
CALSCALE:GREGORIAN
METHOD:PUBLISH
X-WR-CALNAME:Colorado Stormwater Council
X-ORIGINAL-URL:https://www.colorado-stormwater-council.org
X-WR-CALDESC:Events for Colorado Stormwater Council
REFRESH-INTERVAL;VALUE=DURATION:PT1H
X-Robots-Tag:noindex
X-PUBLISHED-TTL:PT1H
BEGIN:VTIMEZONE
TZID:America/Denver
BEGIN:DAYLIGHT
TZOFFSETFROM:-0700
TZOFFSETTO:-0600
TZNAME:MDT
DTSTART:20240310T090000
END:DAYLIGHT
BEGIN:STANDARD
TZOFFSETFROM:-0600
TZOFFSETTO:-0700
TZNAME:MST
DTSTART:20241103T080000
END:STANDARD
BEGIN:DAYLIGHT
TZOFFSETFROM:-0700
TZOFFSETTO:-0600
TZNAME:MDT
DTSTART:20250309T090000
END:DAYLIGHT
BEGIN:STANDARD
TZOFFSETFROM:-0600
TZOFFSETTO:-0700
TZNAME:MST
DTSTART:20251102T080000
END:STANDARD
BEGIN:DAYLIGHT
TZOFFSETFROM:-0700
TZOFFSETTO:-0600
TZNAME:MDT
DTSTART:20260308T090000
END:DAYLIGHT
BEGIN:STANDARD
TZOFFSETFROM:-0600
TZOFFSETTO:-0700
TZNAME:MST
DTSTART:20261101T080000
END:STANDARD
END:VTIMEZONE
BEGIN:VTIMEZONE
TZID:America/Denver
BEGIN:DAYLIGHT
TZOFFSETFROM:-0700
TZOFFSETTO:-0600
TZNAME:MDT
DTSTART:20240310T090000
END:DAYLIGHT
BEGIN:STANDARD
TZOFFSETFROM:-0600
TZOFFSETTO:-0700
TZNAME:MST
DTSTART:20241103T080000
END:STANDARD
BEGIN:DAYLIGHT
TZOFFSETFROM:-0700
TZOFFSETTO:-0600
TZNAME:MDT
DTSTART:20250309T090000
END:DAYLIGHT
BEGIN:STANDARD
TZOFFSETFROM:-0600
TZOFFSETTO:-0700
TZNAME:MST
DTSTART:20251102T080000
END:STANDARD
BEGIN:DAYLIGHT
TZOFFSETFROM:-0700
TZOFFSETTO:-0600
TZNAME:MDT
DTSTART:20260308T090000
END:DAYLIGHT
BEGIN:STANDARD
TZOFFSETFROM:-0600
TZOFFSETTO:-0700
TZNAME:MST
DTSTART:20261101T080000
END:STANDARD
END:VTIMEZONE
BEGIN:VEVENT
DTSTART;TZID=America/Denver:20250609T110000
DTEND;TZID=America/Denver:20250609T120000
DTSTAMP:20260421T111108
CREATED:20250429T152855Z
LAST-MODIFIED:20250609T170520Z
UID:10000237-1749466800-1749470400@www.colorado-stormwater-council.org
SUMMARY:E&O Meeting
DESCRIPTION:________________________________________________________________________________\nMicrosoft Teams Need help?\nJoin the meeting now\nMeeting ID: 258 638 849 591\nPasscode: 6MU7wM\n________________________________\nFor organizers: Meeting options\n________________________________________________________________________________
URL:https://www.colorado-stormwater-council.org/event/eo-meeting-2/
LOCATION:Microsoft Teams Meeting
ORGANIZER;CN="rwertz@firestoneco.gov":MAILTO:rwertz@firestoneco.gov
END:VEVENT
BEGIN:VEVENT
DTSTART;TZID=America/Denver:20250609T110000
DTEND;TZID=America/Denver:20250609T120000
DTSTAMP:20260421T111108
CREATED:20250512T172016Z
LAST-MODIFIED:20250609T170519Z
UID:10000315-1749466800-1749470400@www.colorado-stormwater-council.org
SUMMARY:CSC E&O Subcommittee Mtg
DESCRIPTION:________________________________________________________________________________\nMicrosoft Teams Need help?\nJoin the meeting now\nMeeting ID: 228 203 287 051 4\nPasscode: bY73Zv3Q\n________________________________\nFor organizers: Meeting options\n________________________________________________________________________________
URL:https://www.colorado-stormwater-council.org/event/csc-eo-subcommittee-mtg/
LOCATION:Microsoft Teams Meeting
ORGANIZER;CN="erikey@lakewood.org":MAILTO:erikey@lakewood.org
END:VEVENT
BEGIN:VEVENT
DTSTART;TZID=America/Denver:20250610T090000
DTEND;TZID=America/Denver:20250610T130000
DTSTAMP:20260421T111108
CREATED:20250407T192009Z
LAST-MODIFIED:20250522T190336Z
UID:10000109-1749546000-1749560400@www.colorado-stormwater-council.org
SUMMARY:CDOT BMP Facility Field Trip
DESCRIPTION:Join us at CDOT’s innovative Tom Boyce Water Quality Training Facility! We will be exploring this unique facility that showcases control measures in action. BMPs are set up in areas throughout the facility each with a tank that controls water flow to the BMP so people can see what happens during a storm event. \nRequired Attire\nPlease wear close-toed shoes and bring a safety vest for this event. Hard hats are not required. We suggest bringing an extra layer and rain jacket just in case\, we will be walking outside for a large part of this field trip. \nWaivers Required\nA waiver is also required. Please fill out the waivers below and email them to Jason Kidston. Download and fill out in Acrobat or Bluebeam to complete the forms and sign digitally. (Opening PDF’s in browsers does not allow for digital signatures.) \n\nCDOT Water Quality Class 2 Facility Safety Form\nCDOT BMP Facility Release of Liability Form\n\nDirections\nThe Tom Boyce Water Quality Training Facility is in the back of the KOA property. The KOA facility is located at 18500 E. Colfax Ave\, Aurora\, CO 80011. \n\nIf traveling East on Colfax Ave\, make a right on Tower Road.\nIf traveling West on Colfax Ave\, make a left on Tower Road\nIf traveling South on Tower Road\, proceed straight at the intersection of Colfax Ave and Tower Road
URL:https://www.colorado-stormwater-council.org/event/cdot-bmp-facility-field-trip/
LOCATION:Tom Boyce Water Quality Training Facility\, 18500 E. Colfax Avenue\, Aurora\, CO\, 80011
CATEGORIES:Training
ATTACH;FMTTYPE=image/jpeg:https://www.colorado-stormwater-council.org/wp-content/uploads/New-Water-Quality-Facility-Picture-scaled.jpg
END:VEVENT
BEGIN:VEVENT
DTSTART;TZID=America/Denver:20250610T103000
DTEND;TZID=America/Denver:20250610T120000
DTSTAMP:20260421T111108
CREATED:20250515T173525Z
LAST-MODIFIED:20250610T172017Z
UID:10000341-1749551400-1749556800@www.colorado-stormwater-council.org
SUMMARY:CSC 303d Committee Meeting
DESCRIPTION:Starting our recurring meetings in June.  Agenda to come soon!\nJoin with Google Meet: https://meet.google.com/wnt-gtjj-spg\nOr dial: (US) +1 347-440-1952 PIN: 270063258#\nMore phone numbers: https://tel.meet/wnt-gtjj-spg?pin=8229376317756&hs=7\nLearn more about Meet at: https://support.google.com/a/users/answer/9282720
URL:https://www.colorado-stormwater-council.org/event/csc-303d-committee-meeting/
ORGANIZER;CN="jmoyer@arvada.org":MAILTO:jmoyer@arvada.org
END:VEVENT
END:VCALENDAR