BEGIN:VCALENDAR
VERSION:2.0
PRODID:-//Colorado Stormwater Council - ECPv6.15.17.1//NONSGML v1.0//EN
CALSCALE:GREGORIAN
METHOD:PUBLISH
X-ORIGINAL-URL:https://www.colorado-stormwater-council.org
X-WR-CALDESC:Events for Colorado Stormwater Council
REFRESH-INTERVAL;VALUE=DURATION:PT1H
X-Robots-Tag:noindex
X-PUBLISHED-TTL:PT1H
BEGIN:VTIMEZONE
TZID:America/Los_Angeles
BEGIN:DAYLIGHT
TZOFFSETFROM:-0800
TZOFFSETTO:-0700
TZNAME:PDT
DTSTART:20240310T100000
END:DAYLIGHT
BEGIN:STANDARD
TZOFFSETFROM:-0700
TZOFFSETTO:-0800
TZNAME:PST
DTSTART:20241103T090000
END:STANDARD
BEGIN:DAYLIGHT
TZOFFSETFROM:-0800
TZOFFSETTO:-0700
TZNAME:PDT
DTSTART:20250309T100000
END:DAYLIGHT
BEGIN:STANDARD
TZOFFSETFROM:-0700
TZOFFSETTO:-0800
TZNAME:PST
DTSTART:20251102T090000
END:STANDARD
BEGIN:DAYLIGHT
TZOFFSETFROM:-0800
TZOFFSETTO:-0700
TZNAME:PDT
DTSTART:20260308T100000
END:DAYLIGHT
BEGIN:STANDARD
TZOFFSETFROM:-0700
TZOFFSETTO:-0800
TZNAME:PST
DTSTART:20261101T090000
END:STANDARD
END:VTIMEZONE
BEGIN:VTIMEZONE
TZID:America/Denver
BEGIN:DAYLIGHT
TZOFFSETFROM:-0700
TZOFFSETTO:-0600
TZNAME:MDT
DTSTART:20240310T090000
END:DAYLIGHT
BEGIN:STANDARD
TZOFFSETFROM:-0600
TZOFFSETTO:-0700
TZNAME:MST
DTSTART:20241103T080000
END:STANDARD
BEGIN:DAYLIGHT
TZOFFSETFROM:-0700
TZOFFSETTO:-0600
TZNAME:MDT
DTSTART:20250309T090000
END:DAYLIGHT
BEGIN:STANDARD
TZOFFSETFROM:-0600
TZOFFSETTO:-0700
TZNAME:MST
DTSTART:20251102T080000
END:STANDARD
BEGIN:DAYLIGHT
TZOFFSETFROM:-0700
TZOFFSETTO:-0600
TZNAME:MDT
DTSTART:20260308T090000
END:DAYLIGHT
BEGIN:STANDARD
TZOFFSETFROM:-0600
TZOFFSETTO:-0700
TZNAME:MST
DTSTART:20261101T080000
END:STANDARD
END:VTIMEZONE
BEGIN:VEVENT
DTSTART;TZID=America/Los_Angeles:20250916T073000
DTEND;TZID=America/Los_Angeles:20250916T120000
DTSTAMP:20260421T034942
CREATED:20250326T144625Z
LAST-MODIFIED:20250517T005301Z
UID:10000106-1758007800-1758024000@www.colorado-stormwater-council.org
SUMMARY:CIP Training
DESCRIPTION:This course is designed to provide the student with basic knowledge and skills while maintaining capital improvement projects. This is a great introduction to stormwater compliance for internal staff managing stormwater compliance on CIP projects. \nThis training will be hosted online and the link will be sent out from Aquaterra Environmental one week before the training date. \nThis training will be recorded and made available as a self-paced online module after the instructor-led training has been held. \nPlease only register yourself. Each participant needs a website user to take the quiz and get a certificate issued. \nIf other staff need website access to register\, please email Jake South with a list of name(s) and associated email address(es).
URL:https://www.colorado-stormwater-council.org/event/cip-training/
LOCATION:CSC Online
CATEGORIES:Training
ATTACH;FMTTYPE=image/png:https://www.colorado-stormwater-council.org/wp-content/uploads/2024/09/Construction-Banner-330.png
END:VEVENT
BEGIN:VEVENT
DTSTART;TZID=America/Denver:20250916T104500
DTEND;TZID=America/Denver:20250916T120000
DTSTAMP:20260421T034942
CREATED:20250429T152856Z
LAST-MODIFIED:20250909T190524Z
UID:10000256-1758019500-1758024000@www.colorado-stormwater-council.org
SUMMARY:CSC Post-Construction Committee Meeting
DESCRIPTION:────────── \nSpencer Myrlie is inviting you to a scheduled Zoom meeting.Join Zoom Meetinghttps://larimer-org.zoom.us/j/95311691769?pwd=60pXpU95iSzFcCgTUeMyaNSdSmktmX.1 \nMeeting ID: 953 1169 1769Passcode: 971040 \n— \nOne tap mobile+19292056099\,\,95311691769# US (New York)+12532050468\,\,95311691769# US \n— \nDial by your location• +1 929 205 6099 US (New York)• +1 253 205 0468 US• +1 253 215 8782 US (Tacoma)• +1 301 715 8592 US (Washington DC)• +1 305 224 1968 US• +1 309 205 3325 US• +1 312 626 6799 US (Chicago)• +1 346 248 7799 US (Houston)• +1 360 209 5623 US• +1 386 347 5053 US• +1 507 473 4847 US• +1 564 217 2000 US• +1 646 931 3860 US• +1 669 444 9171 US• +1 669 900 6833 US (San Jose)• +1 689 278 1000 US• +1 719 359 4580 US \nMeeting ID: 953 1169 1769 \nFind your local number: https://larimer-org.zoom.us/u/abjOCkgYA3 \n— \nJoin by SIP• 95311691769@zoomcrc.com \n— \nJoin by H.323• 144.195.19.161 (US West)• 206.247.11.121 (US East)• 115.114.131.7 (India Mumbai)• 115.114.115.7 (India Hyderabad)• 159.124.15.191 (Amsterdam Netherlands)• 159.124.47.249 (Germany)• 159.124.104.213 (Australia Sydney)• 159.124.74.212 (Australia Melbourne)• 170.114.180.219 (Singapore)• 64.211.144.160 (Brazil)• 159.124.132.243 (Mexico)• 159.124.168.213 (Canada Toronto)• 159.124.196.25 (Canada Vancouver)• 170.114.194.163 (Japan Tokyo)• 147.124.100.25 (Japan Osaka) \nMeeting ID: 953 1169 1769Passcode: 971040 \n──────────
URL:https://www.colorado-stormwater-council.org/event/csc-post-construction-committee-meeting-5/
LOCATION:https://larimer-org.zoom.us/j/95311691769?pwd=60pXpU95iSzFcCgTUeMyaNSdSmktmX.1&jst=3
ORGANIZER;CN="myrliesk@co.larimer.co.us":MAILTO:myrliesk@co.larimer.co.us
END:VEVENT
BEGIN:VEVENT
DTSTART;TZID=America/Denver:20250917T093000
DTEND;TZID=America/Denver:20250917T110000
DTSTAMP:20260421T034942
CREATED:20250827T165038Z
LAST-MODIFIED:20251118T200551Z
UID:10000412-1758101400-1758106800@www.colorado-stormwater-council.org
SUMMARY:CSC General Membership Holiday at MHFD
DESCRIPTION:________________________________________________________________________________\nMicrosoft Teams Need help?\nJoin the meeting now\nMeeting ID: 266 319 718 643\nPasscode: 9PB3V5Ny\n________________________________\nFor organizers: Meeting options\n________________________________________________________________________________
URL:https://www.colorado-stormwater-council.org/event/csc-general-membership-online-5/
LOCATION:Microsoft Teams Meeting
ORGANIZER;CN="vsantistevan@fedheights.org":MAILTO:vsantistevan@fedheights.org
END:VEVENT
BEGIN:VEVENT
DTSTART;TZID=America/Denver:20250918T100000
DTEND;TZID=America/Denver:20250918T113000
DTSTAMP:20260421T034942
CREATED:20250515T173615Z
LAST-MODIFIED:20250910T190712Z
UID:10000345-1758189600-1758195000@www.colorado-stormwater-council.org
SUMMARY:CSC Admin Committee
DESCRIPTION:Sorry\, need to move it back to 10:30 so it doesn’t conflict with the muni opps meeting\n________________________________________________________________________________\nMicrosoft Teams Need help?\nJoin the meeting now\nMeeting ID: 283 184 708 895\nPasscode: Pp98zV9u\n________________________________\nFor organizers: Meeting options\n________________________________________________________________________________
URL:https://www.colorado-stormwater-council.org/event/csc-admin-committee-4/
LOCATION:Microsoft Teams Meeting
ORGANIZER;CN="vsantistevan@fedheights.org":MAILTO:vsantistevan@fedheights.org
END:VEVENT
END:VCALENDAR