BEGIN:VCALENDAR
VERSION:2.0
PRODID:-//Colorado Stormwater Council - ECPv6.15.17.1//NONSGML v1.0//EN
CALSCALE:GREGORIAN
METHOD:PUBLISH
X-WR-CALNAME:Colorado Stormwater Council
X-ORIGINAL-URL:https://www.colorado-stormwater-council.org
X-WR-CALDESC:Events for Colorado Stormwater Council
REFRESH-INTERVAL;VALUE=DURATION:PT1H
X-Robots-Tag:noindex
X-PUBLISHED-TTL:PT1H
BEGIN:VTIMEZONE
TZID:America/Denver
BEGIN:DAYLIGHT
TZOFFSETFROM:-0700
TZOFFSETTO:-0600
TZNAME:MDT
DTSTART:20240310T090000
END:DAYLIGHT
BEGIN:STANDARD
TZOFFSETFROM:-0600
TZOFFSETTO:-0700
TZNAME:MST
DTSTART:20241103T080000
END:STANDARD
BEGIN:DAYLIGHT
TZOFFSETFROM:-0700
TZOFFSETTO:-0600
TZNAME:MDT
DTSTART:20250309T090000
END:DAYLIGHT
BEGIN:STANDARD
TZOFFSETFROM:-0600
TZOFFSETTO:-0700
TZNAME:MST
DTSTART:20251102T080000
END:STANDARD
BEGIN:DAYLIGHT
TZOFFSETFROM:-0700
TZOFFSETTO:-0600
TZNAME:MDT
DTSTART:20260308T090000
END:DAYLIGHT
BEGIN:STANDARD
TZOFFSETFROM:-0600
TZOFFSETTO:-0700
TZNAME:MST
DTSTART:20261101T080000
END:STANDARD
END:VTIMEZONE
BEGIN:VEVENT
DTSTART;VALUE=DATE:20251007
DTEND;VALUE=DATE:20251009
DTSTAMP:20260421T132022
CREATED:20250429T152857Z
LAST-MODIFIED:20251007T235220Z
UID:10000260-1759795200-1759967999@www.colorado-stormwater-council.org
SUMMARY:Colorado Stormwater Center SCM Design and Review Certification Training
DESCRIPTION:Register Now: https://civil-enviro-eng-colostate.nbsstore.net/scm-design-review-certification-course-october\nThe Colorado Stormwater Center offers a two-day workshop on Stormwater Control Measures Design and Review. This course provides and in-depth training on how stormwater control measures are designed and critically reviewed.\nThe Center reserves the right to cancel the course at least 7 days prior to the event if the minimum participant number is not met. Cancellation requests must be made in writing and received by the Center no later than seven (7) days before the date of the training in order to receive a refund (less a $30 cancellation fee).  No refunds will be issued after this date.
URL:https://www.colorado-stormwater-council.org/event/colorado-stormwater-center-scm-design-and-review-certification-training/
ORGANIZER;CN="morgan.stout@colostate.edu":MAILTO:morgan.stout@colostate.edu
END:VEVENT
BEGIN:VEVENT
DTSTART;TZID=America/Denver:20251007T100000
DTEND;TZID=America/Denver:20251007T113000
DTSTAMP:20260421T132022
CREATED:20250429T152857Z
LAST-MODIFIED:20251006T233530Z
UID:10000259-1759831200-1759836600@www.colorado-stormwater-council.org
SUMMARY:FW: CSC Permit Compliance Committee
DESCRIPTION:—–Original Appointment—–\nFrom: Joseph Marencik\nSent: Thursday\, January 2\, 2025 4:28 PM\nTo: Joseph Marencik; Permit Compliance Committee; events@colorado-stormwater-council.org\nCc: Chandler\, Trevor; James Linden; Keyes\, Jennifer; South\, Jake; Begert Bonnie; Wanda DeVargas; Rebecca Wertz; Erica Rylander\nSubject: CSC Permit Compliance Committee\nWhen: Tuesday\, October 7\, 2025 10:00 AM-11:30 AM (UTC-07:00) Mountain Time (US & Canada).\nWhere: Microsoft Teams Meeting\nMonthly PCC meeting\n________________________________________________________________________________\nMicrosoft Teams Need help?\nJoin the meeting now\nMeeting ID: 212 641 613 579\nPasscode: Rg3Uc6QK\n________________________________\nFor organizers: Meeting options\n________________________________________________________________________________
URL:https://www.colorado-stormwater-council.org/event/fw-csc-permit-compliance-committee-6/
LOCATION:Microsoft Teams Meeting
ORGANIZER;CN="joseph.marencik@castlepinesco.gov":MAILTO:joseph.marencik@castlepinesco.gov
END:VEVENT
END:VCALENDAR