BEGIN:VCALENDAR
VERSION:2.0
PRODID:-//Colorado Stormwater Council - ECPv6.15.17.1//NONSGML v1.0//EN
CALSCALE:GREGORIAN
METHOD:PUBLISH
X-ORIGINAL-URL:https://www.colorado-stormwater-council.org
X-WR-CALDESC:Events for Colorado Stormwater Council
REFRESH-INTERVAL;VALUE=DURATION:PT1H
X-Robots-Tag:noindex
X-PUBLISHED-TTL:PT1H
BEGIN:VTIMEZONE
TZID:America/Denver
BEGIN:DAYLIGHT
TZOFFSETFROM:-0700
TZOFFSETTO:-0600
TZNAME:MDT
DTSTART:20240310T090000
END:DAYLIGHT
BEGIN:STANDARD
TZOFFSETFROM:-0600
TZOFFSETTO:-0700
TZNAME:MST
DTSTART:20241103T080000
END:STANDARD
BEGIN:DAYLIGHT
TZOFFSETFROM:-0700
TZOFFSETTO:-0600
TZNAME:MDT
DTSTART:20250309T090000
END:DAYLIGHT
BEGIN:STANDARD
TZOFFSETFROM:-0600
TZOFFSETTO:-0700
TZNAME:MST
DTSTART:20251102T080000
END:STANDARD
BEGIN:DAYLIGHT
TZOFFSETFROM:-0700
TZOFFSETTO:-0600
TZNAME:MDT
DTSTART:20260308T090000
END:DAYLIGHT
BEGIN:STANDARD
TZOFFSETFROM:-0600
TZOFFSETTO:-0700
TZNAME:MST
DTSTART:20261101T080000
END:STANDARD
END:VTIMEZONE
BEGIN:VEVENT
DTSTART;TZID=America/Denver:20251104T100000
DTEND;TZID=America/Denver:20251104T113000
DTSTAMP:20260421T101538
CREATED:20250429T152857Z
LAST-MODIFIED:20251104T180532Z
UID:10000264-1762250400-1762255800@www.colorado-stormwater-council.org
SUMMARY:CSC Permit Compliance Committee
DESCRIPTION:Here is the agenda for this morning’s meeting.\n-joe\n________________________________________________________________________________\nMicrosoft Teams Need help?\nJoin the meeting now\nMeeting ID: 212 641 613 579\nPasscode: Rg3Uc6QK\n________________________________\nFor organizers: Meeting options\n________________________________________________________________________________
URL:https://www.colorado-stormwater-council.org/event/fw-csc-permit-compliance-committee-7/
LOCATION:Microsoft Teams Meeting
ORGANIZER;CN="joseph.marencik@castlepinesco.gov":MAILTO:joseph.marencik@castlepinesco.gov
END:VEVENT
END:VCALENDAR