BEGIN:VCALENDAR
VERSION:2.0
PRODID:-//Colorado Stormwater Council - ECPv6.15.17.1//NONSGML v1.0//EN
CALSCALE:GREGORIAN
METHOD:PUBLISH
X-WR-CALNAME:Colorado Stormwater Council
X-ORIGINAL-URL:https://www.colorado-stormwater-council.org
X-WR-CALDESC:Events for Colorado Stormwater Council
REFRESH-INTERVAL;VALUE=DURATION:PT1H
X-Robots-Tag:noindex
X-PUBLISHED-TTL:PT1H
BEGIN:VTIMEZONE
TZID:America/Denver
BEGIN:DAYLIGHT
TZOFFSETFROM:-0700
TZOFFSETTO:-0600
TZNAME:MDT
DTSTART:20240310T090000
END:DAYLIGHT
BEGIN:STANDARD
TZOFFSETFROM:-0600
TZOFFSETTO:-0700
TZNAME:MST
DTSTART:20241103T080000
END:STANDARD
BEGIN:DAYLIGHT
TZOFFSETFROM:-0700
TZOFFSETTO:-0600
TZNAME:MDT
DTSTART:20250309T090000
END:DAYLIGHT
BEGIN:STANDARD
TZOFFSETFROM:-0600
TZOFFSETTO:-0700
TZNAME:MST
DTSTART:20251102T080000
END:STANDARD
BEGIN:DAYLIGHT
TZOFFSETFROM:-0700
TZOFFSETTO:-0600
TZNAME:MDT
DTSTART:20260308T090000
END:DAYLIGHT
BEGIN:STANDARD
TZOFFSETFROM:-0600
TZOFFSETTO:-0700
TZNAME:MST
DTSTART:20261101T080000
END:STANDARD
END:VTIMEZONE
BEGIN:VEVENT
DTSTART;TZID=America/Denver:20251119T093000
DTEND;TZID=America/Denver:20251119T110000
DTSTAMP:20260421T044805
CREATED:20250429T152858Z
LAST-MODIFIED:20250919T170648Z
UID:10000268-1763544600-1763550000@www.colorado-stormwater-council.org
SUMMARY:CSC General Membership Holiday at MHFD
DESCRIPTION:________________________________________________________________________________\nMicrosoft Teams Need help?\nJoin the meeting now\nMeeting ID: 266 319 718 643\nPasscode: 9PB3V5Ny\n________________________________\nFor organizers: Meeting options\n________________________________________________________________________________
URL:https://www.colorado-stormwater-council.org/event/csc-general-membership-holiday-at-mhfd/
LOCATION:Mile High Flood District. (12575 W Bayaud Ave\, Lakewood\, CO  80228)
ORGANIZER;CN="vsantistevan@fedheights.org":MAILTO:vsantistevan@fedheights.org
END:VEVENT
BEGIN:VEVENT
DTSTART;TZID=America/Denver:20251120T100000
DTEND;TZID=America/Denver:20251120T113000
DTSTAMP:20260421T044805
CREATED:20250515T173633Z
LAST-MODIFIED:20251112T192042Z
UID:10000347-1763632800-1763638200@www.colorado-stormwater-council.org
SUMMARY:CSC Admin Committee
DESCRIPTION:________________________________________________________________________________\nMicrosoft Teams Need help?\nJoin the meeting now\nMeeting ID: 283 184 708 895\nPasscode: Pp98zV9u\n________________________________\nFor organizers: Meeting options\n________________________________________________________________________________
URL:https://www.colorado-stormwater-council.org/event/csc-admin-committee-6/
LOCATION:Microsoft Teams Meeting
ORGANIZER;CN="vsantistevan@fedheights.org":MAILTO:vsantistevan@fedheights.org
END:VEVENT
BEGIN:VEVENT
DTSTART;TZID=America/Denver:20251121T110000
DTEND;TZID=America/Denver:20251121T120000
DTSTAMP:20260421T044805
CREATED:20251118T200551Z
LAST-MODIFIED:20251120T203529Z
UID:10000462-1763722800-1763726400@www.colorado-stormwater-council.org
SUMMARY:Webinar: CSIC Update – New Sign-In Process & Multi-User Management
DESCRIPTION:The Colorado Stormwater Infrastructure Catalog (CSIC) has been updated to allow multiple users to manage a single municipality’s dataset. Please join the software engineering team that built the Catalog as they walk contributing members through the new sign-in process and demonstrate the benefits of multi-user management.\n________________________________________________________________________________\nMicrosoft Teams Need help?\nJoin the meeting now\nMeeting ID: 228 576 839 217 84\nPasscode: r7nx39PD\n________________________________\nDial in by phone\n+1 970-628-0547\,\,667381546# United States\, Grand Junction\nFind a local number\nPhone conference ID: 667 381 546#\nFor organizers: Meeting options | Reset dial-in PIN\n________________________________________________________________________________
URL:https://www.colorado-stormwater-council.org/event/webinar-csic-update-new-sign-in-process-multi-user-management/
LOCATION:Microsoft Teams Meeting
ORGANIZER;CN="judah.gaioni@colostate.edu":MAILTO:judah.gaioni@colostate.edu
END:VEVENT
END:VCALENDAR