BEGIN:VCALENDAR
VERSION:2.0
PRODID:-//Colorado Stormwater Council - ECPv6.15.17.1//NONSGML v1.0//EN
CALSCALE:GREGORIAN
METHOD:PUBLISH
X-ORIGINAL-URL:https://www.colorado-stormwater-council.org
X-WR-CALDESC:Events for Colorado Stormwater Council
REFRESH-INTERVAL;VALUE=DURATION:PT1H
X-Robots-Tag:noindex
X-PUBLISHED-TTL:PT1H
BEGIN:VTIMEZONE
TZID:America/Denver
BEGIN:DAYLIGHT
TZOFFSETFROM:-0700
TZOFFSETTO:-0600
TZNAME:MDT
DTSTART:20250309T090000
END:DAYLIGHT
BEGIN:STANDARD
TZOFFSETFROM:-0600
TZOFFSETTO:-0700
TZNAME:MST
DTSTART:20251102T080000
END:STANDARD
BEGIN:DAYLIGHT
TZOFFSETFROM:-0700
TZOFFSETTO:-0600
TZNAME:MDT
DTSTART:20260308T090000
END:DAYLIGHT
BEGIN:STANDARD
TZOFFSETFROM:-0600
TZOFFSETTO:-0700
TZNAME:MST
DTSTART:20261101T080000
END:STANDARD
BEGIN:DAYLIGHT
TZOFFSETFROM:-0700
TZOFFSETTO:-0600
TZNAME:MDT
DTSTART:20270314T090000
END:DAYLIGHT
BEGIN:STANDARD
TZOFFSETFROM:-0600
TZOFFSETTO:-0700
TZNAME:MST
DTSTART:20271107T080000
END:STANDARD
END:VTIMEZONE
BEGIN:VEVENT
DTSTART;TZID=America/Denver:20260324T100000
DTEND;TZID=America/Denver:20260324T113000
DTSTAMP:20260420T212259
CREATED:20260209T210628Z
LAST-MODIFIED:20260323T190533Z
UID:10000592-1774346400-1774351800@www.colorado-stormwater-council.org
SUMMARY:CSC MHFD Coal Creek Superior Commons Field Tour
DESCRIPTION:Join us for a field tour of Coal Creek Superior Commons\, a partnership project with the Town of Superior and Mile High Flood District (MHFD)\nTopics and Stops\n  *   Project overview and light breakfast\n  *   Stream restoration\n  *   Permanent stormwater control measures (SCMs)\n  *   Floodplain protection and habitat improvement\n  *   Partnerships and collaboration with Engineering and Parks and Open Space project goals\nWhere: Meet at 10 AM March\, 24\, 2026 @ Superior Town Hall\, 124 E.Coal Creek Drive\, Superior\, CO 80027\nPlease feel free to forward to others!   Please accept meeting to get food count!!\nSponsored by:
URL:https://www.colorado-stormwater-council.org/event/csc-mhfd-superior-commons-field-tour/
LOCATION:124 E Coal Creek Dr (124 E Coal Creek Dr\, Superior\, Colorado  80027)
ORGANIZER;CN="jkeyes@bouldercounty.gov":MAILTO:jkeyes@bouldercounty.gov
END:VEVENT
BEGIN:VEVENT
DTSTART;TZID=America/Denver:20260326T080000
DTEND;TZID=America/Denver:20260326T160000
DTSTAMP:20260420T212259
CREATED:20260225T152416Z
LAST-MODIFIED:20260310T210805Z
UID:10000621-1774512000-1774540800@www.colorado-stormwater-council.org
SUMMARY:8hr MS4 Training
DESCRIPTION:This training is designed specifically for City\, County and Non-Standard MS4 personnel focusing compliance with MS4 construction site programs. Training will emphasize the scope of MS4 construction site inspections\, including the inspection process and documentation; the types of maintenance and deficiencies associated with control measures; and enforcement. The training will also focus on the importance of communication with the contractor/developer of the site as well as understanding specific aspects of the local MS4 program. \nRegistration opens 30 days before the training and will close 7 days before the training. Please only register yourself. \nAfter you have registered\, you will receive a confirmation for your RSVP so you can add it to your calendar. A few days before the training\, the trainer will send a link to the online training.
URL:https://www.colorado-stormwater-council.org/event/8hr-ms4-training/
END:VEVENT
END:VCALENDAR