BEGIN:VCALENDAR
VERSION:2.0
PRODID:-//Colorado Stormwater Council - ECPv6.15.17.1//NONSGML v1.0//EN
CALSCALE:GREGORIAN
METHOD:PUBLISH
X-WR-CALNAME:Colorado Stormwater Council
X-ORIGINAL-URL:https://www.colorado-stormwater-council.org
X-WR-CALDESC:Events for Colorado Stormwater Council
REFRESH-INTERVAL;VALUE=DURATION:PT1H
X-Robots-Tag:noindex
X-PUBLISHED-TTL:PT1H
BEGIN:VTIMEZONE
TZID:America/Denver
BEGIN:DAYLIGHT
TZOFFSETFROM:-0700
TZOFFSETTO:-0600
TZNAME:MDT
DTSTART:20250309T090000
END:DAYLIGHT
BEGIN:STANDARD
TZOFFSETFROM:-0600
TZOFFSETTO:-0700
TZNAME:MST
DTSTART:20251102T080000
END:STANDARD
BEGIN:DAYLIGHT
TZOFFSETFROM:-0700
TZOFFSETTO:-0600
TZNAME:MDT
DTSTART:20260308T090000
END:DAYLIGHT
BEGIN:STANDARD
TZOFFSETFROM:-0600
TZOFFSETTO:-0700
TZNAME:MST
DTSTART:20261101T080000
END:STANDARD
BEGIN:DAYLIGHT
TZOFFSETFROM:-0700
TZOFFSETTO:-0600
TZNAME:MDT
DTSTART:20270314T090000
END:DAYLIGHT
BEGIN:STANDARD
TZOFFSETFROM:-0600
TZOFFSETTO:-0700
TZNAME:MST
DTSTART:20271107T080000
END:STANDARD
END:VTIMEZONE
BEGIN:VEVENT
DTSTART;TZID=America/Denver:20260407T100000
DTEND;TZID=America/Denver:20260407T113000
DTSTAMP:20260420T212047
CREATED:20260109T153559Z
LAST-MODIFIED:20260406T212021Z
UID:10000505-1775556000-1775561400@www.colorado-stormwater-council.org
SUMMARY:CSC PCC meeting
DESCRIPTION:________________________________________________________________________________\nMicrosoft Teams Need help?\nJoin the meeting now\nMeeting ID: 231 822 312 162 2\nPasscode: TK6ry3a5\n________________________________\nFor organizers: Meeting options\n________________________________________________________________________________
URL:https://www.colorado-stormwater-council.org/event/csc-pcc-meeting-3/
LOCATION:Microsoft Teams Meeting
ORGANIZER;CN="joseph.marencik@castlepinesco.gov":MAILTO:joseph.marencik@castlepinesco.gov
END:VEVENT
BEGIN:VEVENT
DTSTART;TZID=America/Denver:20260408T110000
DTEND;TZID=America/Denver:20260408T120000
DTSTAMP:20260420T212047
CREATED:20260113T160627Z
LAST-MODIFIED:20260407T213512Z
UID:10000532-1775646000-1775649600@www.colorado-stormwater-council.org
SUMMARY:CSC Construction Committee Meeting
DESCRIPTION:________________________________________________________________________________\nMicrosoft Teams Need help?\nJoin the meeting now\nMeeting ID: 280 114 780 789 62\nPasscode: jp6m9A6A\n________________________________\nFor organizers: Meeting options\n________________________________________________________________________________\n________________________________\nNew .gov Email Address Alert! The City of Lakewood has transitioned to a .gov domain for our website and emails. Please note my new email address and update your files accordingly. Visit LakewoodCO.gov to learn more about the benefits of this transition.
URL:https://www.colorado-stormwater-council.org/event/csc-construction-committee-meeting-15/
LOCATION:Microsoft Teams Meeting
ORGANIZER;CN="kanderson@lakewood.org":MAILTO:kanderson@lakewood.org
END:VEVENT
BEGIN:VEVENT
DTSTART;TZID=America/Denver:20260409T093000
DTEND;TZID=America/Denver:20260409T103000
DTSTAMP:20260420T212047
CREATED:20260317T170621Z
LAST-MODIFIED:20260408T213616Z
UID:10000626-1775727000-1775730600@www.colorado-stormwater-council.org
SUMMARY:MuniOps Committee Meeting
DESCRIPTION:We will be reviewing the attached draft CSC Parks and Open Space Outline.  If you want a link to the shared document and did not receive the link\, please reach out and I can send it to you prior to our April meeting.  – Jenn\n________________________________________________________________________________\nMicrosoft Teams meeting\nJoin: https://teams.microsoft.com/meet/28339135068865?p=hRpXEehVSAiWe6pvLz\nMeeting ID: 283 391 350 688 65\nPasscode: bK2X42bf\n________________________________\nNeed help? | System reference\nDial in by phone\n+1 720-400-7859\,\,377912150# United States\, Aurora\nFind a local number\nPhone conference ID: 377 912 150#\nFor organizers: Meeting options | Reset dial-in PIN\n________________________________________________________________________________
URL:https://www.colorado-stormwater-council.org/event/muniops-committee-meeting/
LOCATION:Microsoft Teams Meeting
ORGANIZER;CN="jkeyes@bouldercounty.gov":MAILTO:jkeyes@bouldercounty.gov
END:VEVENT
END:VCALENDAR