BEGIN:VCALENDAR
VERSION:2.0
PRODID:-//Colorado Stormwater Council - ECPv6.15.17.1//NONSGML v1.0//EN
CALSCALE:GREGORIAN
METHOD:PUBLISH
X-WR-CALNAME:Colorado Stormwater Council
X-ORIGINAL-URL:https://www.colorado-stormwater-council.org
X-WR-CALDESC:Events for Colorado Stormwater Council
REFRESH-INTERVAL;VALUE=DURATION:PT1H
X-Robots-Tag:noindex
X-PUBLISHED-TTL:PT1H
BEGIN:VTIMEZONE
TZID:America/Denver
BEGIN:DAYLIGHT
TZOFFSETFROM:-0700
TZOFFSETTO:-0600
TZNAME:MDT
DTSTART:20250309T090000
END:DAYLIGHT
BEGIN:STANDARD
TZOFFSETFROM:-0600
TZOFFSETTO:-0700
TZNAME:MST
DTSTART:20251102T080000
END:STANDARD
BEGIN:DAYLIGHT
TZOFFSETFROM:-0700
TZOFFSETTO:-0600
TZNAME:MDT
DTSTART:20260308T090000
END:DAYLIGHT
BEGIN:STANDARD
TZOFFSETFROM:-0600
TZOFFSETTO:-0700
TZNAME:MST
DTSTART:20261101T080000
END:STANDARD
BEGIN:DAYLIGHT
TZOFFSETFROM:-0700
TZOFFSETTO:-0600
TZNAME:MDT
DTSTART:20270314T090000
END:DAYLIGHT
BEGIN:STANDARD
TZOFFSETFROM:-0600
TZOFFSETTO:-0700
TZNAME:MST
DTSTART:20271107T080000
END:STANDARD
END:VTIMEZONE
BEGIN:VEVENT
DTSTART;TZID=America/Denver:20260413T110000
DTEND;TZID=America/Denver:20260413T120000
DTSTAMP:20260425T072354
CREATED:20250512T172148Z
LAST-MODIFIED:20260412T223518Z
UID:10000325-1776078000-1776081600@www.colorado-stormwater-council.org
SUMMARY:CSC E&O Subcommittee Mtg
DESCRIPTION:________________________________________________________________________________\nMicrosoft Teams Need help?\nJoin the meeting now\nMeeting ID: 228 203 287 051 4\nPasscode: bY73Zv3Q\n________________________________\nFor organizers: Meeting options\n________________________________________________________________________________
URL:https://www.colorado-stormwater-council.org/event/csc-eo-subcommittee-mtg-11/
LOCATION:Microsoft Teams Meeting
ORGANIZER;CN="erikey@lakewood.org":MAILTO:erikey@lakewood.org
END:VEVENT
BEGIN:VEVENT
DTSTART;TZID=America/Denver:20260414T103000
DTEND;TZID=America/Denver:20260414T120000
DTSTAMP:20260425T072354
CREATED:20260210T212041Z
LAST-MODIFIED:20260324T190630Z
UID:10000594-1776162600-1776168000@www.colorado-stormwater-council.org
SUMMARY:CSC 303d Committee Meeting
DESCRIPTION:Starting our recurring meetings in June.  Agenda to come soon!\nJoin with Google Meet: https://meet.google.com/wnt-gtjj-spg\nOr dial: (US) +1 347-440-1952 PIN: 270063258#\nMore phone numbers: https://tel.meet/wnt-gtjj-spg?pin=8229376317756&hs=7\nLearn more about Meet at: https://support.google.com/a/users/answer/9282720
URL:https://www.colorado-stormwater-council.org/event/csc-303d-committee-meeting-83/
ORGANIZER;CN="jmoyer@arvada.org":MAILTO:jmoyer@arvada.org
END:VEVENT
BEGIN:VEVENT
DTSTART;TZID=America/Denver:20260414T103000
DTEND;TZID=America/Denver:20260414T120000
DTSTAMP:20260425T072354
CREATED:20260413T223523Z
LAST-MODIFIED:20260413T223523Z
UID:10000657-1776162600-1776168000@www.colorado-stormwater-council.org
SUMMARY:CSC 303d Committee Meeting
DESCRIPTION:Starting our recurring meetings in June.  Agenda to come soon!\nJoin with Google Meet: https://meet.google.com/wnt-gtjj-spg\nOr dial: (US) +1 347-440-1952 PIN: 270063258#\nMore phone numbers: https://tel.meet/wnt-gtjj-spg?pin=8229376317756&hs=7\nLearn more about Meet at: https://support.google.com/a/users/answer/9282720
URL:https://www.colorado-stormwater-council.org/event/csc-303d-committee-meeting-132/
ORGANIZER;CN="jmoyer@arvada.org":MAILTO:jmoyer@arvada.org
END:VEVENT
BEGIN:VEVENT
DTSTART;VALUE=DATE:20260415
DTEND;VALUE=DATE:20260416
DTSTAMP:20260425T072354
CREATED:20260203T193557Z
LAST-MODIFIED:20260416T232022Z
UID:10000590-1776211200-1776297599@www.colorado-stormwater-council.org
SUMMARY:Stormwater Control Measures Inspection and Maintenance Certification Program | Colorado Stormwater Center
DESCRIPTION:In this 1.5 day training workshop\, we teach participants how to recognize SCM maintenance needs and how to perform maintenance correctly.\nLocation: CDOT Training Facility\, 1306 Tower Road\, Aurora CO 80018\nRegister: https://civil-enviro-eng-colostate.nbsstore.net/scm-inspection-and-maintenance-certification-course-april-15th-16th
URL:https://www.colorado-stormwater-council.org/event/stormwater-control-measures-inspection-and-maintenance-certification-program-colorado-stormwater-center/
ORGANIZER;CN="sarah.millonig@colostate.edu":MAILTO:sarah.millonig@colostate.edu
END:VEVENT
BEGIN:VEVENT
DTSTART;TZID=America/Denver:20260416T100000
DTEND;TZID=America/Denver:20260416T113000
DTSTAMP:20260425T072354
CREATED:20260107T152238Z
LAST-MODIFIED:20260415T230544Z
UID:10000469-1776333600-1776339000@www.colorado-stormwater-council.org
SUMMARY:CSC Admin Committee Meeting
DESCRIPTION:________________________________________________________________________________\nMicrosoft Teams Need help?\nJoin the meeting now\nMeeting ID: 262 002 431 067 8\nPasscode: Pv3Cd36k\n________________________________\nDial in by phone\n+1 720-739-8152\,\,186197305# United States\, Denver\nFind a local number\nPhone conference ID: 186 197 305#\nFor organizers: Meeting options | Reset dial-in PIN\n________________________________________________________________________________
URL:https://www.colorado-stormwater-council.org/event/csc-admin-committee-meeting-4/
LOCATION:Microsoft Teams Meeting
ORGANIZER;CN="jsouth@westminsterco.gov":MAILTO:jsouth@westminsterco.gov
END:VEVENT
END:VCALENDAR