BEGIN:VCALENDAR
VERSION:2.0
PRODID:-//Colorado Stormwater Council - ECPv6.15.17.1//NONSGML v1.0//EN
CALSCALE:GREGORIAN
METHOD:PUBLISH
X-WR-CALNAME:Colorado Stormwater Council
X-ORIGINAL-URL:https://www.colorado-stormwater-council.org
X-WR-CALDESC:Events for Colorado Stormwater Council
REFRESH-INTERVAL;VALUE=DURATION:PT1H
X-Robots-Tag:noindex
X-PUBLISHED-TTL:PT1H
BEGIN:VTIMEZONE
TZID:America/Denver
BEGIN:DAYLIGHT
TZOFFSETFROM:-0700
TZOFFSETTO:-0600
TZNAME:MDT
DTSTART:20250309T090000
END:DAYLIGHT
BEGIN:STANDARD
TZOFFSETFROM:-0600
TZOFFSETTO:-0700
TZNAME:MST
DTSTART:20251102T080000
END:STANDARD
BEGIN:DAYLIGHT
TZOFFSETFROM:-0700
TZOFFSETTO:-0600
TZNAME:MDT
DTSTART:20260308T090000
END:DAYLIGHT
BEGIN:STANDARD
TZOFFSETFROM:-0600
TZOFFSETTO:-0700
TZNAME:MST
DTSTART:20261101T080000
END:STANDARD
BEGIN:DAYLIGHT
TZOFFSETFROM:-0700
TZOFFSETTO:-0600
TZNAME:MDT
DTSTART:20270314T090000
END:DAYLIGHT
BEGIN:STANDARD
TZOFFSETFROM:-0600
TZOFFSETTO:-0700
TZNAME:MST
DTSTART:20271107T080000
END:STANDARD
END:VTIMEZONE
BEGIN:VEVENT
DTSTART;TZID=America/Denver:20260914T110000
DTEND;TZID=America/Denver:20260914T120000
DTSTAMP:20260421T081557
CREATED:20250512T172206Z
LAST-MODIFIED:20260420T142118Z
UID:10000330-1789383600-1789387200@www.colorado-stormwater-council.org
SUMMARY:CSC E&O Subcommittee Mtg
DESCRIPTION:________________________________________________________________________________\nMicrosoft Teams Need help?\nJoin the meeting now\nMeeting ID: 228 203 287 051 4\nPasscode: bY73Zv3Q\n________________________________\nFor organizers: Meeting options\n________________________________________________________________________________
URL:https://www.colorado-stormwater-council.org/event/csc-eo-subcommittee-mtg-16/
LOCATION:Microsoft Teams Meeting
ORGANIZER;CN="erikey@lakewood.org":MAILTO:erikey@lakewood.org
END:VEVENT
BEGIN:VEVENT
DTSTART;TZID=America/Denver:20260915T143000
DTEND;TZID=America/Denver:20260915T153000
DTSTAMP:20260421T081557
CREATED:20260120T170703Z
LAST-MODIFIED:20260420T142134Z
UID:10000565-1789482600-1789486200@www.colorado-stormwater-council.org
SUMMARY:CSIC - Office Hours
DESCRIPTION:The Colorado Stormwater Infrastructure Catalog (CSIC) is a web-based platform hosted on the Environmental Resource Assessment and Management System (eRAMS). Developed by Colorado State University’s One Water Solutions Institute for the Colorado Stormwater Council (CSC)\, the CSIC centralizes and shares stormwater infrastructure data among CSC members.\nJoin Colorado State University’s monthly office hours for any support questions or needs related to the CSIC.\n________________________________________________________________________________\nMicrosoft Teams Need help?\nJoin the meeting now\nMeeting ID: 276 399 998 451\nPasscode: FS6Dd99C\n________________________________\nDial in by phone\n+1 970-628-0547\,\,864257679# United States\, Grand Junction\nFind a local number\nPhone conference ID: 864 257 679#\nFor organizers: Meeting options | Reset dial-in PIN\n________________________________________________________________________________
URL:https://www.colorado-stormwater-council.org/event/csic-office-hours-10/
LOCATION:Microsoft Teams Meeting
ORGANIZER;CN="judah.gaioni@colostate.edu":MAILTO:judah.gaioni@colostate.edu
END:VEVENT
BEGIN:VEVENT
DTSTART;TZID=America/Denver:20260916T080000
DTEND;TZID=America/Denver:20260916T100000
DTSTAMP:20260421T081558
CREATED:20260325T193052Z
LAST-MODIFIED:20260325T193052Z
UID:10000654-1789545600-1789552800@www.colorado-stormwater-council.org
SUMMARY:2 Hour Parks & Rec Training
DESCRIPTION:-2 hour stormwater course for municipal staff who work for parks and recreation/open space departments \n  \nGoals of the course: \n\nProcedures to prevent or reduce stormwater pollution from the following operations:\n\nParks and Open Space Ground Maintenance\nApplication of pesticides\, herbicides\, and fertilizers\nVegetation management/nutrient source reduction\nApplicable rules for outdoor storage areas within the MS4 boundary\nIllicit discharges including trash\n\n\nOverlap with other MS4 operations such as sweeper use\, large outdoor festivals and events\, small unpermitted construction projects\nBriefly discuss SCM and establishing if parks and open space is responsible for the maintenance of any SCMs on their lands and during construction who is responsible for MS4 oversight if it applies (counties may have projects outside their regulated MS4 boundary).  How is new drainage infrastructure captured in stormwater mapping/asset management programs?\nProvide information about other CSC and CSU/Colorado Stormwater Center MS4 opportunities (e.g. Construction Compliance (CSC) \, SCM inspection and maintenance (CSU Stormwater Center)\n\nQuestions participants should be able to answer after taking the training \n\nHow does an MS4 permit relate to Parks and Open Space operations?\nCan I wash my truck and mower down on the pavement with soap or degreasers?\nDo stockpiles need containment?\nAre control measures/best management practices required for small construction projects and maintenance when there are no stormwater permits?\nIs it important to understand who is responsible for maintenance of an SCM located on parks property?\nAre there best management practices associated with herbicide use?
URL:https://www.colorado-stormwater-council.org/event/2-hour-parks-rec-training/
CATEGORIES:Training
END:VEVENT
BEGIN:VEVENT
DTSTART;TZID=America/Denver:20260917T100000
DTEND;TZID=America/Denver:20260917T113000
DTSTAMP:20260421T081558
CREATED:20260107T152306Z
LAST-MODIFIED:20260420T142134Z
UID:10000474-1789639200-1789644600@www.colorado-stormwater-council.org
SUMMARY:CSC Admin Committee Meeting
DESCRIPTION:________________________________________________________________________________\nMicrosoft Teams Need help?\nJoin the meeting now\nMeeting ID: 262 002 431 067 8\nPasscode: Pv3Cd36k\n________________________________\nDial in by phone\n+1 720-739-8152\,\,186197305# United States\, Denver\nFind a local number\nPhone conference ID: 186 197 305#\nFor organizers: Meeting options | Reset dial-in PIN\n________________________________________________________________________________
URL:https://www.colorado-stormwater-council.org/event/csc-admin-committee-meeting-9/
LOCATION:Microsoft Teams Meeting
ORGANIZER;CN="jsouth@westminsterco.gov":MAILTO:jsouth@westminsterco.gov
END:VEVENT
END:VCALENDAR