BEGIN:VCALENDAR
VERSION:2.0
PRODID:-//Colorado Stormwater Council - ECPv6.15.17.1//NONSGML v1.0//EN
CALSCALE:GREGORIAN
METHOD:PUBLISH
X-ORIGINAL-URL:https://www.colorado-stormwater-council.org
X-WR-CALDESC:Events for Colorado Stormwater Council
REFRESH-INTERVAL;VALUE=DURATION:PT1H
X-Robots-Tag:noindex
X-PUBLISHED-TTL:PT1H
BEGIN:VTIMEZONE
TZID:America/Denver
BEGIN:DAYLIGHT
TZOFFSETFROM:-0700
TZOFFSETTO:-0600
TZNAME:MDT
DTSTART:20250309T090000
END:DAYLIGHT
BEGIN:STANDARD
TZOFFSETFROM:-0600
TZOFFSETTO:-0700
TZNAME:MST
DTSTART:20251102T080000
END:STANDARD
BEGIN:DAYLIGHT
TZOFFSETFROM:-0700
TZOFFSETTO:-0600
TZNAME:MDT
DTSTART:20260308T090000
END:DAYLIGHT
BEGIN:STANDARD
TZOFFSETFROM:-0600
TZOFFSETTO:-0700
TZNAME:MST
DTSTART:20261101T080000
END:STANDARD
BEGIN:DAYLIGHT
TZOFFSETFROM:-0700
TZOFFSETTO:-0600
TZNAME:MDT
DTSTART:20270314T090000
END:DAYLIGHT
BEGIN:STANDARD
TZOFFSETFROM:-0600
TZOFFSETTO:-0700
TZNAME:MST
DTSTART:20271107T080000
END:STANDARD
END:VTIMEZONE
BEGIN:VEVENT
DTSTART;TZID=America/Denver:20261028T093000
DTEND;TZID=America/Denver:20261028T110000
DTSTAMP:20260421T153312
CREATED:20260108T153610Z
LAST-MODIFIED:20260421T143632Z
UID:10000486-1793179800-1793185200@www.colorado-stormwater-council.org
SUMMARY:CSC Meeting at MHFD
DESCRIPTION:Followed by MS4 quarterly meeting from 11:30 – 1:00\n________________________________________________________________________________\nMicrosoft Teams Need help?\nJoin the meeting now\nMeeting ID: 274 507 255 538 41\nPasscode: 4cn93g6b\n________________________________\nDial in by phone\n+1 720-739-8152\,\,15193417# United States\, Denver\nFind a local number\nPhone conference ID: 151 934 17#\nFor organizers: Meeting options | Reset dial-in PIN\n________________________________________________________________________________
URL:https://www.colorado-stormwater-council.org/event/csc-meeting-at-mhfd-4/
LOCATION:Mile High Flood District. (12575 W Bayaud Ave\, Lakewood\, CO  80228)
ORGANIZER;CN="jsouth@westminsterco.gov":MAILTO:jsouth@westminsterco.gov
END:VEVENT
BEGIN:VEVENT
DTSTART;TZID=America/Denver:20261028T110000
DTEND;TZID=America/Denver:20261028T130000
DTSTAMP:20260421T153312
CREATED:20260110T153825Z
LAST-MODIFIED:20260415T230707Z
UID:10000526-1793185200-1793192400@www.colorado-stormwater-council.org
SUMMARY:WQF MS4 Quarterly Meeting
DESCRIPTION:Mile high Flood District\n12575 W. Bayaud Ave.\n Lakewood\, CO 80228\n________________________________________________________________________________\nMicrosoft Teams Need help?\nJoin the meeting now\nMeeting ID: 225 433 720 220 83\nPasscode: Go7p9ud6\n________________________________\nDial in by phone\n+1 720-464-1105\,\,505188138# United States\, Denver\nFind a local number\nPhone conference ID: 505 188 138#\nFor organizers: Meeting options | Reset dial-in PIN\n________________________________________________________________________________
URL:https://www.colorado-stormwater-council.org/event/wqf-ms4-quarterly-meeting-4/
LOCATION:MHFD Training Room; Mile High Flood District – 12575 W. Bayaud Ave. Lakewood\, CO 80228\, MHFD Training Room
ORGANIZER;CN="cowen@mhfd.org":MAILTO:cowen@mhfd.org
END:VEVENT
BEGIN:VEVENT
DTSTART;TZID=America/Denver:20261028T113000
DTEND;TZID=America/Denver:20261028T130000
DTSTAMP:20260421T153312
CREATED:20260416T232149Z
LAST-MODIFIED:20260421T143646Z
UID:10000662-1793187000-1793192400@www.colorado-stormwater-council.org
SUMMARY:WQF MS4 Quarterly Meeting
DESCRIPTION:Mile high Flood District\n12575 W. Bayaud Ave.\n Lakewood\, CO 80228\n________________________________________________________________________________\nMicrosoft Teams Need help?\nJoin the meeting now\nMeeting ID: 225 433 720 220 83\nPasscode: Go7p9ud6\n________________________________\nDial in by phone\n+1 720-464-1105\,\,505188138# United States\, Denver\nFind a local number\nPhone conference ID: 505 188 138#\nFor organizers: Meeting options | Reset dial-in PIN\n________________________________________________________________________________
URL:https://www.colorado-stormwater-council.org/event/wqf-ms4-quarterly-meeting-15/
LOCATION:MHFD Training Room; Mile High Flood District – 12575 W. Bayaud Ave. Lakewood\, CO 80228\, MHFD Training Room
ORGANIZER;CN="cowen@mhfd.org":MAILTO:cowen@mhfd.org
END:VEVENT
END:VCALENDAR