BEGIN:VCALENDAR
VERSION:2.0
PRODID:-//Colorado Stormwater Council - ECPv6.15.17.1//NONSGML v1.0//EN
CALSCALE:GREGORIAN
METHOD:PUBLISH
X-WR-CALNAME:Colorado Stormwater Council
X-ORIGINAL-URL:https://www.colorado-stormwater-council.org
X-WR-CALDESC:Events for Colorado Stormwater Council
REFRESH-INTERVAL;VALUE=DURATION:PT1H
X-Robots-Tag:noindex
X-PUBLISHED-TTL:PT1H
BEGIN:VTIMEZONE
TZID:America/Denver
BEGIN:DAYLIGHT
TZOFFSETFROM:-0700
TZOFFSETTO:-0600
TZNAME:MDT
DTSTART:20250309T090000
END:DAYLIGHT
BEGIN:STANDARD
TZOFFSETFROM:-0600
TZOFFSETTO:-0700
TZNAME:MST
DTSTART:20251102T080000
END:STANDARD
BEGIN:DAYLIGHT
TZOFFSETFROM:-0700
TZOFFSETTO:-0600
TZNAME:MDT
DTSTART:20260308T090000
END:DAYLIGHT
BEGIN:STANDARD
TZOFFSETFROM:-0600
TZOFFSETTO:-0700
TZNAME:MST
DTSTART:20261101T080000
END:STANDARD
BEGIN:DAYLIGHT
TZOFFSETFROM:-0700
TZOFFSETTO:-0600
TZNAME:MDT
DTSTART:20270314T090000
END:DAYLIGHT
BEGIN:STANDARD
TZOFFSETFROM:-0600
TZOFFSETTO:-0700
TZNAME:MST
DTSTART:20271107T080000
END:STANDARD
END:VTIMEZONE
BEGIN:VEVENT
DTSTART;TZID=America/Denver:20260421T143000
DTEND;TZID=America/Denver:20260421T153000
DTSTAMP:20260420T171659
CREATED:20260120T170605Z
LAST-MODIFIED:20260420T142018Z
UID:10000560-1776781800-1776785400@www.colorado-stormwater-council.org
SUMMARY:CSIC - Office Hours
DESCRIPTION:The Colorado Stormwater Infrastructure Catalog (CSIC) is a web-based platform hosted on the Environmental Resource Assessment and Management System (eRAMS). Developed by Colorado State University’s One Water Solutions Institute for the Colorado Stormwater Council (CSC)\, the CSIC centralizes and shares stormwater infrastructure data among CSC members.\nJoin Colorado State University’s monthly office hours for any support questions or needs related to the CSIC.\n________________________________________________________________________________\nMicrosoft Teams Need help?\nJoin the meeting now\nMeeting ID: 276 399 998 451\nPasscode: FS6Dd99C\n________________________________\nDial in by phone\n+1 970-628-0547\,\,864257679# United States\, Grand Junction\nFind a local number\nPhone conference ID: 864 257 679#\nFor organizers: Meeting options | Reset dial-in PIN\n________________________________________________________________________________
URL:https://www.colorado-stormwater-council.org/event/csic-office-hours-5/
LOCATION:Microsoft Teams Meeting
ORGANIZER;CN="judah.gaioni@colostate.edu":MAILTO:judah.gaioni@colostate.edu
END:VEVENT
BEGIN:VEVENT
DTSTART;TZID=America/Denver:20260422T093000
DTEND;TZID=America/Denver:20260422T110000
DTSTAMP:20260420T171659
CREATED:20260108T153527Z
LAST-MODIFIED:20260420T142018Z
UID:10000480-1776850200-1776855600@www.colorado-stormwater-council.org
SUMMARY:CSC Meeting at MHFD
DESCRIPTION:Followed by MS4 quarterly meeting from 11:30 – 1:00\n________________________________________________________________________________\nMicrosoft Teams Need help?\nJoin the meeting now\nMeeting ID: 244 816 433 115 20\nPasscode: Az3Ho6TM\n________________________________\nDial in by phone\n+1 720-739-8152\,\,383553029# United States\, Denver\nFind a local number\nPhone conference ID: 383 553 029#\nFor organizers: Meeting options | Reset dial-in PIN\n________________________________________________________________________________
URL:https://www.colorado-stormwater-council.org/event/csc-meeting-at-mhfd-2/
LOCATION:Mile High Flood District. (12575 W Bayaud Ave\, Lakewood\, CO  80228)
ORGANIZER;CN="jsouth@westminsterco.gov":MAILTO:jsouth@westminsterco.gov
END:VEVENT
BEGIN:VEVENT
DTSTART;TZID=America/Denver:20260422T093000
DTEND;TZID=America/Denver:20260422T113000
DTSTAMP:20260420T171659
CREATED:20260416T232023Z
LAST-MODIFIED:20260420T142018Z
UID:10000660-1776850200-1776857400@www.colorado-stormwater-council.org
SUMMARY:CSC April Meeting
DESCRIPTION:
URL:https://www.colorado-stormwater-council.org/event/csc-april-meeting/
LOCATION:MHFD Board Room (US)\, MHFD Board Room
ORGANIZER;CN="cowen@mhfd.org":MAILTO:cowen@mhfd.org
END:VEVENT
BEGIN:VEVENT
DTSTART;TZID=America/Denver:20260422T110000
DTEND;TZID=America/Denver:20260422T130000
DTSTAMP:20260420T171659
CREATED:20260110T153729Z
LAST-MODIFIED:20260415T230544Z
UID:10000524-1776855600-1776862800@www.colorado-stormwater-council.org
SUMMARY:WQF MS4 Quarterly Meeting
DESCRIPTION:Mile high Flood District\n12575 W. Bayaud Ave.\n Lakewood\, CO 80228\n________________________________________________________________________________\nMicrosoft Teams Need help?\nJoin the meeting now\nMeeting ID: 225 433 720 220 83\nPasscode: Go7p9ud6\n________________________________\nDial in by phone\n+1 720-464-1105\,\,505188138# United States\, Denver\nFind a local number\nPhone conference ID: 505 188 138#\nFor organizers: Meeting options | Reset dial-in PIN\n________________________________________________________________________________
URL:https://www.colorado-stormwater-council.org/event/wqf-ms4-quarterly-meeting-2/
LOCATION:MHFD Training Room; Mile High Flood District – 12575 W. Bayaud Ave. Lakewood\, CO 80228\, MHFD Training Room
ORGANIZER;CN="cowen@mhfd.org":MAILTO:cowen@mhfd.org
END:VEVENT
BEGIN:VEVENT
DTSTART;TZID=America/Denver:20260422T110000
DTEND;TZID=America/Denver:20260422T130000
DTSTAMP:20260420T171659
CREATED:20260416T232023Z
LAST-MODIFIED:20260420T142018Z
UID:10000658-1776855600-1776862800@www.colorado-stormwater-council.org
SUMMARY:WQF MS4 Quarterly Meeting
DESCRIPTION:Mile high Flood District\n12575 W. Bayaud Ave.\n Lakewood\, CO 80228\n________________________________________________________________________________\nMicrosoft Teams Need help?\nJoin the meeting now\nMeeting ID: 225 433 720 220 83\nPasscode: Go7p9ud6\n________________________________\nDial in by phone\n+1 720-464-1105\,\,505188138# United States\, Denver\nFind a local number\nPhone conference ID: 505 188 138#\nFor organizers: Meeting options | Reset dial-in PIN\n________________________________________________________________________________
URL:https://www.colorado-stormwater-council.org/event/wqf-ms4-quarterly-meeting-12/
LOCATION:MHFD Training Room; Mile High Flood District – 12575 W. Bayaud Ave. Lakewood\, CO 80228\, MHFD Training Room
ORGANIZER;CN="cowen@mhfd.org":MAILTO:cowen@mhfd.org
END:VEVENT
BEGIN:VEVENT
DTSTART;TZID=America/Denver:20260422T113000
DTEND;TZID=America/Denver:20260422T130000
DTSTAMP:20260420T171659
CREATED:20260416T232023Z
LAST-MODIFIED:20260420T142018Z
UID:10000659-1776857400-1776862800@www.colorado-stormwater-council.org
SUMMARY:WQF MS4 Quarterly Meeting
DESCRIPTION:Mile high Flood District\n12575 W. Bayaud Ave.\n Lakewood\, CO 80228\n________________________________________________________________________________\nMicrosoft Teams Need help?\nJoin the meeting now\nMeeting ID: 225 433 720 220 83\nPasscode: Go7p9ud6\n________________________________\nDial in by phone\n+1 720-464-1105\,\,505188138# United States\, Denver\nFind a local number\nPhone conference ID: 505 188 138#\nFor organizers: Meeting options | Reset dial-in PIN\n________________________________________________________________________________
URL:https://www.colorado-stormwater-council.org/event/wqf-ms4-quarterly-meeting-13/
LOCATION:Mile High Flood District – 12575 W. Bayaud Ave. Lakewood\, CO 80228; MHFD Training Room\, MHFD Training Room
ORGANIZER;CN="cowen@mhfd.org":MAILTO:cowen@mhfd.org
END:VEVENT
END:VCALENDAR