BEGIN:VCALENDAR
VERSION:2.0
PRODID:-//Colorado Stormwater Council - ECPv6.15.17.1//NONSGML v1.0//EN
CALSCALE:GREGORIAN
METHOD:PUBLISH
X-WR-CALNAME:Colorado Stormwater Council
X-ORIGINAL-URL:https://www.colorado-stormwater-council.org
X-WR-CALDESC:Events for Colorado Stormwater Council
REFRESH-INTERVAL;VALUE=DURATION:PT1H
X-Robots-Tag:noindex
X-PUBLISHED-TTL:PT1H
BEGIN:VTIMEZONE
TZID:America/Denver
BEGIN:DAYLIGHT
TZOFFSETFROM:-0700
TZOFFSETTO:-0600
TZNAME:MDT
DTSTART:20250309T090000
END:DAYLIGHT
BEGIN:STANDARD
TZOFFSETFROM:-0600
TZOFFSETTO:-0700
TZNAME:MST
DTSTART:20251102T080000
END:STANDARD
BEGIN:DAYLIGHT
TZOFFSETFROM:-0700
TZOFFSETTO:-0600
TZNAME:MDT
DTSTART:20260308T090000
END:DAYLIGHT
BEGIN:STANDARD
TZOFFSETFROM:-0600
TZOFFSETTO:-0700
TZNAME:MST
DTSTART:20261101T080000
END:STANDARD
BEGIN:DAYLIGHT
TZOFFSETFROM:-0700
TZOFFSETTO:-0600
TZNAME:MDT
DTSTART:20270314T090000
END:DAYLIGHT
BEGIN:STANDARD
TZOFFSETFROM:-0600
TZOFFSETTO:-0700
TZNAME:MST
DTSTART:20271107T080000
END:STANDARD
BEGIN:DAYLIGHT
TZOFFSETFROM:-0700
TZOFFSETTO:-0600
TZNAME:MDT
DTSTART:20280312T090000
END:DAYLIGHT
BEGIN:STANDARD
TZOFFSETFROM:-0600
TZOFFSETTO:-0700
TZNAME:MST
DTSTART:20281105T080000
END:STANDARD
BEGIN:DAYLIGHT
TZOFFSETFROM:-0700
TZOFFSETTO:-0600
TZNAME:MDT
DTSTART:20290311T090000
END:DAYLIGHT
BEGIN:STANDARD
TZOFFSETFROM:-0600
TZOFFSETTO:-0700
TZNAME:MST
DTSTART:20291104T080000
END:STANDARD
END:VTIMEZONE
BEGIN:VEVENT
DTSTART;TZID=America/Denver:20260512T103000
DTEND;TZID=America/Denver:20260512T120000
DTSTAMP:20260420T052206
CREATED:20260210T212055Z
LAST-MODIFIED:20260324T190644Z
UID:10000595-1778581800-1778587200@www.colorado-stormwater-council.org
SUMMARY:CSC 303d Committee Meeting
DESCRIPTION:Starting our recurring meetings in June.  Agenda to come soon!\nJoin with Google Meet: https://meet.google.com/wnt-gtjj-spg\nOr dial: (US) +1 347-440-1952 PIN: 270063258#\nMore phone numbers: https://tel.meet/wnt-gtjj-spg?pin=8229376317756&hs=7\nLearn more about Meet at: https://support.google.com/a/users/answer/9282720
URL:https://www.colorado-stormwater-council.org/event/csc-303d-committee-meeting-84/
ORGANIZER;CN="jmoyer@arvada.org":MAILTO:jmoyer@arvada.org
END:VEVENT
BEGIN:VEVENT
DTSTART;TZID=America/Denver:20260609T103000
DTEND;TZID=America/Denver:20260609T120000
DTSTAMP:20260420T052206
CREATED:20260210T212110Z
LAST-MODIFIED:20260324T190700Z
UID:10000596-1781001000-1781006400@www.colorado-stormwater-council.org
SUMMARY:CSC 303d Committee Meeting
DESCRIPTION:Starting our recurring meetings in June.  Agenda to come soon!\nJoin with Google Meet: https://meet.google.com/wnt-gtjj-spg\nOr dial: (US) +1 347-440-1952 PIN: 270063258#\nMore phone numbers: https://tel.meet/wnt-gtjj-spg?pin=8229376317756&hs=7\nLearn more about Meet at: https://support.google.com/a/users/answer/9282720
URL:https://www.colorado-stormwater-council.org/event/csc-303d-committee-meeting-85/
ORGANIZER;CN="jmoyer@arvada.org":MAILTO:jmoyer@arvada.org
END:VEVENT
BEGIN:VEVENT
DTSTART;TZID=America/Denver:20260714T103000
DTEND;TZID=America/Denver:20260714T120000
DTSTAMP:20260420T052206
CREATED:20260210T212124Z
LAST-MODIFIED:20260324T190713Z
UID:10000597-1784025000-1784030400@www.colorado-stormwater-council.org
SUMMARY:CSC 303d Committee Meeting
DESCRIPTION:Starting our recurring meetings in June.  Agenda to come soon!\nJoin with Google Meet: https://meet.google.com/wnt-gtjj-spg\nOr dial: (US) +1 347-440-1952 PIN: 270063258#\nMore phone numbers: https://tel.meet/wnt-gtjj-spg?pin=8229376317756&hs=7\nLearn more about Meet at: https://support.google.com/a/users/answer/9282720
URL:https://www.colorado-stormwater-council.org/event/csc-303d-committee-meeting-86/
ORGANIZER;CN="jmoyer@arvada.org":MAILTO:jmoyer@arvada.org
END:VEVENT
BEGIN:VEVENT
DTSTART;TZID=America/Denver:20260811T103000
DTEND;TZID=America/Denver:20260811T120000
DTSTAMP:20260420T052206
CREATED:20260210T212124Z
LAST-MODIFIED:20260324T190727Z
UID:10000598-1786444200-1786449600@www.colorado-stormwater-council.org
SUMMARY:CSC 303d Committee Meeting
DESCRIPTION:Starting our recurring meetings in June.  Agenda to come soon!\nJoin with Google Meet: https://meet.google.com/wnt-gtjj-spg\nOr dial: (US) +1 347-440-1952 PIN: 270063258#\nMore phone numbers: https://tel.meet/wnt-gtjj-spg?pin=8229376317756&hs=7\nLearn more about Meet at: https://support.google.com/a/users/answer/9282720
URL:https://www.colorado-stormwater-council.org/event/csc-303d-committee-meeting-87/
ORGANIZER;CN="jmoyer@arvada.org":MAILTO:jmoyer@arvada.org
END:VEVENT
BEGIN:VEVENT
DTSTART;TZID=America/Denver:20260908T103000
DTEND;TZID=America/Denver:20260908T120000
DTSTAMP:20260420T052206
CREATED:20260210T212140Z
LAST-MODIFIED:20260324T190742Z
UID:10000599-1788863400-1788868800@www.colorado-stormwater-council.org
SUMMARY:CSC 303d Committee Meeting
DESCRIPTION:Starting our recurring meetings in June.  Agenda to come soon!\nJoin with Google Meet: https://meet.google.com/wnt-gtjj-spg\nOr dial: (US) +1 347-440-1952 PIN: 270063258#\nMore phone numbers: https://tel.meet/wnt-gtjj-spg?pin=8229376317756&hs=7\nLearn more about Meet at: https://support.google.com/a/users/answer/9282720
URL:https://www.colorado-stormwater-council.org/event/csc-303d-committee-meeting-88/
ORGANIZER;CN="jmoyer@arvada.org":MAILTO:jmoyer@arvada.org
END:VEVENT
BEGIN:VEVENT
DTSTART;TZID=America/Denver:20261013T103000
DTEND;TZID=America/Denver:20261013T120000
DTSTAMP:20260420T052206
CREATED:20260210T212154Z
LAST-MODIFIED:20260324T190756Z
UID:10000600-1791887400-1791892800@www.colorado-stormwater-council.org
SUMMARY:CSC 303d Committee Meeting
DESCRIPTION:Starting our recurring meetings in June.  Agenda to come soon!\nJoin with Google Meet: https://meet.google.com/wnt-gtjj-spg\nOr dial: (US) +1 347-440-1952 PIN: 270063258#\nMore phone numbers: https://tel.meet/wnt-gtjj-spg?pin=8229376317756&hs=7\nLearn more about Meet at: https://support.google.com/a/users/answer/9282720
URL:https://www.colorado-stormwater-council.org/event/csc-303d-committee-meeting-89/
ORGANIZER;CN="jmoyer@arvada.org":MAILTO:jmoyer@arvada.org
END:VEVENT
BEGIN:VEVENT
DTSTART;TZID=America/Denver:20261110T103000
DTEND;TZID=America/Denver:20261110T120000
DTSTAMP:20260420T052206
CREATED:20260210T212208Z
LAST-MODIFIED:20260324T190810Z
UID:10000601-1794306600-1794312000@www.colorado-stormwater-council.org
SUMMARY:CSC 303d Committee Meeting
DESCRIPTION:Starting our recurring meetings in June.  Agenda to come soon!\nJoin with Google Meet: https://meet.google.com/wnt-gtjj-spg\nOr dial: (US) +1 347-440-1952 PIN: 270063258#\nMore phone numbers: https://tel.meet/wnt-gtjj-spg?pin=8229376317756&hs=7\nLearn more about Meet at: https://support.google.com/a/users/answer/9282720
URL:https://www.colorado-stormwater-council.org/event/csc-303d-committee-meeting-90/
ORGANIZER;CN="jmoyer@arvada.org":MAILTO:jmoyer@arvada.org
END:VEVENT
BEGIN:VEVENT
DTSTART;TZID=America/Denver:20261208T103000
DTEND;TZID=America/Denver:20261208T120000
DTSTAMP:20260420T052206
CREATED:20260210T212223Z
LAST-MODIFIED:20260324T190810Z
UID:10000602-1796725800-1796731200@www.colorado-stormwater-council.org
SUMMARY:CSC 303d Committee Meeting
DESCRIPTION:Starting our recurring meetings in June.  Agenda to come soon!\nJoin with Google Meet: https://meet.google.com/wnt-gtjj-spg\nOr dial: (US) +1 347-440-1952 PIN: 270063258#\nMore phone numbers: https://tel.meet/wnt-gtjj-spg?pin=8229376317756&hs=7\nLearn more about Meet at: https://support.google.com/a/users/answer/9282720
URL:https://www.colorado-stormwater-council.org/event/csc-303d-committee-meeting-91/
ORGANIZER;CN="jmoyer@arvada.org":MAILTO:jmoyer@arvada.org
END:VEVENT
BEGIN:VEVENT
DTSTART;TZID=America/Denver:20280411T103000
DTEND;TZID=America/Denver:20280411T120000
DTSTAMP:20260420T052206
CREATED:20260411T222424Z
LAST-MODIFIED:20260418T235344Z
UID:10000656-1839061800-1839067200@www.colorado-stormwater-council.org
SUMMARY:CSC 303d Committee Meeting
DESCRIPTION:Starting our recurring meetings in June.  Agenda to come soon!\nJoin with Google Meet: https://meet.google.com/wnt-gtjj-spg\nOr dial: (US) +1 347-440-1952 PIN: 270063258#\nMore phone numbers: https://tel.meet/wnt-gtjj-spg?pin=8229376317756&hs=7\nLearn more about Meet at: https://support.google.com/a/users/answer/9282720
URL:https://www.colorado-stormwater-council.org/event/csc-303d-committee-meeting-131/
ORGANIZER;CN="jmoyer@arvada.org":MAILTO:jmoyer@arvada.org
END:VEVENT
END:VCALENDAR