BEGIN:VCALENDAR
VERSION:2.0
PRODID:-//Colorado Stormwater Council - ECPv6.15.17.1//NONSGML v1.0//EN
CALSCALE:GREGORIAN
METHOD:PUBLISH
X-WR-CALNAME:Colorado Stormwater Council
X-ORIGINAL-URL:https://www.colorado-stormwater-council.org
X-WR-CALDESC:Events for Colorado Stormwater Council
REFRESH-INTERVAL;VALUE=DURATION:PT1H
X-Robots-Tag:noindex
X-PUBLISHED-TTL:PT1H
BEGIN:VTIMEZONE
TZID:America/Denver
BEGIN:DAYLIGHT
TZOFFSETFROM:-0700
TZOFFSETTO:-0600
TZNAME:MDT
DTSTART:20250309T090000
END:DAYLIGHT
BEGIN:STANDARD
TZOFFSETFROM:-0600
TZOFFSETTO:-0700
TZNAME:MST
DTSTART:20251102T080000
END:STANDARD
BEGIN:DAYLIGHT
TZOFFSETFROM:-0700
TZOFFSETTO:-0600
TZNAME:MDT
DTSTART:20260308T090000
END:DAYLIGHT
BEGIN:STANDARD
TZOFFSETFROM:-0600
TZOFFSETTO:-0700
TZNAME:MST
DTSTART:20261101T080000
END:STANDARD
BEGIN:DAYLIGHT
TZOFFSETFROM:-0700
TZOFFSETTO:-0600
TZNAME:MDT
DTSTART:20270314T090000
END:DAYLIGHT
BEGIN:STANDARD
TZOFFSETFROM:-0600
TZOFFSETTO:-0700
TZNAME:MST
DTSTART:20271107T080000
END:STANDARD
END:VTIMEZONE
BEGIN:VEVENT
DTSTART;TZID=America/Denver:20260513T110000
DTEND;TZID=America/Denver:20260513T120000
DTSTAMP:20260420T030331
CREATED:20260113T160628Z
LAST-MODIFIED:20260418T235037Z
UID:10000533-1778670000-1778673600@www.colorado-stormwater-council.org
SUMMARY:CSC Construction Committee Meeting
DESCRIPTION:________________________________________________________________________________\nMicrosoft Teams Need help?\nJoin the meeting now\nMeeting ID: 280 114 780 789 62\nPasscode: jp6m9A6A\n________________________________\nFor organizers: Meeting options\n________________________________________________________________________________\n________________________________\nNew .gov Email Address Alert! The City of Lakewood has transitioned to a .gov domain for our website and emails. Please note my new email address and update your files accordingly. Visit LakewoodCO.gov to learn more about the benefits of this transition.
URL:https://www.colorado-stormwater-council.org/event/csc-construction-committee-meeting-16/
LOCATION:Microsoft Teams Meeting
ORGANIZER;CN="kanderson@lakewood.org":MAILTO:kanderson@lakewood.org
END:VEVENT
BEGIN:VEVENT
DTSTART;TZID=America/Denver:20260610T110000
DTEND;TZID=America/Denver:20260610T120000
DTSTAMP:20260420T030331
CREATED:20260113T160642Z
LAST-MODIFIED:20260418T235052Z
UID:10000534-1781089200-1781092800@www.colorado-stormwater-council.org
SUMMARY:CSC Construction Committee Meeting
DESCRIPTION:________________________________________________________________________________\nMicrosoft Teams Need help?\nJoin the meeting now\nMeeting ID: 280 114 780 789 62\nPasscode: jp6m9A6A\n________________________________\nFor organizers: Meeting options\n________________________________________________________________________________\n________________________________\nNew .gov Email Address Alert! The City of Lakewood has transitioned to a .gov domain for our website and emails. Please note my new email address and update your files accordingly. Visit LakewoodCO.gov to learn more about the benefits of this transition.
URL:https://www.colorado-stormwater-council.org/event/csc-construction-committee-meeting-17/
LOCATION:Microsoft Teams Meeting
ORGANIZER;CN="kanderson@lakewood.org":MAILTO:kanderson@lakewood.org
END:VEVENT
BEGIN:VEVENT
DTSTART;TZID=America/Denver:20260708T110000
DTEND;TZID=America/Denver:20260708T120000
DTSTAMP:20260420T030331
CREATED:20260113T160657Z
LAST-MODIFIED:20260418T235052Z
UID:10000535-1783508400-1783512000@www.colorado-stormwater-council.org
SUMMARY:CSC Construction Committee Meeting
DESCRIPTION:________________________________________________________________________________\nMicrosoft Teams Need help?\nJoin the meeting now\nMeeting ID: 280 114 780 789 62\nPasscode: jp6m9A6A\n________________________________\nFor organizers: Meeting options\n________________________________________________________________________________\n________________________________\nNew .gov Email Address Alert! The City of Lakewood has transitioned to a .gov domain for our website and emails. Please note my new email address and update your files accordingly. Visit LakewoodCO.gov to learn more about the benefits of this transition.
URL:https://www.colorado-stormwater-council.org/event/csc-construction-committee-meeting-18/
LOCATION:Microsoft Teams Meeting
ORGANIZER;CN="kanderson@lakewood.org":MAILTO:kanderson@lakewood.org
END:VEVENT
BEGIN:VEVENT
DTSTART;TZID=America/Denver:20260812T110000
DTEND;TZID=America/Denver:20260812T120000
DTSTAMP:20260420T030331
CREATED:20260113T160711Z
LAST-MODIFIED:20260418T235107Z
UID:10000536-1786532400-1786536000@www.colorado-stormwater-council.org
SUMMARY:CSC Construction Committee Meeting
DESCRIPTION:________________________________________________________________________________\nMicrosoft Teams Need help?\nJoin the meeting now\nMeeting ID: 280 114 780 789 62\nPasscode: jp6m9A6A\n________________________________\nFor organizers: Meeting options\n________________________________________________________________________________\n________________________________\nNew .gov Email Address Alert! The City of Lakewood has transitioned to a .gov domain for our website and emails. Please note my new email address and update your files accordingly. Visit LakewoodCO.gov to learn more about the benefits of this transition.
URL:https://www.colorado-stormwater-council.org/event/csc-construction-committee-meeting-19/
LOCATION:Microsoft Teams Meeting
ORGANIZER;CN="kanderson@lakewood.org":MAILTO:kanderson@lakewood.org
END:VEVENT
BEGIN:VEVENT
DTSTART;TZID=America/Denver:20260909T110000
DTEND;TZID=America/Denver:20260909T120000
DTSTAMP:20260420T030331
CREATED:20260113T160712Z
LAST-MODIFIED:20260418T235121Z
UID:10000537-1788951600-1788955200@www.colorado-stormwater-council.org
SUMMARY:CSC Construction Committee Meeting
DESCRIPTION:________________________________________________________________________________\nMicrosoft Teams Need help?\nJoin the meeting now\nMeeting ID: 280 114 780 789 62\nPasscode: jp6m9A6A\n________________________________\nFor organizers: Meeting options\n________________________________________________________________________________\n________________________________\nNew .gov Email Address Alert! The City of Lakewood has transitioned to a .gov domain for our website and emails. Please note my new email address and update your files accordingly. Visit LakewoodCO.gov to learn more about the benefits of this transition.
URL:https://www.colorado-stormwater-council.org/event/csc-construction-committee-meeting-20/
LOCATION:Microsoft Teams Meeting
ORGANIZER;CN="kanderson@lakewood.org":MAILTO:kanderson@lakewood.org
END:VEVENT
BEGIN:VEVENT
DTSTART;TZID=America/Denver:20261014T110000
DTEND;TZID=America/Denver:20261014T120000
DTSTAMP:20260420T030331
CREATED:20260113T160726Z
LAST-MODIFIED:20260418T235135Z
UID:10000538-1791975600-1791979200@www.colorado-stormwater-council.org
SUMMARY:CSC Construction Committee Meeting
DESCRIPTION:________________________________________________________________________________\nMicrosoft Teams Need help?\nJoin the meeting now\nMeeting ID: 280 114 780 789 62\nPasscode: jp6m9A6A\n________________________________\nFor organizers: Meeting options\n________________________________________________________________________________\n________________________________\nNew .gov Email Address Alert! The City of Lakewood has transitioned to a .gov domain for our website and emails. Please note my new email address and update your files accordingly. Visit LakewoodCO.gov to learn more about the benefits of this transition.
URL:https://www.colorado-stormwater-council.org/event/csc-construction-committee-meeting-21/
LOCATION:Microsoft Teams Meeting
ORGANIZER;CN="kanderson@lakewood.org":MAILTO:kanderson@lakewood.org
END:VEVENT
BEGIN:VEVENT
DTSTART;TZID=America/Denver:20261111T110000
DTEND;TZID=America/Denver:20261111T120000
DTSTAMP:20260420T030331
CREATED:20260113T160741Z
LAST-MODIFIED:20260418T235150Z
UID:10000539-1794394800-1794398400@www.colorado-stormwater-council.org
SUMMARY:CSC Construction Committee Meeting
DESCRIPTION:________________________________________________________________________________\nMicrosoft Teams Need help?\nJoin the meeting now\nMeeting ID: 280 114 780 789 62\nPasscode: jp6m9A6A\n________________________________\nFor organizers: Meeting options\n________________________________________________________________________________\n________________________________\nNew .gov Email Address Alert! The City of Lakewood has transitioned to a .gov domain for our website and emails. Please note my new email address and update your files accordingly. Visit LakewoodCO.gov to learn more about the benefits of this transition.
URL:https://www.colorado-stormwater-council.org/event/csc-construction-committee-meeting-22/
LOCATION:Microsoft Teams Meeting
ORGANIZER;CN="kanderson@lakewood.org":MAILTO:kanderson@lakewood.org
END:VEVENT
BEGIN:VEVENT
DTSTART;TZID=America/Denver:20261209T110000
DTEND;TZID=America/Denver:20261209T120000
DTSTAMP:20260420T030331
CREATED:20260113T160741Z
LAST-MODIFIED:20260418T235204Z
UID:10000540-1796814000-1796817600@www.colorado-stormwater-council.org
SUMMARY:CSC Construction Committee Meeting
DESCRIPTION:________________________________________________________________________________\nMicrosoft Teams Need help?\nJoin the meeting now\nMeeting ID: 280 114 780 789 62\nPasscode: jp6m9A6A\n________________________________\nFor organizers: Meeting options\n________________________________________________________________________________\n________________________________\nNew .gov Email Address Alert! The City of Lakewood has transitioned to a .gov domain for our website and emails. Please note my new email address and update your files accordingly. Visit LakewoodCO.gov to learn more about the benefits of this transition.
URL:https://www.colorado-stormwater-council.org/event/csc-construction-committee-meeting-23/
LOCATION:Microsoft Teams Meeting
ORGANIZER;CN="kanderson@lakewood.org":MAILTO:kanderson@lakewood.org
END:VEVENT
END:VCALENDAR