BEGIN:VCALENDAR
VERSION:2.0
PRODID:-//Colorado Stormwater Council - ECPv6.15.17.1//NONSGML v1.0//EN
CALSCALE:GREGORIAN
METHOD:PUBLISH
X-ORIGINAL-URL:https://www.colorado-stormwater-council.org
X-WR-CALDESC:Events for Colorado Stormwater Council
REFRESH-INTERVAL;VALUE=DURATION:PT1H
X-Robots-Tag:noindex
X-PUBLISHED-TTL:PT1H
BEGIN:VTIMEZONE
TZID:America/Denver
BEGIN:DAYLIGHT
TZOFFSETFROM:-0700
TZOFFSETTO:-0600
TZNAME:MDT
DTSTART:20240310T090000
END:DAYLIGHT
BEGIN:STANDARD
TZOFFSETFROM:-0600
TZOFFSETTO:-0700
TZNAME:MST
DTSTART:20241103T080000
END:STANDARD
BEGIN:DAYLIGHT
TZOFFSETFROM:-0700
TZOFFSETTO:-0600
TZNAME:MDT
DTSTART:20250309T090000
END:DAYLIGHT
BEGIN:STANDARD
TZOFFSETFROM:-0600
TZOFFSETTO:-0700
TZNAME:MST
DTSTART:20251102T080000
END:STANDARD
BEGIN:DAYLIGHT
TZOFFSETFROM:-0700
TZOFFSETTO:-0600
TZNAME:MDT
DTSTART:20260308T090000
END:DAYLIGHT
BEGIN:STANDARD
TZOFFSETFROM:-0600
TZOFFSETTO:-0700
TZNAME:MST
DTSTART:20261101T080000
END:STANDARD
END:VTIMEZONE
BEGIN:VEVENT
DTSTART;TZID=America/Denver:20250728T100000
DTEND;TZID=America/Denver:20250728T120000
DTSTAMP:20260420T042240
CREATED:20250519T175119Z
LAST-MODIFIED:20250727T223512Z
UID:10000349-1753696800-1753704000@www.colorado-stormwater-council.org
SUMMARY:E470 Maintenance Facility Tour
DESCRIPTION:Please join us for a site tour of new E470 Maintenance Facility. E470 will talk about the purpose of their new Central Maintenance Facility (CMF)\, the design and construction delivery process (Construction Manager/General Contractor)\, and the features of the site. This includes Building A (administrative office\, maintenance bays and vehicle wash bay)\, Building B covered materials storage for solid deicer and outdoor liquid deicer storage\, Buildings C and D (heated and non-heated storage)\, fueling station\, stormwater detention ponds\, etc.\nThe best way to access the CMF at 80 N. Valdai St. Aurora\, CO 80018 is to park at the HQ/Customer Service Center parking lot at 22470 E. Stephen D. Hogan Parkway\, Aurora\, CO 80018 and walk across the street.\nThe CMF can be accessed via the E-470 exit at 6th Pkwy/Stephen D. Hogan exit south of I-70. For those agencies that are not allowed to take their company vehicle on the tollway\, the CMF can be accessed from the \nwest at 6th Avenue or east from Gun Club Road. Attached is a vicinity map for reference.\nPlease forward to any municipal operations staff that are interested in attending. We look forward to seeing you there!\nJennifer Keyes (she/her/hers)\, CPESC\, CESSWI\nStormwater Quality Coordinator\nBoulder County Public Works\nCell: 720-225-7228\njkeyes@bouldercounty.gov \nMap of CMF Location
URL:https://www.colorado-stormwater-council.org/event/e470-maintenance-facility-tour/
LOCATION:22470 E. Stephen D. Hogan Parkway\, Aurora\, CO\, United States
ORGANIZER;CN="jkeyes@bouldercounty.gov":MAILTO:jkeyes@bouldercounty.gov
GEO:39.689487;-104.67982
END:VEVENT
END:VCALENDAR